BEGIN:VCALENDAR
VERSION:2.0
PRODID:-//CAI - Club Alpino Italiano - Sezione di Crema - ECPv5.14.0.2//NONSGML v1.0//EN
CALSCALE:GREGORIAN
METHOD:PUBLISH
X-WR-CALNAME:CAI - Club Alpino Italiano - Sezione di Crema
X-ORIGINAL-URL:https://caicrema.it
X-WR-CALDESC:Eventi per CAI - Club Alpino Italiano - Sezione di Crema
REFRESH-INTERVAL;VALUE=DURATION:PT1H
X-Robots-Tag:noindex
X-PUBLISHED-TTL:PT1H
BEGIN:VTIMEZONE
TZID:Europe/Rome
BEGIN:DAYLIGHT
TZOFFSETFROM:+0100
TZOFFSETTO:+0200
TZNAME:CEST
DTSTART:20190331T010000
END:DAYLIGHT
BEGIN:STANDARD
TZOFFSETFROM:+0200
TZOFFSETTO:+0100
TZNAME:CET
DTSTART:20191027T010000
END:STANDARD
END:VTIMEZONE
BEGIN:VEVENT
DTSTART;TZID=Europe/Rome:20190120T063000
DTEND;TZID=Europe/Rome:20190120T200000
DTSTAMP:20260425T183307
CREATED:20181228T095626Z
LAST-MODIFIED:20181228T095626Z
UID:26882-1547965800-1548014400@caicrema.it
SUMMARY:Insieme al mare
DESCRIPTION:RITROVO DOMENICA 20 GENNAIO:\nCREMA Via Mercato (Piaz.fronte scuola Galmozzi\, ex-Agello) ore 6:30\nLODI Piazzale degli sport (Faustina) alle ore 7\,00 \nRITORNO PREVISTO DOMENICA 25 GIUGNO:\nOre 19\,30 ca LODI Piazzale degli sport (Faustina)\nOre 20\,00 ca CREMA\, Via Mercato \nDIFFICOLTA’: percorso facile\, adatto a tutti \nQuando la neve è poca … meglio andare al mare\, alla Baia del Sole! \nEcco la proposta in sintesi:\nALBENGA – MONTE BIGNONE – SOLVA – ALASSIO\nFine della sintesi ;-))) \nQualche dettaglio in più:\nll percorso stradale\, tra le antiche chiese di S. Martino di Albenga e di S. Croce di Alassio\, costituisce uno dei tratti più suggestivi e meglio conservati della antica\nVia Julia Augusta.\nNoi seguiremo un sentiero più a monte della via romana\, contrassegnato da due bolli rossi\, e cammineremo lungo un crinale che offre panorami stupendi sia sul mare che verso l’entroterra.\nRaggiungeremo la sella da dove parte il sentiero che conduce in vetta al Monte Bignone (520 mt.) e da qui scenderemo per un ripido sentiero fino alla località Solva e poi ad Alassio.\nCoraggio\, solo circa 600 mt. di salita e discesa e poi … tutti in spiaggia! \nAVVISI:\n1) Si avvisano i genitori che\, al fine di ottimizzare i tempi\, stiamo valutando la possibilità di avere un unico punto di ritrovo per la partenza e il rientro\, a metà strada tra Lodi e Crema. Nel caso decidessimo in tal senso\, provvederemo per tempo ad informarvi.\n2) Si consigliano i genitori che avessero la necessità di acquistare capi di abbigliamento e/o scarponi\, prima di procedere all’acquisto\, di chiedere con congruo anticipo agli accompagnatori\nl’eventuale disponibilità presso le sedi CAI di materiali e vestiti forniti da altri genitori. Mandare un whatsapp al nr. 3287214306.\n3) Anche quest’anno vi chiediamo cortesemente di compilarci la scheda per eventuali comunicazioni di natura sanitaria. \nREGOLAMENTO:\n♦ Le gite di Alpinismo Giovanile sono indirizzate ai ragazzi/e di età compresa\, indicativamente\, tra gli 8 e i 17 anni.\n♦ In caso di rinuncia nei giorni antecedenti la data della gita\, si prega di avvisare la sede CAI presso la quale è stata effettuata l’iscrizione. In caso di rinuncia il giorno stesso della gita\, si prega di avvisare chiamando uno dei nr. di cellulare sotto indicati.\n♦ Le gite si effettuano con qualsiasi condizione meteorologica\, salvo casi eccezionali; in caso di maltempo è previsto un programma ridotto o alternativo. \nISCRIZIONE E QUOTA:\nLe iscrizioni si ricevono\, anche telefonicamente\, presso la Sede CAI di Lodi (tel. 0371/439107) il mercoledì e il venerdì dalle ore 21:00 alle ore 23:00 o presso la Sede CAI di Crema (tel. 0373/203463) il martedì e il venerdì dalle ore 21:00 alle ore 23:00. \nUltimo giorno di iscrizione venerdì 11 gennaio! \nLa quota\, da versare prima della gita\, è fissata secondo la tabella seguente: \n\n\n\n\nSocio CAI\n Non socio CAI\n\n\n 1° figlio/a\n 23 euro\n 32 euro\n\n\n 2° figlio/a\n 18 euro\n 27 euro\n\n\n 3° e suc. figlio/a\n 13 euro\n 22 euro\n\n\n\nLa quota comprende il viaggio in pullman A/R\, la salita/discesa con la funivia\, la cena del sabato sera\, il pernottamento\, la prima colazione di domenica e l’assicurazione infortuni per i non soci. \nEQUIPAGGIAMENTO CONSIGLIATO PER I RAGAZZI:\nIndosso\n⇒ Scarponcini con suola scolpita in gomma\n⇒ Pantaloni pesanti\n⇒ Maglione o pile\n⇒ Giacca a vento\n⇒ Copricapo di lana/pile\,\n⇒ Guanti di lana/pile (fa freddo anche al mare!!!) \nNello zaino (lo zaino utilizzato per la scuola va bene)\n⇒ Borraccia (o bibite) e vivande per il pranzo al sacco\n⇒ Occhiali da sole\, Crema protettiva per la pelle e per le labbra\, fazzoletti di carta\n⇒ Sacchetto di plastica per riporre i rifiuti e abiti bagnati\n⇒ Eventuali medicinali personali\, n. di telefono (fisso o cellulare) per comunicazioni ai genitori (es. ritardo rispetto all’orario previsto per il rientro) \nIn una borsa/sacchetto da lasciare sul pullman :\n⇒ Ricambio completo: tuta da ginnastica (pantaloni e felpa)\, calze\, biancheria intima\, scarpe da ginnastica\n⇒ Merenda \nACCOMPAGNATORI:\nParteciperanno all’escursione accompagnatori di Alpinismo Giovanile ed operatori sezionali del CAI di Lodi e Crema.\nNr. di cellulare:\nCrema: Roberto Cattaneo 347/8428263\nCesare Bianchessi 340/4082403 \nLodi: Lucia Passamonti 328/7214306\,\nClaudio Premoli 347/4515305\nAndrea Crozi 346/6743168
URL:https://caicrema.it/evento/insieme-al-mare/
LOCATION:Albenga\, Albenga\, Italia
CATEGORIES:Alpinismo giovanile
ATTACH;FMTTYPE=image/jpeg:https://caicrema.it/wp-content/uploads/2018/12/Alassio-P1010714.jpg
END:VEVENT
END:VCALENDAR