BEGIN:VCALENDAR
VERSION:2.0
PRODID:-//CAI - Club Alpino Italiano - Sezione di Crema - ECPv5.14.0.2//NONSGML v1.0//EN
CALSCALE:GREGORIAN
METHOD:PUBLISH
X-WR-CALNAME:CAI - Club Alpino Italiano - Sezione di Crema
X-ORIGINAL-URL:https://caicrema.it
X-WR-CALDESC:Eventi per CAI - Club Alpino Italiano - Sezione di Crema
REFRESH-INTERVAL;VALUE=DURATION:PT1H
X-Robots-Tag:noindex
X-PUBLISHED-TTL:PT1H
BEGIN:VTIMEZONE
TZID:Europe/Rome
BEGIN:DAYLIGHT
TZOFFSETFROM:+0100
TZOFFSETTO:+0200
TZNAME:CEST
DTSTART:20230326T010000
END:DAYLIGHT
BEGIN:STANDARD
TZOFFSETFROM:+0200
TZOFFSETTO:+0100
TZNAME:CET
DTSTART:20231029T010000
END:STANDARD
END:VTIMEZONE
BEGIN:VEVENT
DTSTART;TZID=Europe/Rome:20230521T080000
DTEND;TZID=Europe/Rome:20230521T170000
DTSTAMP:20260421T204203
CREATED:20221223T131850Z
LAST-MODIFIED:20230503T103945Z
UID:30030-1684656000-1684688400@caicrema.it
SUMMARY:Sentiero del Ponale (AG)
DESCRIPTION:Il sentiero del Ponale inizia a Riva del Garda ed è uno dei percorsi panoramici più belli del Lago di Garda.\nIl tracciato segue la vecchia strada scavata nella roccia nella seconda metà del 1800 e trasformata poi in sentiero per pedoni e biciclette.\nSi parte da Riva del Garda e dopo il primo tratto molto panoramico sul lago si arriva al bivio Belvedere\, dove avremo due possibiltà.\nLa prima: scegliere il sentiero che attraverso paesini\, campi\, ruscelli e cascatelle porta al Lago di Ledro nella zona delle palafitte. In questo caso\, per i più piccoli è prevista la possibilità di fermarsi a metà strada (località Biacesa) e di raggiungere il Lago di Ledro in pullman.\nLa seconda: continuare il percorso panoramico sul lago fino a Pregasina dove i grandi potranno salire alla panomica Punta Larici oppure sull’altrettanto panoramico monte Nodice.\nLa scelta tra i due percorsi verrà fatta in base alle condizioni atmosferiche della giornata. \nLe iscrizioni si ricevono entro venerd ì 12 maggio\, anche telefonicamente\, presso la Sede CAI di Crema (tel. 0373.203463) il martedì e il venerdì dalle ore 21:00 alle ore 23:00 oppure entro mercoledì 10 maggio presso la Sede CAI di Lodi (tel. 0371.439107) il mercoledì dalle ore 21:00 alle ore 23:00. \nScarica la locandina completa
URL:https://caicrema.it/evento/sentiero-del-ponale/
CATEGORIES:Alpinismo giovanile
END:VEVENT
END:VCALENDAR