BEGIN:VCALENDAR
VERSION:2.0
PRODID:-//CAI - Club Alpino Italiano - Sezione di Crema - ECPv5.14.0.2//NONSGML v1.0//EN
CALSCALE:GREGORIAN
METHOD:PUBLISH
X-WR-CALNAME:CAI - Club Alpino Italiano - Sezione di Crema
X-ORIGINAL-URL:https://caicrema.it
X-WR-CALDESC:Eventi per CAI - Club Alpino Italiano - Sezione di Crema
REFRESH-INTERVAL;VALUE=DURATION:PT1H
X-Robots-Tag:noindex
X-PUBLISHED-TTL:PT1H
BEGIN:VTIMEZONE
TZID:Europe/Rome
BEGIN:DAYLIGHT
TZOFFSETFROM:+0100
TZOFFSETTO:+0200
TZNAME:CEST
DTSTART:20250330T010000
END:DAYLIGHT
BEGIN:STANDARD
TZOFFSETFROM:+0200
TZOFFSETTO:+0100
TZNAME:CET
DTSTART:20251026T010000
END:STANDARD
END:VTIMEZONE
BEGIN:VEVENT
DTSTART;TZID=Europe/Rome:20250118T080000
DTEND;TZID=Europe/Rome:20250118T170000
DTSTAMP:20260420T123828
CREATED:20250103T111727Z
LAST-MODIFIED:20250103T111727Z
UID:31603-1737187200-1737219600@caicrema.it
SUMMARY:Presentazione del programma 2025 (AG)
DESCRIPTION:Sabato 18 gennaio dalle 14:30 alle 17:30 nella palestra di Arrampicata CAI di Crema Via del Picco 7 – CREMA le sezioni CAI LODI e CREMA GRUPPO “FRANCESCA RIZZI” presenteranno per l’anno 2025 il programma del 26° anno di Alpinismo Giovanile!\nSei escursioni in montagna guidate da accompagnatori di Alpinismo Giovanile per ragazzi/e di età compresa tra gli 8 e i 17 anni e una grande festa finale. \n16 FEBBRAIO 2025: Sulla neve con ciaspole e slittini ai piani di Artavaggio (Lecco)\n16 MARZO 2025: L’orrido di Bellano sul Sentiero del Viandante (Lecco)\n27 APRILE 2025: La Corna Trentapassi al lago di Iseo (Brescia)\n18 MAGGIO 2025: Il Monte Campioncino al Cimon della Bagozza (Bergamo)\n15 GIUGNO 2025: Il Rifugio Rosalba tra le storiche guglie della Grigna (Lecco)\n21 SETTEMBRE 2025: I monti Bolettone e Palanzone nel triangolo lariano (Como)\n19 OTTOBRE 2025: Grande festa dell’Alpinismo Giovanile con le famiglie. Festa finale con i ragazzi e le ragazze\, gli Accompagnatori di Alpinismo Giovanile\, i  genitori\, i fratelli e le sorelle\, i nonni e le nonne\, gli amici e le amiche… senza limiti di età! \nVi aspettiamo numerosi!
URL:https://caicrema.it/evento/presentazione-del-programma-2025-ag/
LOCATION:Via del picco 7 Crema\, Via del picco 7\, Crema\, CR\, 26013\, Italia
CATEGORIES:Alpinismo giovanile
END:VEVENT
END:VCALENDAR