BEGIN:VCALENDAR
VERSION:2.0
PRODID:-//CAI - Club Alpino Italiano - Sezione di Crema - ECPv5.14.0.2//NONSGML v1.0//EN
CALSCALE:GREGORIAN
METHOD:PUBLISH
X-WR-CALNAME:CAI - Club Alpino Italiano - Sezione di Crema
X-ORIGINAL-URL:https://caicrema.it
X-WR-CALDESC:Eventi per CAI - Club Alpino Italiano - Sezione di Crema
REFRESH-INTERVAL;VALUE=DURATION:PT1H
X-Robots-Tag:noindex
X-PUBLISHED-TTL:PT1H
BEGIN:VTIMEZONE
TZID:Europe/Rome
BEGIN:DAYLIGHT
TZOFFSETFROM:+0100
TZOFFSETTO:+0200
TZNAME:CEST
DTSTART:20180325T010000
END:DAYLIGHT
BEGIN:STANDARD
TZOFFSETFROM:+0200
TZOFFSETTO:+0100
TZNAME:CET
DTSTART:20181028T010000
END:STANDARD
END:VTIMEZONE
BEGIN:VEVENT
DTSTART;TZID=Europe/Rome:20180728T070000
DTEND;TZID=Europe/Rome:20180731T180000
DTSTAMP:20260426T050322
CREATED:20171229T101557Z
LAST-MODIFIED:20171229T101557Z
UID:26155-1532761200-1533060000@caicrema.it
SUMMARY:TREKKING - Per i ragazzi “over 13”
DESCRIPTION:Per partecipare al Programma di Alpinismo Giovanile è necessario iscriversi alle singole gite.\nIl viaggio si effettua di regola in pullman.\nIl costo di ogni gita varia in funzione della meta\, dell’eventuale attrezzatura da noleggiare (es: sci da fondo)\, degli eventuali ulteriori mezzi di trasporto (es: funivie\, navette) o dei pernottamenti.\nIndicativamente\, la quota pro-capite\, da versare prima della gita\, varia da 15 a 20 euro per un’escursione giornaliera.\nSono previsti sconti per i soci CAI e per fratelli e sorelle. \nPrima di ogni gita viene pubblicato sui siti delle sezioni CAI un programma dettagliato della giornata che\, in alcuni casi\, prevede percorsi differenziati per fascia di età. \n\nPer ulteriori informazioni rivolgersi alle sezioni CAI di:\n• CREMA – Via Donati 10\,\nTEL. 0373-203463\, martedì e venerdì\ndalle ore 21 alle ore 23\nSITO: www.caicrema.it \n• LODI – Viale Pavia 28\,\nTEL. 0371-439107\, mercoledì e venerdì dalle ore 21 alle ore 23\nSITO: www.cailodi.it
URL:https://caicrema.it/evento/trekking-per-i-ragazzi-over-13/
CATEGORIES:Alpinismo giovanile
END:VEVENT
END:VCALENDAR