BEGIN:VCALENDAR
VERSION:2.0
PRODID:-//CAI - Club Alpino Italiano - Sezione di Crema - ECPv5.14.0.2//NONSGML v1.0//EN
CALSCALE:GREGORIAN
METHOD:PUBLISH
X-WR-CALNAME:CAI - Club Alpino Italiano - Sezione di Crema
X-ORIGINAL-URL:https://caicrema.it
X-WR-CALDESC:Eventi per CAI - Club Alpino Italiano - Sezione di Crema
REFRESH-INTERVAL;VALUE=DURATION:PT1H
X-Robots-Tag:noindex
X-PUBLISHED-TTL:PT1H
BEGIN:VTIMEZONE
TZID:Europe/Rome
BEGIN:DAYLIGHT
TZOFFSETFROM:+0100
TZOFFSETTO:+0200
TZNAME:CEST
DTSTART:20180325T010000
END:DAYLIGHT
BEGIN:STANDARD
TZOFFSETFROM:+0200
TZOFFSETTO:+0100
TZNAME:CET
DTSTART:20181028T010000
END:STANDARD
END:VTIMEZONE
BEGIN:VEVENT
DTSTART;TZID=Europe/Rome:20181021T080000
DTEND;TZID=Europe/Rome:20181021T170000
DTSTAMP:20260426T020229
CREATED:20171229T101937Z
LAST-MODIFIED:20171229T101937Z
UID:26160-1540108800-1540141200@caicrema.it
SUMMARY:FESTA AG CON LA FAMIGLIA
DESCRIPTION:Il Gruppo AG “FRANCESCA RIZZI” compie 20 anni!
URL:https://caicrema.it/evento/festa-ag-con-la-famiglia/
LOCATION:CAI Crema\, Via F. Donati\, 10\, Crema\, Cremona\, 26013\, Italia
CATEGORIES:Alpinismo giovanile
END:VEVENT
END:VCALENDAR