BEGIN:VCALENDAR
VERSION:2.0
PRODID:-//CAI - Club Alpino Italiano - Sezione di Crema - ECPv5.14.0.2//NONSGML v1.0//EN
CALSCALE:GREGORIAN
METHOD:PUBLISH
X-WR-CALNAME:CAI - Club Alpino Italiano - Sezione di Crema
X-ORIGINAL-URL:https://caicrema.it
X-WR-CALDESC:Eventi per CAI - Club Alpino Italiano - Sezione di Crema
REFRESH-INTERVAL;VALUE=DURATION:PT1H
X-Robots-Tag:noindex
X-PUBLISHED-TTL:PT1H
BEGIN:VTIMEZONE
TZID:Europe/Rome
BEGIN:DAYLIGHT
TZOFFSETFROM:+0100
TZOFFSETTO:+0200
TZNAME:CEST
DTSTART:20190331T010000
END:DAYLIGHT
BEGIN:STANDARD
TZOFFSETFROM:+0200
TZOFFSETTO:+0100
TZNAME:CET
DTSTART:20191027T010000
END:STANDARD
END:VTIMEZONE
BEGIN:VEVENT
DTSTART;TZID=Europe/Rome:20190217T063000
DTEND;TZID=Europe/Rome:20190217T193000
DTSTAMP:20260425T183802
CREATED:20181228T095727Z
LAST-MODIFIED:20181228T095727Z
UID:26886-1550385000-1550431800@caicrema.it
SUMMARY:Insieme sulla neve
DESCRIPTION:RITROVO:\nLODI Piaz. degli sport (Faustina) alle ore 6\,00\nCREMA Via Mercato (Piaz.fronte scuola Galmozzi\, ex-Agello) ore 6\,30 \nRITORNO PREVISTO:\nOre 19\,30 ca CREMA Via Mercato\nOre 20\,00 ca LODI Piaz. degli sport (Faustina) \nLa pista di sci di fondo di Schilpario si snoda lungo la pineta appena fuori dal paese; l’anello totale di 10 Km è ricco di ponticelli in legno che attraversano il fiume Dezzo e presenta caratteristiche che non temono confronti con altre piste\, sia per l’aspetto competitivo-agonistico sia per coloro che\, come noi\, affronteranno in modo molto turistico e giocoso questa emozionante disciplina sportiva. \nIl Centro-fondo ci metterà a disposizione uno spogliatoio riservato (non è però un buon motivo per sparpagliare ovunque vestiti\, guanti\, zaini e altro …) e una stanza riscaldata e attrezzata per il pranzo al sacco. \nVI ASPETTIAMO NUMEROSI! \nAVVISI: \n1. Si consigliano i genitori che avessero la necessità di acquistare capi di abbigliamento e/o scarponi\, prima di procedere all’acquisto\, di chiedere agli accompagnatori l’eventuale disponibilità presso le sedi CAI di materiali e vestiti forniti da altri genitori.\nMandare un whatsapp PER TEMPO al nr. 328721430. \n2. Si ricorda che\, anche per poter usufruire degli sconti sulle quote di partecipazione alle gite\, è possibile rinnovare la tessera CAI per i soci (ragazzi minorenni) pagando la quota annuale di 16 euro entro il mese di marzo.\nPer la prima iscrizione (soci ragazzi nuovi) la quota è di 21 euro. \nREGOLAMENTO:\n♦ Le gite di Alpinismo Giovanile sono indirizzate ai ragazzi/e di età compresa\, indicativamente\, tra gli 8 e i 18 anni.\n♦ In caso di rinuncia nei giorni antecedenti la data della gita\, si prega di avvisare la sede CAI presso la quale è stata effettuata l’iscrizione. In caso di rinuncia il giorno stesso della gita\, si prega di avvisare chiamando uno dei nr. di cellulare sotto indicati.\nIn caso di rinuncia comunicata nei 3 gg antecedenti la gita sarà rimborsata metà della quota versata.\n♦ Le gite si effettuano con qualsiasi condizione meteorologica\, salvo casi eccezionali; in caso di maltempo è previsto un programma ridotto o alternativo. \nISCRIZIONE E QUOTA:\nLe iscrizioni si ricevono\, anche telefonicamente\, presso la Sede CAI di Lodi (tel. 0371/439107) il mercoledì e il venerdì dalle ore 21:00 alle ore 23:00 o presso la Sede CAI di Crema (tel. 0373/203463) il martedì e il venerdì dalle ore 21:00 alle ore 23:00. \nUltimo giorno di iscrizione venerdì 8 febbraio. \nLa quota\, da versare SEMPRE prima della gita\, è fissata secondo la tabella seguente: \n\n\n\n\nSocio CAI\n Non socio CAI\n\n\n 1° figlio/a\n 30 euro\n 39 euro\n\n\n 2° figlio/a\n 25 euro\n 34 euro\n\n\n 3° e suc. figlio/a\n 20 euro\n 29 euro\n\n\n\nLa quota comprende il viaggio in pullman A/ R\, il noleggio dell’attrezzatura per lo sci di fondo\, l’ingresso in pista e l’assicurazione infortuni per i non soci. \nEQUIPAGGIAMENTO CONSIGLIATO PER I RAGAZZI:\nIndosso\n⇒ Scarponcini con suola scolpita in gomma o doposci\n⇒ Pantaloni pesanti (pantaloni o tuta da sci per chi li possiede)\n⇒ Maglione o pile\n⇒ Giacca a vento\n⇒ Copricapo di lana/pile\,\n⇒ Guanti imbottiti per la neve\, in mancanza guanti di lana/pile\nNello zaino (lo zaino utilizzato per la scuola va bene)\n⇒ Borraccia (o bottiglietta acqua)\, cioccolato o merendina per spuntino\, vivande per il pranzo al\nsacco\n⇒ Un paio di calze e un paio di guanti di ricambio\n⇒ Occhiali da sole\, Crema protettiva per la pelle e per le labbra\, Carta igienica (non un rotolo intero!)\n⇒ Sacchetti di plastica per riporre i rifiuti e indumenti bagnati\n⇒ Eventuali medicinali personali\, n. di telefono (fisso o cellulare) per comunicazioni ai genitori (es. ritardo rispetto all’orario previsto per il rientro)\n⇒ Ricambio completo: tuta da ginnastica (pantaloni e felpa)\, calze\, biancheria intima\, scarpe da ginnastica\n⇒ Merenda \nACCOMPAGNATORI:\nDi seguito i nr. di riferimento degli accompagnatori del CAI di Lodi e Crema:\nCrema:\nRoberto Cattaneo 347/8428263\nCesare Bianchessi 340/4082403\nLodi:\nLucia Passamonti 328/7214306\nClaudio Premoli 347/4515305\nAndrea Crozi 346/6743168
URL:https://caicrema.it/evento/insieme-sulla-neve/
LOCATION:Schilpario\, Schilpario\, Italia
CATEGORIES:Alpinismo giovanile
ATTACH;FMTTYPE=image/jpeg:https://caicrema.it/wp-content/uploads/2018/12/neve.jpg
END:VEVENT
END:VCALENDAR