BEGIN:VCALENDAR
VERSION:2.0
PRODID:-//CAI - Club Alpino Italiano - Sezione di Crema - ECPv5.14.0.2//NONSGML v1.0//EN
CALSCALE:GREGORIAN
METHOD:PUBLISH
X-WR-CALNAME:CAI - Club Alpino Italiano - Sezione di Crema
X-ORIGINAL-URL:https://caicrema.it
X-WR-CALDESC:Eventi per CAI - Club Alpino Italiano - Sezione di Crema
REFRESH-INTERVAL;VALUE=DURATION:PT1H
X-Robots-Tag:noindex
X-PUBLISHED-TTL:PT1H
BEGIN:VTIMEZONE
TZID:Europe/Rome
BEGIN:DAYLIGHT
TZOFFSETFROM:+0100
TZOFFSETTO:+0200
TZNAME:CEST
DTSTART:20220327T010000
END:DAYLIGHT
BEGIN:STANDARD
TZOFFSETFROM:+0200
TZOFFSETTO:+0100
TZNAME:CET
DTSTART:20221030T010000
END:STANDARD
END:VTIMEZONE
BEGIN:VEVENT
DTSTART;TZID=Europe/Rome:20220320T090000
DTEND;TZID=Europe/Rome:20220320T170000
DTSTAMP:20260422T224907
CREATED:20220210T150913Z
LAST-MODIFIED:20220210T150913Z
UID:29124-1647766800-1647795600@caicrema.it
SUMMARY:Il Giardino della Libellula
DESCRIPTION:Cumignano sul Naviglio (CR)
URL:https://caicrema.it/evento/il-giardino-della-libellula/
CATEGORIES:Alpinismo giovanile
END:VEVENT
END:VCALENDAR