BEGIN:VCALENDAR
VERSION:2.0
PRODID:-//CAI - Club Alpino Italiano - Sezione di Crema - ECPv5.14.0.2//NONSGML v1.0//EN
CALSCALE:GREGORIAN
METHOD:PUBLISH
X-WR-CALNAME:CAI - Club Alpino Italiano - Sezione di Crema
X-ORIGINAL-URL:https://caicrema.it
X-WR-CALDESC:Eventi per CAI - Club Alpino Italiano - Sezione di Crema
REFRESH-INTERVAL;VALUE=DURATION:PT1H
X-Robots-Tag:noindex
X-PUBLISHED-TTL:PT1H
BEGIN:VTIMEZONE
TZID:Europe/Rome
BEGIN:DAYLIGHT
TZOFFSETFROM:+0100
TZOFFSETTO:+0200
TZNAME:CEST
DTSTART:20230326T010000
END:DAYLIGHT
BEGIN:STANDARD
TZOFFSETFROM:+0200
TZOFFSETTO:+0100
TZNAME:CET
DTSTART:20231029T010000
END:STANDARD
END:VTIMEZONE
BEGIN:VEVENT
DTSTART;TZID=Europe/Rome:20230226T080000
DTEND;TZID=Europe/Rome:20230226T170000
DTSTAMP:20260422T032434
CREATED:20221223T120819Z
LAST-MODIFIED:20230130T072434Z
UID:29981-1677398400-1677430800@caicrema.it
SUMMARY:Schilpario
DESCRIPTION:Dopo due anni torniamo sulle piste di sci di fondo di Schilpario!\nAppena fuori dal paese si snoda un anello di circa 10 Km\, ricco di ponticelli in legno che attraversano il fiume Dezzo dove potremo divertirci a scivolare con gli sci sulla neve.\nLa giornata sarà dedicata sia allo sci di fondo sia ai giochi sulla neve.\nIl Centro Fondo di Schilpario metterà a disposizione una stanza riscaldata con spogliatoio\, bagni e tavoloni per il pranzo al sacco.\nSi raccomanda di non sparpagliare ovunque zaini\, vestiti\, guanti\, cappelli…\nNella quota da versare è compreso il noleggio dell’attrezzatura per sciare. \nLe iscrizioni si ricevono entro martedì 21 febbraio \, anche telefonicamente\, presso la Sede CAI di Crema (tel. 0373.203463) il martedì e il venerdì dalle ore 21:00 alle ore 23:00 oppure entro mercoledì 22 febbraio presso la Sede CAI di Lodi (tel. 0371.439107) il mercoledì dalle ore 21:00 alle ore 23:00. \nScarica la locandina completa
URL:https://caicrema.it/evento/schilpario/
LOCATION:Schilpario\, Schilpario\, Italia
CATEGORIES:Alpinismo giovanile
END:VEVENT
END:VCALENDAR