BEGIN:VCALENDAR
VERSION:2.0
PRODID:-//CAI - Club Alpino Italiano - Sezione di Crema - ECPv5.14.0.2//NONSGML v1.0//EN
CALSCALE:GREGORIAN
METHOD:PUBLISH
X-WR-CALNAME:CAI - Club Alpino Italiano - Sezione di Crema
X-ORIGINAL-URL:https://caicrema.it
X-WR-CALDESC:Eventi per CAI - Club Alpino Italiano - Sezione di Crema
REFRESH-INTERVAL;VALUE=DURATION:PT1H
X-Robots-Tag:noindex
X-PUBLISHED-TTL:PT1H
BEGIN:VTIMEZONE
TZID:Europe/Rome
BEGIN:DAYLIGHT
TZOFFSETFROM:+0100
TZOFFSETTO:+0200
TZNAME:CEST
DTSTART:20230326T010000
END:DAYLIGHT
BEGIN:STANDARD
TZOFFSETFROM:+0200
TZOFFSETTO:+0100
TZNAME:CET
DTSTART:20231029T010000
END:STANDARD
END:VTIMEZONE
BEGIN:VEVENT
DTSTART;TZID=Europe/Rome:20230624T080000
DTEND;TZID=Europe/Rome:20230625T170000
DTSTAMP:20260421T205413
CREATED:20221223T132745Z
LAST-MODIFIED:20230601T212844Z
UID:30044-1687593600-1687712400@caicrema.it
SUMMARY:Alpe Devero (AG)
DESCRIPTION:L’Alpe Devero è una piana a 1.630 metri di altezza con sentieri di diverse difficoltà\, laghi e cascate\, baite e villaggi: uno scenario da fiaba.\nSabato mattina saliremo alla piana dell’Alpe Devero e raggiungeremo il rifugio Capanna Castiglioni\, della sezione del CAI di Gallarate.\nNel pomeriggio avremo la possibiltà di salire al Lago Nero o in alternativa di esplorare la piana.\nAlla sera cena in rifugio e poi tutti a letto!\nDomenica dopo la colazione andremo prima al Lago delle Streghe e poi al Lago di Devero.\nI ragazzi piccoli si fermeranno al lago a giocare e ad aspettare i grandi che saliranno alla Bocchetta d’Arbola. Poi tutti insieme faremo il giro del lago e scenderemo a valle per il rientro a casa. \nLe iscrizioni si ricevono entro venerdì 16 giugno \, anche telefonicamente\, presso la Sede CAI di Crema (tel. 0373.203463) il martedì e il venerdì dalle ore 21:00 alle ore 23:00 oppure entro mercoledì 14 giugno presso la Sede CAI di Lodi (tel. 0371.439107) il mercoledì dalle ore 21:00 alle ore 23:00. \nScarica la locandina completa
URL:https://caicrema.it/evento/alpe-devero/
CATEGORIES:Alpinismo giovanile
END:VEVENT
END:VCALENDAR