BEGIN:VCALENDAR
VERSION:2.0
PRODID:-//CAI - Club Alpino Italiano - Sezione di Crema - ECPv5.14.0.2//NONSGML v1.0//EN
CALSCALE:GREGORIAN
METHOD:PUBLISH
X-WR-CALNAME:CAI - Club Alpino Italiano - Sezione di Crema
X-ORIGINAL-URL:https://caicrema.it
X-WR-CALDESC:Eventi per CAI - Club Alpino Italiano - Sezione di Crema
REFRESH-INTERVAL;VALUE=DURATION:PT1H
X-Robots-Tag:noindex
X-PUBLISHED-TTL:PT1H
BEGIN:VTIMEZONE
TZID:Europe/Rome
BEGIN:DAYLIGHT
TZOFFSETFROM:+0100
TZOFFSETTO:+0200
TZNAME:CEST
DTSTART:20240331T010000
END:DAYLIGHT
BEGIN:STANDARD
TZOFFSETFROM:+0200
TZOFFSETTO:+0100
TZNAME:CET
DTSTART:20241027T010000
END:STANDARD
END:VTIMEZONE
BEGIN:VEVENT
DTSTART;TZID=Europe/Rome:20240310T060000
DTEND;TZID=Europe/Rome:20240310T200000
DTSTAMP:20260421T061247
CREATED:20240223T120934Z
LAST-MODIFIED:20240305T075144Z
UID:31080-1710050400-1710100800@caicrema.it
SUMMARY:Il Parco Archeologico del Monte Barro (Alpinismo giovanile)
DESCRIPTION:L’ESCURSIONE\nNelle giornate limpide dal Monte Barro si gode un ampio panorama che spazia dalla Pianura Padana fino al Monviso.\nLa nostra escursione inizia dal parcheggio di piazza Golfari\, a Galbiate\, e prevede due percorsi in base all’età.\nIl gruppo dei grandi salirà sulla vetta del Barro dal sentiero 305\, detto anche sentiero delle Creste.\nIl gruppo dei piccoli invece seguirà il sentiero 307 che si snoda nel bosco.\nI due gruppi si incontreranno per il pranzo alla località Baita Alpini.\nDopo pranzo sono previste attività di gioco e la visita al sito archelogico dei goti.\nA fine giornata saremo ospiti dell’oratorio di Galbiate dove potremo dissetarci prima del rientro al pullman. \nLe iscrizioni si ricevono entro venerdì 1 marzo\, anche telefonicamente\, presso la Sede CAI di Crema\n(tel. 0373.203463) il martedì e il venerdì dalle ore 21:00 alle ore 23:00 oppure entro mercoledì 28 febbraio presso la Sede CAI di Lodi (tel. 0371.439107) il mercoledì dalle ore 21:00 alle ore 23:00. \nScarica la locandina completa
URL:https://caicrema.it/evento/parco-archeologico-monte-barro-2024/
CATEGORIES:Alpinismo giovanile
END:VEVENT
END:VCALENDAR