BEGIN:VCALENDAR
VERSION:2.0
PRODID:-//CAI - Club Alpino Italiano - Sezione di Crema - ECPv5.14.0.2//NONSGML v1.0//EN
CALSCALE:GREGORIAN
METHOD:PUBLISH
X-WR-CALNAME:CAI - Club Alpino Italiano - Sezione di Crema
X-ORIGINAL-URL:https://caicrema.it
X-WR-CALDESC:Eventi per CAI - Club Alpino Italiano - Sezione di Crema
REFRESH-INTERVAL;VALUE=DURATION:PT1H
X-Robots-Tag:noindex
X-PUBLISHED-TTL:PT1H
BEGIN:VTIMEZONE
TZID:Europe/Rome
BEGIN:DAYLIGHT
TZOFFSETFROM:+0100
TZOFFSETTO:+0200
TZNAME:CEST
DTSTART:20240331T010000
END:DAYLIGHT
BEGIN:STANDARD
TZOFFSETFROM:+0200
TZOFFSETTO:+0100
TZNAME:CET
DTSTART:20241027T010000
END:STANDARD
END:VTIMEZONE
BEGIN:VEVENT
DTSTART;TZID=Europe/Rome:20240519T070000
DTEND;TZID=Europe/Rome:20240519T193000
DTSTAMP:20260421T025207
CREATED:20240501T161510Z
LAST-MODIFIED:20240508T083556Z
UID:31216-1716102000-1716147000@caicrema.it
SUMMARY:La grotta Europa con gli speleologi - Valle Imagna (Alpinismo giovanile)
DESCRIPTION:L’AVVENTURA IN GROTTA\nAnche quest’anno anziché salire sulla vetta di una montagna entreremo direttamente nella montagna stessa. \nGli amici del gruppo Speleo Club Orobico ci accompagneranno a visitare la grotta Europa della Valle Imagna: un affascinante tesoro sotterraneo ricco di grotte orizzontali e verticali con una cascatella perenne\, un laghetto fossile\, colonne e stalagmiti. \nCi divideremo in due gruppi: i ragazzi della prima fascia visiteranno le grotte orizzontali mentre quelli della seconda fascia quelle verticali. \nAttenzione: entreremo puliti e asciutti nella grotta ma usciremo sicuramente sporchi e forse anche un po’ umidi! \n Mentre saremo dentro non avremo freddo\, però appena usciti dovremo cambiarci completamente perciò: leggete attentamente i suggerimenti sull’abbigliamento per entrare in grotta e sul cambio all’uscita! \nLe iscrizioni si ricevono entro venerdì 10 Maggio\, anche telefonicamente\, presso la Sede CAI di Crema (tel. 0373.203463) il martedì e il venerdì dalle ore 21:00 alle ore 23:00 oppure entro mercoledì 8 Maggio presso la Sede CAI di Lodi (tel. 0371.439107) il mercoledì dalle ore 21:00 alle ore 23:00.  \nScarica la locandina completa
URL:https://caicrema.it/evento/la-grotta-europea-speleologi-valle-imagna/
CATEGORIES:Alpinismo giovanile
END:VEVENT
END:VCALENDAR