BEGIN:VCALENDAR
VERSION:2.0
PRODID:-//CAI - Club Alpino Italiano - Sezione di Crema - ECPv5.14.0.2//NONSGML v1.0//EN
CALSCALE:GREGORIAN
METHOD:PUBLISH
X-WR-CALNAME:CAI - Club Alpino Italiano - Sezione di Crema
X-ORIGINAL-URL:https://caicrema.it
X-WR-CALDESC:Eventi per CAI - Club Alpino Italiano - Sezione di Crema
REFRESH-INTERVAL;VALUE=DURATION:PT1H
X-Robots-Tag:noindex
X-PUBLISHED-TTL:PT1H
BEGIN:VTIMEZONE
TZID:Europe/Rome
BEGIN:DAYLIGHT
TZOFFSETFROM:+0100
TZOFFSETTO:+0200
TZNAME:CEST
DTSTART:20240331T010000
END:DAYLIGHT
BEGIN:STANDARD
TZOFFSETFROM:+0200
TZOFFSETTO:+0100
TZNAME:CET
DTSTART:20241027T010000
END:STANDARD
END:VTIMEZONE
BEGIN:VEVENT
DTSTART;TZID=Europe/Rome:20240529T210000
DTEND;TZID=Europe/Rome:20240529T233000
DTSTAMP:20260421T011549
CREATED:20240414T190744Z
LAST-MODIFIED:20240502T103559Z
UID:31185-1717016400-1717025400@caicrema.it
SUMMARY:Festa per i 25 anni del gruppo di Alpinismo Giovanile
DESCRIPTION:Ed ecco arrivati ai primi 25 anni di Alpinismo Giovanile.\nUn’avventura iniziata negli ultimi anni del secolo scorso\, cioè nel 1998 e proseguita fino ai giorni nostri. Abbiamo trascorso insieme oltre 200 giornate in ambiente: circa 20 trekking e circa 15 soggiorni per i ragazzi della prima e seconda fascia di età\, tra la Baita del CAI di Crema in Val Vallaro e la casa Alpina del CAI di Lodi a Cambrembo. E infine la nuova collaborazione con gli amici della sezione CAI di Melegnano.\nPerché non cogliere l’occasione per festeggiare insieme questo primo quarto di secolo?\nPer questo abbiamo pensato di invitare tutti quelli che hanno contribuito a sostenere e sviluppare l’Alpinismo Giovanile\, accompagnatori e ragazzi incontrati in tutti questi anni\, mercoledì 22 Maggio alle ore 21 presso la sede del CAI di Crema.\nSarà un occasione per ritrovarci e fare festa insieme\, rivedendo anche attraverso le immagini queste splendide avventure vissute insieme. \nVi aspettiamo numerosi\, non mancate!\nGli accompagnatori di Alpinismo Giovanile \nScarica la locandina completa
URL:https://caicrema.it/evento/festa-per-i-25-anni-del-gruppo-di-alpinismo-giovanile/
LOCATION:Sede\, Via F. Donati\, 10\, crema\, 26013\, Italia
CATEGORIES:Alpinismo giovanile
END:VEVENT
END:VCALENDAR