BEGIN:VCALENDAR
VERSION:2.0
PRODID:-//CAI - Club Alpino Italiano - Sezione di Crema - ECPv5.14.0.2//NONSGML v1.0//EN
CALSCALE:GREGORIAN
METHOD:PUBLISH
X-WR-CALNAME:CAI - Club Alpino Italiano - Sezione di Crema
X-ORIGINAL-URL:https://caicrema.it
X-WR-CALDESC:Eventi per CAI - Club Alpino Italiano - Sezione di Crema
REFRESH-INTERVAL;VALUE=DURATION:PT1H
X-Robots-Tag:noindex
X-PUBLISHED-TTL:PT1H
BEGIN:VTIMEZONE
TZID:Europe/Rome
BEGIN:DAYLIGHT
TZOFFSETFROM:+0100
TZOFFSETTO:+0200
TZNAME:CEST
DTSTART:20240331T010000
END:DAYLIGHT
BEGIN:STANDARD
TZOFFSETFROM:+0200
TZOFFSETTO:+0100
TZNAME:CET
DTSTART:20241027T010000
END:STANDARD
END:VTIMEZONE
BEGIN:VEVENT
DTSTART;TZID=Europe/Rome:20240629T210000
DTEND;TZID=Europe/Rome:20240630T233000
DTSTAMP:20260421T011542
CREATED:20240619T081836Z
LAST-MODIFIED:20240619T082142Z
UID:31273-1719694800-1719790200@caicrema.it
SUMMARY:Weekend al rifugio Achille Papa - Pasubio
DESCRIPTION:L’ESCURSIONE			\n			\n					\n	Sabato e Domenica – 29 e 30 giugno 2024 \nWeekend in rifugio alla porte del Pasubio per respirare a pieni polmoni l’aria della Storia!\nLa strada delle 52 gallerie\, capolavoro di ingegneria militare\, fu costruita durante la Prima Guerra Mondiale. Lo scopo era di permettere alle truppe italiane di comunicare e rifornire la linea difensiva posta sul Pasubio\, linea che aveva il compito di bloccare l’avanzata degli austriaci.\nLa nostra escursione inizia alla Bocchetta di Campiglia\, dove arriveremo con la navetta.\nPercorreremo parte della strada delle 52 gallerie\, causa una deviazione per frana\, e arriveremo alla nostra meta: il Rifugio Achille Papa a 1928 metri.\nDopo cena faremo una uscita serale. Domenica mattina sono previsti due itinerari in base all’età: il gruppo dei piccoli andrà alla Cima Palon. I grandi invece andranno al Dente Italiano e al Dente Austriaco. Nel pomeriggio seguendo la strada degli Scarubbi torneremo tutti insieme a valle dove ci aspetterà il pulman per il rientro a casa.\nRicordatevi di portare la pila frontale necessaria per esplorare le gallerie e anche per l’uscita serale. \nLe iscrizioni si ricevono entro venerd ì 21 giugno\, anche telefonicamente\, presso la Sede CAI di Crema (tel. 0373.203463) il martedì e il venerdì dalle ore 21:00 alle ore 23:00 oppure entro mercoledì 19 giugno presso la Sede CAI di Lodi (tel. 0371.439107) il mercoledì dalle ore 21:00 alle ore 23:00. \nVi aspettiamo numerosi\, non mancate!\nGli accompagnatori di Alpinismo Giovanile \nScarica la locandina completa
URL:https://caicrema.it/evento/giovanile-rifugio-achille-papa-pasubio/
LOCATION:Sede\, Via F. Donati\, 10\, crema\, 26013\, Italia
CATEGORIES:Alpinismo giovanile
END:VEVENT
END:VCALENDAR