BEGIN:VCALENDAR
VERSION:2.0
PRODID:-//CAI - Club Alpino Italiano - Sezione di Crema - ECPv5.14.0.2//NONSGML v1.0//EN
CALSCALE:GREGORIAN
METHOD:PUBLISH
X-WR-CALNAME:CAI - Club Alpino Italiano - Sezione di Crema
X-ORIGINAL-URL:https://caicrema.it
X-WR-CALDESC:Eventi per CAI - Club Alpino Italiano - Sezione di Crema
REFRESH-INTERVAL;VALUE=DURATION:PT1H
X-Robots-Tag:noindex
X-PUBLISHED-TTL:PT1H
BEGIN:VTIMEZONE
TZID:Europe/Rome
BEGIN:DAYLIGHT
TZOFFSETFROM:+0100
TZOFFSETTO:+0200
TZNAME:CEST
DTSTART:20250330T010000
END:DAYLIGHT
BEGIN:STANDARD
TZOFFSETFROM:+0200
TZOFFSETTO:+0100
TZNAME:CET
DTSTART:20251026T010000
END:STANDARD
END:VTIMEZONE
BEGIN:VEVENT
DTSTART;TZID=Europe/Rome:20250216T080000
DTEND;TZID=Europe/Rome:20250216T170000
DTSTAMP:20260420T124804
CREATED:20250125T122658Z
LAST-MODIFIED:20250125T122658Z
UID:31725-1739692800-1739725200@caicrema.it
SUMMARY:Con sci\, ciaspole e slittini sulla neve ai Piani di Artavaggio (AG)
DESCRIPTION:A questa giornata sulla neve sono invitati\, oltre ai ragazzi\, anche i genitori per divertirsi tutti insieme!\nPartenza da Lodi oppure da Crema con le proprie auto alle ore 6:30 e arrivo a Moggio\, al parcheggio della funivia\, alle ore 8:00 circa.\nCon la funivia raggiungeremo i Piani di Artavaggio e dopo aver preso le ciaspole\, ci divideremo in tre gruppi.\nPer i ragazzi più piccoli è previsto un giro ad anello (Casera bassa\, rifugio Casari) e dei giochi. I ragazzi più grandi invece saliranno fino alla vetta del monte Sodadura.\nMentre i genitori verranno accompagnati sul sentiero che li porterà al rifugio Nicola. \nLe iscrizioni si ricevono entro venerd ì 7 febbraio \, anche telefonicamente\, presso la Sede CAI di Crema (tel. 0373.203463) il martedì e il venerdì dalle ore 21:00 alle ore 23:00 oppure entro mercoledì 5 febbraio presso la Sede CAI di Lodi (tel. 0371.439107) il mercoledì dalle ore 21:00 alle ore 23:00. \nScarica la locandina completa
URL:https://caicrema.it/evento/con-sci-ciaspole-e-slittini-sulla-neve-ai-piani-di-artavaggio-ag/
CATEGORIES:Alpinismo giovanile
END:VEVENT
END:VCALENDAR