BEGIN:VCALENDAR
VERSION:2.0
PRODID:-//CAI - Club Alpino Italiano - Sezione di Crema - ECPv5.14.0.2//NONSGML v1.0//EN
CALSCALE:GREGORIAN
METHOD:PUBLISH
X-WR-CALNAME:CAI - Club Alpino Italiano - Sezione di Crema
X-ORIGINAL-URL:https://caicrema.it
X-WR-CALDESC:Eventi per CAI - Club Alpino Italiano - Sezione di Crema
REFRESH-INTERVAL;VALUE=DURATION:PT1H
X-Robots-Tag:noindex
X-PUBLISHED-TTL:PT1H
BEGIN:VTIMEZONE
TZID:Europe/Rome
BEGIN:DAYLIGHT
TZOFFSETFROM:+0100
TZOFFSETTO:+0200
TZNAME:CEST
DTSTART:20230326T010000
END:DAYLIGHT
BEGIN:STANDARD
TZOFFSETFROM:+0200
TZOFFSETTO:+0100
TZNAME:CET
DTSTART:20231029T010000
END:STANDARD
END:VTIMEZONE
BEGIN:VEVENT
DTSTART;TZID=Europe/Rome:20230312T080000
DTEND;TZID=Europe/Rome:20230312T170000
DTSTAMP:20260420T163630
CREATED:20221224T125425Z
LAST-MODIFIED:20230302T213549Z
UID:30136-1678608000-1678640400@caicrema.it
SUMMARY:Santa Margherita - Portofino - San Fruttuoso (Alpover18)
DESCRIPTION:Partenza da Santa Margherita. Dopo aver percorso un tratto del lungomare\, si devia verso la Salita Montebello da cui si arriva poi alle mulattiere del Parco di Portofino. Passati dal Mulino del Gassetta\, si arriva in località Olmi\, dove inizia la scalinata in discesa verso Portofino.\nArrivati a Portofino\, si può raggiungere il faro\, punto panoramico da cui capita abbastanza spesso di scorgere i delfini. Tornati alla piazzetta di Portofino\, si ritorna sulla scalinata per poi svoltare al bivio verso San Fruttuoso.\nIl sentiero è molto panoramico sul mare. Si passa la Base 0 per poi scendere verso San Fruttuoso\, raggiungibile solo attraverso i sentieri o in battello.\nDa qui\, una (lunghissima) serie di tornanti in salita permettono di raggiungere Pietre Strette\, dove si trova il bivio per Santa Margherita\, permettendo così di chiudere l’anello. I sentieri sono principalmente mulattiere o sentieri escursionistici\, con tratti su asfalto nelle città. \nLe iscrizioni si ricevono in sede il martedì e venerdì dal 24 febbraio 2023.\nESCURSIONE PER GIOVANI DAI 18 AI 30 ANNI \nScarica la locandina completa
URL:https://caicrema.it/evento/rapallo/
CATEGORIES:Alpover 18
ORGANIZER;CN="Beatrice%20Pavesi":MAILTO:alpover18@caicrema.it
END:VEVENT
BEGIN:VEVENT
DTSTART;TZID=Europe/Rome:20230326T080000
DTEND;TZID=Europe/Rome:20230326T170000
DTSTAMP:20260420T163630
CREATED:20221223T125359Z
LAST-MODIFIED:20230307T113040Z
UID:30002-1679817600-1679850000@caicrema.it
SUMMARY:Sentiero attrezzato lago d'Idro (Alpover18)
DESCRIPTION:Questo facile sentiero attrezzato è particolarmente adatto ai principianti ed è consigliato a tutti per la bellezza dell’itinerario. Il sentiero attrezzato si sviluppa lungo la sponda orientale del lago d’Idro e collega il molo del battello di Vesta a quello di Baitoni. In alcuni tratti si cammina quasi a pelo d’acqua\, mentre la seconda nella parte del tragitto si mantiene nel bosco. La via del ritorno è lungo il sentiero dei Contrabbandieri.\nRitrovo alle 6:15 a Crema\, nel parcheggio delle scuole Agello. Partenza alle 6:30. \nLe iscrizioni si ricevono in sede il martedì e venerdì dal 14 marzo 2023.\nESCURSIONE PER GIOVANI DAI 18 AI 30 ANNI \nScarica la locandina completa
URL:https://caicrema.it/evento/sentiero-attrezzato-lago-didro/
CATEGORIES:Alpover 18
END:VEVENT
END:VCALENDAR