BEGIN:VCALENDAR
VERSION:2.0
PRODID:-//CAI - Club Alpino Italiano - Sezione di Crema - ECPv5.14.0.2//NONSGML v1.0//EN
CALSCALE:GREGORIAN
METHOD:PUBLISH
X-WR-CALNAME:CAI - Club Alpino Italiano - Sezione di Crema
X-ORIGINAL-URL:https://caicrema.it
X-WR-CALDESC:Eventi per CAI - Club Alpino Italiano - Sezione di Crema
REFRESH-INTERVAL;VALUE=DURATION:PT1H
X-Robots-Tag:noindex
X-PUBLISHED-TTL:PT1H
BEGIN:VTIMEZONE
TZID:Europe/Rome
BEGIN:DAYLIGHT
TZOFFSETFROM:+0100
TZOFFSETTO:+0200
TZNAME:CEST
DTSTART:20230326T010000
END:DAYLIGHT
BEGIN:STANDARD
TZOFFSETFROM:+0200
TZOFFSETTO:+0100
TZNAME:CET
DTSTART:20231029T010000
END:STANDARD
END:VTIMEZONE
BEGIN:VEVENT
DTSTART;TZID=Europe/Rome:20230416T080000
DTEND;TZID=Europe/Rome:20230416T170000
DTSTAMP:20260420T150518
CREATED:20221223T130017Z
LAST-MODIFIED:20230327T110020Z
UID:30010-1681632000-1681664400@caicrema.it
SUMMARY:Malga Grassi Monti di Ledro (Alpover18)
DESCRIPTION:PARTENZA: Riva del Garda\, 86m s.l.m.\nDalla circonvallazione occidentale di Riva del garda si percorre una stradina asfaltata che porta\, poco prima di un bastione\, al bivio col sentiero 402. Imboccato questo\, si raggiunge per prima la località S. Maria Maddalena; si continua in salita fino a raggiungere\nla dorsale nord della Rocchetta. Il percorso prosegue in quota fino alla Val Mera\, dove si trova un villaggio disabitato chiamatosi Pinza\, e successivamente nella località Campi. Da questo punto la salita si fa più ripida su una mulattiera\, fino a quando non si raggiungerà la Malga di Pranzo e quindi alla Capanna Grassi. Il sentiero è piacevole e molto panoramico\, con ampi scorci sulle valli di Ledro e del Garda. (Percorso in discesa medesimo di quello in salita) \nLe iscrizioni si ricevono in sede il martedì e venerdì dal 4 Aprile 2023.\nESCURSIONE PER GIOVANI DAI 18 AI 30 ANNI \nScarica la locandina completa
URL:https://caicrema.it/evento/malga-grassi-monti-di-ledro/
CATEGORIES:Alpover 18
ORGANIZER;CN="Luca%20Pedrini":MAILTO:alpover18@caicrema.it
END:VEVENT
BEGIN:VEVENT
DTSTART;TZID=Europe/Rome:20230430T080000
DTEND;TZID=Europe/Rome:20230430T170000
DTSTAMP:20260420T150518
CREATED:20221223T130514Z
LAST-MODIFIED:20230327T110216Z
UID:30014-1682841600-1682874000@caicrema.it
SUMMARY:Rifugio Lago Nero (Alpover18)
DESCRIPTION:Dopo aver superato il centro di Valgoglio\, si prosegue sulla strada che porta alla centrale ENEL (possibilità di parcheggio) fino ad imboccare sulla destra la stradina asfaltata a servizio delle frazioni Valenti e Bortolotti. Il sentiero parte da questo punto (970 m)\, risalendo per un primo tratto detta strada\, poi ritrovando la mulattiera originale che con percorso non impegnativo raggiunge la località Bortolotti (1146 m). Si continua ancora in terreno aperto\, costeggiando la condotta forzata che scende dai laghi ed entrando poi nel fitto bosco. Lo si risale arrivando infine ad una strada forestale che poi si lascia\, piegando a sinistra e\nrisalendo una ripida costa con alcuni tornanti che portano ad un pianoro (1800 m circa) con edifici ENEL.\nDa qui si sale verso ovest (a destra continua il sentiero 228 per la Baita Cernello)\, si supera la ripida costa e si arriva al lago Canali e alla Capanna Lago Nero (1945 m). Poco sopra si è al Lago Nero (2013 m) che si costeggia fino al Lago d’Aviasco (2070 m) fino a incrociare il sentiero 229 che sale all’omonimo passo. \nLe iscrizioni si ricevono in sede il martedì e venerdì a partire dal 18 aprile 2023.\nESCURSIONE PER GIOVANI DAI 18 AI 30 ANNI \nScarica la locandina completa
URL:https://caicrema.it/evento/rifugio-lago-nero/
LOCATION:Rifugio Lago Nero\, Valgoglio\, BG\, 24020\, Italia
CATEGORIES:Alpover 18
END:VEVENT
END:VCALENDAR