BEGIN:VCALENDAR
VERSION:2.0
PRODID:-//CAI - Club Alpino Italiano - Sezione di Crema - ECPv5.14.0.2//NONSGML v1.0//EN
CALSCALE:GREGORIAN
METHOD:PUBLISH
X-WR-CALNAME:CAI - Club Alpino Italiano - Sezione di Crema
X-ORIGINAL-URL:https://caicrema.it
X-WR-CALDESC:Eventi per CAI - Club Alpino Italiano - Sezione di Crema
REFRESH-INTERVAL;VALUE=DURATION:PT1H
X-Robots-Tag:noindex
X-PUBLISHED-TTL:PT1H
BEGIN:VTIMEZONE
TZID:Europe/Rome
BEGIN:DAYLIGHT
TZOFFSETFROM:+0100
TZOFFSETTO:+0200
TZNAME:CEST
DTSTART:20230326T010000
END:DAYLIGHT
BEGIN:STANDARD
TZOFFSETFROM:+0200
TZOFFSETTO:+0100
TZNAME:CET
DTSTART:20231029T010000
END:STANDARD
END:VTIMEZONE
BEGIN:VEVENT
DTSTART;TZID=Europe/Rome:20230604T080000
DTEND;TZID=Europe/Rome:20230604T170000
DTSTAMP:20260420T122510
CREATED:20221223T132157Z
LAST-MODIFIED:20230524T110715Z
UID:30032-1685865600-1685898000@caicrema.it
SUMMARY:Rifugio Garibaldi (Alpover18)
DESCRIPTION:L’itinerario per la salita al rifugio Garibaldi attraversa la Val D’Avio\, in provincia di Brescia\, nel Parco dell’Adamello caratterizzata da numerosi laghi artificiali e laghetti naturali. Questo itinerario ha anche una valenza storica in quanto questo era il percorso seguito dagli alpini durante la Prima Guerra Mondiale per accedere alla prima linea sui ghiacciai. Il punto di partenza è la Malga Caldea (m 1584) raggiungibile in auto con una stretta e sconnessa strada sterrata da Temù. Alternativamente è possibile salire alla\nmalga a piedi in 1.45 h circa. Una volta parcheggiato\, si prendono i tornanti in ripida salita che conducono fino sopra il laghetto d’Avio. Da qui si prosegue in piano e si possono ammirare meravigliosi scorci panoramici. Si costeggia il lago d’Avio (m 1900 m) e il Lago Benedetto (m 1929). Si affronta una breve salita passando dalla cascata fino alla Malga Lavedole\, situata su un pianoro con un grandioso paesaggio alpestre dominato dalle cime dell’Adamello e del Corno Bianco. Si attraversa il torrente e si affronta il ripido e faticoso “calvario”\, famosa mulattiera militare della Grande Guerra. Si arriva alla diga della Val Venerocolo\, si passa per la chiesetta dedicata ai caduti e finalmente si giunge al rifugio Garibaldi (m 2553) ai piedi dell’Adamello. \nLe iscrizioni si ricevono in sede il martedì e venerdì a partire dal 23 maggio 2023 o per via telefonica.\nESCURSIONE PER GIOVANI DAI 18 AI 30 ANNI. \nScarica la locandina completa
URL:https://caicrema.it/evento/rifugio-garibaldi/
LOCATION:Rifugio Garibaldi C.A.I.\, Località lago venerocolo\, Edolo\, BS\, 25048\, Italia
CATEGORIES:Alpover 18
END:VEVENT
END:VCALENDAR