BEGIN:VCALENDAR
VERSION:2.0
PRODID:-//CAI - Club Alpino Italiano - Sezione di Crema - ECPv5.14.0.2//NONSGML v1.0//EN
CALSCALE:GREGORIAN
METHOD:PUBLISH
X-WR-CALNAME:CAI - Club Alpino Italiano - Sezione di Crema
X-ORIGINAL-URL:https://caicrema.it
X-WR-CALDESC:Eventi per CAI - Club Alpino Italiano - Sezione di Crema
REFRESH-INTERVAL;VALUE=DURATION:PT1H
X-Robots-Tag:noindex
X-PUBLISHED-TTL:PT1H
BEGIN:VTIMEZONE
TZID:Europe/Rome
BEGIN:DAYLIGHT
TZOFFSETFROM:+0100
TZOFFSETTO:+0200
TZNAME:CEST
DTSTART:20230326T010000
END:DAYLIGHT
BEGIN:STANDARD
TZOFFSETFROM:+0200
TZOFFSETTO:+0100
TZNAME:CET
DTSTART:20231029T010000
END:STANDARD
END:VTIMEZONE
BEGIN:VEVENT
DTSTART;TZID=Europe/Rome:20230618T080000
DTEND;TZID=Europe/Rome:20230618T170000
DTSTAMP:20260420T122524
CREATED:20221223T132656Z
LAST-MODIFIED:20230524T110852Z
UID:30042-1687075200-1687107600@caicrema.it
SUMMARY:Via ferrata Sentiero dei fiori (Alpover18)
DESCRIPTION:Si posteggia al passo del Tonale. Si prende la funivia in salita che porta al Passo Paradiso. Da lì si segue il sentiero numero 44 per il passo del Castellaccio dove comincia la ferrata vera e propria. Il Sentiero dei Fiori\, in quota attorno ai 3000\, offre una panorama amplissimo. Il percorso si chiude al Passo Presena\, da cui si prende la funivia per la ridiscesa. \nLe iscrizioni si ricevono in sede il martedì e venerdì dal 6 giugno 2023.\nESCURSIONE PER GIOVANI DAI 18 AI 30 ANNI \nScarica la locandina completa
URL:https://caicrema.it/evento/via-ferrata-sentiero-dei-fiori/
CATEGORIES:Alpover 18
END:VEVENT
END:VCALENDAR