BEGIN:VCALENDAR
VERSION:2.0
PRODID:-//CAI - Club Alpino Italiano - Sezione di Crema - ECPv5.14.0.2//NONSGML v1.0//EN
CALSCALE:GREGORIAN
METHOD:PUBLISH
X-WR-CALNAME:CAI - Club Alpino Italiano - Sezione di Crema
X-ORIGINAL-URL:https://caicrema.it
X-WR-CALDESC:Eventi per CAI - Club Alpino Italiano - Sezione di Crema
REFRESH-INTERVAL;VALUE=DURATION:PT1H
X-Robots-Tag:noindex
X-PUBLISHED-TTL:PT1H
BEGIN:VTIMEZONE
TZID:Europe/Rome
BEGIN:DAYLIGHT
TZOFFSETFROM:+0100
TZOFFSETTO:+0200
TZNAME:CEST
DTSTART:20200329T010000
END:DAYLIGHT
BEGIN:STANDARD
TZOFFSETFROM:+0200
TZOFFSETTO:+0100
TZNAME:CET
DTSTART:20201025T010000
END:STANDARD
END:VTIMEZONE
BEGIN:VEVENT
DTSTART;TZID=Europe/Rome:20200510T080000
DTEND;TZID=Europe/Rome:20200510T170000
DTSTAMP:20260423T123423
CREATED:20191223T134542Z
LAST-MODIFIED:20191223T134542Z
UID:27981-1589097600-1589130000@caicrema.it
SUMMARY:Alle Cascate del Carlone
DESCRIPTION:Data\n10-05-2020\n\n\n\nRitrovo\nOre 8.00\n\n\n\n\nPresso\nBobbio (PC)\n\n\nDislivello\n980\n\n\nLunghezza percorso\n24\n\n\nCiclabilità\n90%/ 95%\n\n\nDifficoltà\nMC / MC- BC\n\n\nTempo percorrenza\n4\,5 ore\n\n\nDotazioni obbligatorie\nCasco\, Mtb in ottimo stato\n\n\nDotazioni consigliate\nKit primo soccorso\, kit manutenzione bici.\n\n\nAssicurazione\nAssicurazione obbligatoria per i non soci CAI costo Euro 9\n\n\nAccompagnatori\nBianchessi Cesare \nBonacorsi Michele\n\n\nFinalità\nPercorrere una mattinata in MTB in ottima compagnia nel rispetto della montagna\n\n\n\nContatti\ncicloescursionismocaicrema@gmail.com\n\n\n\n\nDESCRIZIONE: \nLe cascate del Carlone sono situate a circa 1000 metri di altitudine\, sono create dell’omonimo fiume che nasce appena sopra; le sue acqua hanno proprietà termali a causa dell’alta concentrazione di minerali di sali. La salita verso le cascate sarà in gran parte su asfalto mentre\, una volta entrati nel bosco\, con ripide rampe in salita e in discesa arriveremo al laghetto sottostante alla cascata. Chi vorrà potrà fare il bagno nel laghetto termale. Da li in poi tutta discesa\, a tratti molto tecnica\, fino alle auto. \nLa cicloescursione richiede un minimo allenamento e una discreta capacità di guida della MTB su sterrato. \nCHIUSURA DELLE ISCRIZIONI ENTRO GIOVEDI 7 MAGGIO. \nChi aderisce alla cicloescursione\, dichiara di essere cosciente dell’impegno fisico e dei rischi che l’attività di cicloescursionismo comporta\, di possedere idonea attrezzatura ed equipaggiamento\, adeguata capacità fisico-atletica per superare lunghezza e dislivello e capacità tecnica per affrontare le difficoltà indicate nel programma.
URL:https://caicrema.it/evento/alle-cascate-del-carlone/
LOCATION:Cascata termale del Carlone\, Bobbio\, Piacenza\, Italia
CATEGORIES:Ciclo Escursionismo
ATTACH;FMTTYPE=image/jpeg:https://caicrema.it/wp-content/uploads/2019/12/c3.jpg
END:VEVENT
END:VCALENDAR