BEGIN:VCALENDAR
VERSION:2.0
PRODID:-//CAI - Club Alpino Italiano - Sezione di Crema - ECPv5.14.0.2//NONSGML v1.0//EN
CALSCALE:GREGORIAN
METHOD:PUBLISH
X-WR-CALNAME:CAI - Club Alpino Italiano - Sezione di Crema
X-ORIGINAL-URL:https://caicrema.it
X-WR-CALDESC:Eventi per CAI - Club Alpino Italiano - Sezione di Crema
REFRESH-INTERVAL;VALUE=DURATION:PT1H
X-Robots-Tag:noindex
X-PUBLISHED-TTL:PT1H
BEGIN:VTIMEZONE
TZID:Europe/Rome
BEGIN:DAYLIGHT
TZOFFSETFROM:+0100
TZOFFSETTO:+0200
TZNAME:CEST
DTSTART:20200329T010000
END:DAYLIGHT
BEGIN:STANDARD
TZOFFSETFROM:+0200
TZOFFSETTO:+0100
TZNAME:CET
DTSTART:20201025T010000
END:STANDARD
END:VTIMEZONE
BEGIN:VEVENT
DTSTART;TZID=Europe/Rome:20200705T080000
DTEND;TZID=Europe/Rome:20200705T170000
DTSTAMP:20260423T090225
CREATED:20191223T135710Z
LAST-MODIFIED:20191223T135710Z
UID:27989-1593936000-1593968400@caicrema.it
SUMMARY:Monte Gugliemo
DESCRIPTION:Data\n05-07-2020\n\n\n\nRitrovo\nOre 8.00\n\n\nPresso\nCislano\, parcheggio piramidi\n\n\nDislivello\n1300\n\n\nLunghezza percorso\n21\n\n\nCiclabilità\n100%/ 95%\n\n\nDifficoltà\nBC / MC\n\n\nTempo percorrenza\n5 ore\n\n\nDotazioni obbligatorie\nCasco\, Mtb in ottimo stato\n\n\nDotazioni consigliate\nKit primo soccorso\, kit manutenzione bici.\n\n\nAssicurazione\nAssicurazione obbligatoria per i non soci CAI costo Euro 9\n\n\nAccompagnatori\nBertolasi Emilio \nBianchessi Cesare\n\n\nFinalità\nPercorrere una mattinata in MTB in ottima compagnia nel rispetto della montagna\n\n\nContatti\ncicloescursionismocaicrema@gmail.com\n\n\n\nDESCRIZIONE:\nIl monte Gugliemo\, con la sua cima\, è un punto panoramico situato a 1936 metri sulla dorsale che divide la Valtrompia dal Lago D’iseo. Nelle giornate più terse è possibile ammirare anche il lago d’endine e il lago di Garda. \nSarà l’escursione più lunga e più impegnativa dell’anno 2020\, la lunga salita esposta al sole ci metterà a dura prova. La partenza è subito in salita fino a poco prima della croce di Marone\, dove una fontana ci darà acqua fresca\, da qui in poi andremo in direzione malga Guglielmo di sotto e malga Guglielmo di Sopra. Preso fiato un attimo\, attraverso la ripidissima cementata arriveremo poi al rifugio Almici a quota 1865 e con un ultimo sforzo saremo in cima dove ammireremo un magnifico panorama. La Discesa verso baita Palmarusso di sopra potrà essere affrontata su comoda forestale o su sentiero roccioso. Dopo una breve sosta ripartiremo sempre o su comoda forestale o percorrendo il sentiero dell’uccellatore direzione Cislano. Dal punto di arrivo si potranno ammirare le famose piramidi di Zone formatesi grazie all’erosione nei secoli dell’acqua sulla roccia formica. \nLa cicloescursione richiede un buon allenamento e una discreta capacità di guida della MTB su sterrato. \nCHIUSURA DELLE ISCRIZIONI ENTRO GIOVEDI 2 LUGLIO. \nChi aderisce alla cicloescursione\, dichiara di essere cosciente dell’impegno fisico e dei rischi che l’attività di cicloescursionismo comporta\, di possedere idonea attrezzatura ed equipaggiamento\, adeguata capacità fisico-atletica per superare lunghezza e dislivello e capacità tecnica per affrontare le difficoltà indicate nel programma.
URL:https://caicrema.it/evento/monte-gugliemo/
LOCATION:Monte Gugliemo\, Monte Guglielmo\, Brescia\, Italia
CATEGORIES:Ciclo Escursionismo
ATTACH;FMTTYPE=image/jpeg:https://caicrema.it/wp-content/uploads/2019/12/c5.jpg
END:VEVENT
END:VCALENDAR