BEGIN:VCALENDAR
VERSION:2.0
PRODID:-//CAI - Club Alpino Italiano - Sezione di Crema - ECPv5.14.0.2//NONSGML v1.0//EN
CALSCALE:GREGORIAN
METHOD:PUBLISH
X-WR-CALNAME:CAI - Club Alpino Italiano - Sezione di Crema
X-ORIGINAL-URL:https://caicrema.it
X-WR-CALDESC:Eventi per CAI - Club Alpino Italiano - Sezione di Crema
REFRESH-INTERVAL;VALUE=DURATION:PT1H
X-Robots-Tag:noindex
X-PUBLISHED-TTL:PT1H
BEGIN:VTIMEZONE
TZID:Europe/Rome
BEGIN:DAYLIGHT
TZOFFSETFROM:+0100
TZOFFSETTO:+0200
TZNAME:CEST
DTSTART:20220327T010000
END:DAYLIGHT
BEGIN:STANDARD
TZOFFSETFROM:+0200
TZOFFSETTO:+0100
TZNAME:CET
DTSTART:20221030T010000
END:STANDARD
END:VTIMEZONE
BEGIN:VEVENT
DTSTART;TZID=Europe/Rome:20220403T063000
DTEND;TZID=Europe/Rome:20220403T170000
DTSTAMP:20260421T204108
CREATED:20220210T151025Z
LAST-MODIFIED:20220210T151025Z
UID:29126-1648967400-1649005200@caicrema.it
SUMMARY:CICLABILE PONENTE LIGURE
DESCRIPTION:La pista ciclabile nasce sulla sede della vecchia ferrovia Genova-Ventimiglia dismessa nel 2001. Portata a termine nel 2008 attraversa buona parte della riviera dei fiori\, vantando il primato di pista ciclabile più lunga d’Europa. \nScarica la locandina
URL:https://caicrema.it/evento/ciclabile-ponente-ligure/
LOCATION:San Lorenzo al Mare\, San Lorenzo al Mare\, Imperia\, Italia
CATEGORIES:Ciclo Escursionismo
ATTACH;FMTTYPE=image/jpeg:https://caicrema.it/wp-content/uploads/2019/12/15.jpg
END:VEVENT
END:VCALENDAR