BEGIN:VCALENDAR
VERSION:2.0
PRODID:-//CAI - Club Alpino Italiano - Sezione di Crema - ECPv5.14.0.2//NONSGML v1.0//EN
CALSCALE:GREGORIAN
METHOD:PUBLISH
X-WR-CALNAME:CAI - Club Alpino Italiano - Sezione di Crema
X-ORIGINAL-URL:https://caicrema.it
X-WR-CALDESC:Eventi per CAI - Club Alpino Italiano - Sezione di Crema
REFRESH-INTERVAL;VALUE=DURATION:PT1H
X-Robots-Tag:noindex
X-PUBLISHED-TTL:PT1H
BEGIN:VTIMEZONE
TZID:Europe/Rome
BEGIN:DAYLIGHT
TZOFFSETFROM:+0100
TZOFFSETTO:+0200
TZNAME:CEST
DTSTART:20230326T010000
END:DAYLIGHT
BEGIN:STANDARD
TZOFFSETFROM:+0200
TZOFFSETTO:+0100
TZNAME:CET
DTSTART:20231029T010000
END:STANDARD
END:VTIMEZONE
BEGIN:VEVENT
DTSTART;TZID=Europe/Rome:20230422T080000
DTEND;TZID=Europe/Rome:20230422T170000
DTSTAMP:20260421T003413
CREATED:20221223T125610Z
LAST-MODIFIED:20230331T175224Z
UID:30004-1682150400-1682182800@caicrema.it
SUMMARY:Pedalando da Bergamo a Crema lungo il fiume Serio (Ciclo Escursionismo)
DESCRIPTION:Ritrovo a Crema\, Piazzale antistante la Stazione ferroviaria\, il 22.04.23 alle ore 8:00 e partenza alle 8:25 col treno diretto a Treviglio. Cambio convoglio a Treviglio Centrale con destinazione finale Bergamo. Durata del viaggio 1h15’ salvo ritardi nel servizio.\nPartiremo con le biciclette dalla Stazione di Bergamo in direzione Seriate tramite un tratto di ciclabile e alcune vie residenziali. Entreremo nel parco del Serio a Seriate dove ci porteremo sulla sponda sinistra che seguiremo fino a Mozzanica. Faremo una sosta per vedere il castello di Malpaga dall’esterno e per il pranzo al sacco. A Mozzanica\, tramite il ponte lungo la statale\, ci sposteremo sulla sponda destra lungo la quale arriveremo a Sergnano. Faremo tappa al santuario del Binengo e proseguiremo fino al santuario di S.Maria a Crema. L’escursione si concluderà al viale dell’omonimo santuario.\nAll’iscrizione verranno versati 5€ come caparra per il biglietto Crema-BG sola andata e per il trasporto della bicicletta (saldo sul treno). L’escursione durerà circa 5\,5h escluse le soste. \nLe iscrizioni si ricevono esclusivamente in sede entro il 14 Aprile 2023 o al raggiungimento di 15 partecipanti \nScarica la locandina completa
URL:https://caicrema.it/evento/pedalare-nella-nostra-pianura/
CATEGORIES:Ciclo Escursionismo
END:VEVENT
END:VCALENDAR