BEGIN:VCALENDAR
VERSION:2.0
PRODID:-//CAI - Club Alpino Italiano - Sezione di Crema - ECPv5.14.0.2//NONSGML v1.0//EN
CALSCALE:GREGORIAN
METHOD:PUBLISH
X-WR-CALNAME:CAI - Club Alpino Italiano - Sezione di Crema
X-ORIGINAL-URL:https://caicrema.it
X-WR-CALDESC:Eventi per CAI - Club Alpino Italiano - Sezione di Crema
REFRESH-INTERVAL;VALUE=DURATION:PT1H
X-Robots-Tag:noindex
X-PUBLISHED-TTL:PT1H
BEGIN:VTIMEZONE
TZID:Europe/Rome
BEGIN:DAYLIGHT
TZOFFSETFROM:+0100
TZOFFSETTO:+0200
TZNAME:CEST
DTSTART:20230326T010000
END:DAYLIGHT
BEGIN:STANDARD
TZOFFSETFROM:+0200
TZOFFSETTO:+0100
TZNAME:CET
DTSTART:20231029T010000
END:STANDARD
BEGIN:DAYLIGHT
TZOFFSETFROM:+0100
TZOFFSETTO:+0200
TZNAME:CEST
DTSTART:20240331T010000
END:DAYLIGHT
BEGIN:STANDARD
TZOFFSETFROM:+0200
TZOFFSETTO:+0100
TZNAME:CET
DTSTART:20241027T010000
END:STANDARD
BEGIN:DAYLIGHT
TZOFFSETFROM:+0100
TZOFFSETTO:+0200
TZNAME:CEST
DTSTART:20250330T010000
END:DAYLIGHT
BEGIN:STANDARD
TZOFFSETFROM:+0200
TZOFFSETTO:+0100
TZNAME:CET
DTSTART:20251026T010000
END:STANDARD
BEGIN:DAYLIGHT
TZOFFSETFROM:+0100
TZOFFSETTO:+0200
TZNAME:CEST
DTSTART:20260329T010000
END:DAYLIGHT
BEGIN:STANDARD
TZOFFSETFROM:+0200
TZOFFSETTO:+0100
TZNAME:CET
DTSTART:20261025T010000
END:STANDARD
END:VTIMEZONE
BEGIN:VEVENT
DTSTART;TZID=Europe/Rome:20230422T080000
DTEND;TZID=Europe/Rome:20230422T170000
DTSTAMP:20260421T080647
CREATED:20221223T125610Z
LAST-MODIFIED:20230331T175224Z
UID:30004-1682150400-1682182800@caicrema.it
SUMMARY:Pedalando da Bergamo a Crema lungo il fiume Serio (Ciclo Escursionismo)
DESCRIPTION:Ritrovo a Crema\, Piazzale antistante la Stazione ferroviaria\, il 22.04.23 alle ore 8:00 e partenza alle 8:25 col treno diretto a Treviglio. Cambio convoglio a Treviglio Centrale con destinazione finale Bergamo. Durata del viaggio 1h15’ salvo ritardi nel servizio.\nPartiremo con le biciclette dalla Stazione di Bergamo in direzione Seriate tramite un tratto di ciclabile e alcune vie residenziali. Entreremo nel parco del Serio a Seriate dove ci porteremo sulla sponda sinistra che seguiremo fino a Mozzanica. Faremo una sosta per vedere il castello di Malpaga dall’esterno e per il pranzo al sacco. A Mozzanica\, tramite il ponte lungo la statale\, ci sposteremo sulla sponda destra lungo la quale arriveremo a Sergnano. Faremo tappa al santuario del Binengo e proseguiremo fino al santuario di S.Maria a Crema. L’escursione si concluderà al viale dell’omonimo santuario.\nAll’iscrizione verranno versati 5€ come caparra per il biglietto Crema-BG sola andata e per il trasporto della bicicletta (saldo sul treno). L’escursione durerà circa 5\,5h escluse le soste. \nLe iscrizioni si ricevono esclusivamente in sede entro il 14 Aprile 2023 o al raggiungimento di 15 partecipanti \nScarica la locandina completa
URL:https://caicrema.it/evento/pedalare-nella-nostra-pianura/
CATEGORIES:Ciclo Escursionismo
END:VEVENT
BEGIN:VEVENT
DTSTART;TZID=Europe/Rome:20230506T053000
DTEND;TZID=Europe/Rome:20230506T200000
DTSTAMP:20260421T080647
CREATED:20221223T130824Z
LAST-MODIFIED:20230414T103838Z
UID:30018-1683351000-1683403200@caicrema.it
SUMMARY:Val di Sole (Ciclo Escursionismo)
DESCRIPTION:Ritrovo a Crema\, Piazzale Croce Rossa\, il 06.05.23 alle ore 5:45 e partenza alle 6:00. Durata del viaggio 3h circa per 230 km (lo stesso per il ritorno\, traffico permettendo).\nLasceremo le auto a Mostizzolo e percorremmo la ciclabile della Val di Sole pedalando nel verde con il torrente Noce sempre al nostro fianco.\nIl percorso si svolge interamente su sede dedicata a parte alcuni attraversamenti della statale durante i quali si presterà la massima attenzione al traffico locale.\nIl percorso è prevalentemente in salita con saltuari saliscendi e tratto più impervio finale. Giunti a Cogolo (termine ciclabile) ritorneremo a Mezzana; da lì\, il rientro alle macchine si svolgerà con l’ausilio di mezzi pubblici locali (trenino da Mezzana a Mostizzolo).\nL’escursione durerà circa 5\,5h escluse le soste.\nSi consiglia il noleggio biciclette in loco (circa 26€/giorno per la muscolare\, 50€/giorno per la e-bike). \nLe iscrizioni si ricevono esclusivamente in sede entro il 28 Aprile 2023 \nScarica la locandina completa
URL:https://caicrema.it/evento/val-di-sole/
CATEGORIES:Ciclo Escursionismo
END:VEVENT
BEGIN:VEVENT
DTSTART;TZID=Europe/Rome:20230909T080000
DTEND;TZID=Europe/Rome:20230909T170000
DTSTAMP:20260421T080647
CREATED:20221223T134017Z
LAST-MODIFIED:20230828T104043Z
UID:30064-1694246400-1694278800@caicrema.it
SUMMARY:Tour della Franciacorta (Ciclo Escursionismo)
DESCRIPTION:Ritrovo a Crema\, Piazzale Croce Rossa\, il 09.09.23 alle ore 6:45 e partenza alle 7:00. Durata del viaggio 50 min. circa per 46 km (lo stesso per il ritorno).\nLasceremo le auto nell’ampio parcheggio presso il mercato di Rovato e\, tramite strade urbane\, usciremo nella campagna attraversando la zona dei vigneti della Franciacorta\, ricca di cantine\, casali e scorci sulle circostanti alture. Arrivati ad Adro\, andremo nella bella piazza centrale e\, dopo una breve salita\, vedremo l’antica Chiesa di S. Maria Assunta\, la Torre Medievale\, i resti del Castello e una bella panoramica sulla Franciacorta. Qui faremo rifornimento di acqua e ripartiremo per raggiungere\, tramite strade e sentieri\, il Monte Orfano che costeggeremo lungo il sentiero pedemontano orientale. Imboccheremo poi la strada che sale al complesso conventuale della S.S. Annunciata. Scenderemo a Coccaglio per poi raggiungere il parcheggio delle auto a Rovato. L’escursione durerà circa 3\,5h escluse le soste. \nLe iscrizioni si ricevono esclusivamente in sede entro l’8 Settembre 2023 \nScarica la locandina completa
URL:https://caicrema.it/evento/tour-della-franciacorta-2/
CATEGORIES:Ciclo Escursionismo
END:VEVENT
BEGIN:VEVENT
DTSTART;TZID=Europe/Rome:20240511T080000
DTEND;TZID=Europe/Rome:20240511T170000
DTSTAMP:20260421T080647
CREATED:20240216T181348Z
LAST-MODIFIED:20240216T181348Z
UID:31077-1715414400-1715446800@caicrema.it
SUMMARY:Lungo i corsi d'acqua - l'Oglio (CicloEscursionismo)
DESCRIPTION:Ritrovo a Crema\, parcheggio antistante la passerella pedonale sul Serio\, alle ore 8:00 e partenza alle 8:15. Tramite ciclabile (Serio\, Canale Vacchelli) supereremo Salvirola e piegheremo per Romanengo. Raggiungeremo la Melotta e\, attraversata la SP44\, passeremo per Gallignano con destinazione Pumenengo. Dopo una breve sosta per vedere il castello dall’esterno\, attraverseremo il fiume Oglio sul ponte per Rudiano e percorreremo un selvaggio sentiero sulla sponda orografica sinistra nel Parco Oglio Nord. Attraversata la Via Milano all’altezza del ponte sul fiume\, giungeremo a Soncino dove ci fermeremo per la pausa pranzo ed una breve visita del centro storico e della Rocca. Imboccheremo la Ciclabile delle Città Murate fino a Genivolta. Attraversata la SS498 arriveremo alle Tombe Morte. Lì seguiremo il naviglio che ci conduce a Cumignano da dove riprenderemo la ciclabile del Canale Vacchelli per il rientro a Crema.\nGiro ad anello per un totale di circa 6h escluse le soste.\nLe iscrizioni si ricevono esclusivamente in sede entro il 7 Maggio 2024 \nScarica la locandina completa
URL:https://caicrema.it/evento/lungo-i-corsi-dacqua-loglio-cicloescursionismo/
CATEGORIES:Ciclo Escursionismo
END:VEVENT
BEGIN:VEVENT
DTSTART;TZID=Europe/Rome:20250517T080000
DTEND;TZID=Europe/Rome:20250517T170000
DTSTAMP:20260421T080647
CREATED:20250402T105433Z
LAST-MODIFIED:20250402T105433Z
UID:31872-1747468800-1747501200@caicrema.it
SUMMARY:Pedalando sul Sebino – Iseo (CicloEscursionismo)
DESCRIPTION:Partendo da Iseo faremo il giro del lago in senso orario. La sponda Bergamasca richiederà una maggiore attenzione a causa di tratti in presenza di automezzi ed il passaggio in gallerie poco illuminate. La sponda bresciana\, invece\, offre lunghi tratti di ciclabile in sede dedicata. Attraverseremo borghi storici come Lovere\, uno dei Borghi più Belli d’Italia e Pisogne\, antico borgo medievale. Passeremo per il suggestivo Orrido del Bögn\, uno spettacolo di rocce verticali a strapiombo nel lago. Lungo il percorso\, oltre a Monte Isola\, è possibile ammirare le piccole isole di Loreto e San Paolo. Il percorso è prevalentemente pianeggiante e privo di difficoltà tecniche. \nIscrizioni in sede da martedì 06/05/25 a martedì 13/05/25. \nScarica la locandina completa
URL:https://caicrema.it/evento/pedalando-sul-sebino-iseo-cicloescursionismo/
CATEGORIES:Ciclo Escursionismo
END:VEVENT
BEGIN:VEVENT
DTSTART;TZID=Europe/Rome:20250614T080000
DTEND;TZID=Europe/Rome:20250614T170000
DTSTAMP:20260421T080647
CREATED:20250604T190809Z
LAST-MODIFIED:20250604T190809Z
UID:31986-1749888000-1749920400@caicrema.it
SUMMARY:Pedalando per castelli (CicloEscursionismo)
DESCRIPTION:Partendo dal fiume Serio in Crema\, seguendo il canale Vacchelli e attraversando il fiume Oglio percorreremo la campagna cremasca\, cremonese e bresciana alla scoperta di scorci naturalistici e castelli.\nA Padernello ci sarà la possibilità\, per chi lo volesse\, di pranzare in compagnia sotto un portico.\nIl percorso è prevalentemente pianeggiante e privo di difficoltà tecniche. Nel caso di una giornata particolarmente calda è consigliabile avere una buona scorta d’acqua. \nIscrizioni in sede da venerdì 06/06/25 a venerdì 13/06/25. \nScarica la locandina completa
URL:https://caicrema.it/evento/pedalando-per-castelli-cicloescursionismo/
CATEGORIES:Ciclo Escursionismo
END:VEVENT
BEGIN:VEVENT
DTSTART;TZID=Europe/Rome:20260516T080000
DTEND;TZID=Europe/Rome:20260516T170000
DTSTAMP:20260421T080647
CREATED:20260214T072306Z
LAST-MODIFIED:20260214T072306Z
UID:32535-1778918400-1778950800@caicrema.it
SUMMARY:Ciclabile della Val Seriana - Torre Boldone (CicloEscursionismo)
DESCRIPTION:Partendo da Torre Boldone percorreremo la ciclabile che costeggia il fiume Serio alternando il lato orografico destro e sinistro. \nIl percorso si svolge essenzialmente in sede protetta con attraversamenti o brevi tratti su strade consortili e provinciali. Lo sviluppo è quasi interamente pianeggiante\, a parte gli ultimi cinque chilometri\, da Ponte Selva a Clusone\, dove la strada sale in modo piuttosto regolare con una pendenza del 3%. Incontreremo diverse aree verdi per soste o per il rifornimento di acqua. Attraverseremo i comuni dislocati lungo il fiume e ci fermeremo a Clusone dove fare una visita al centro storico ed eventualmente sostare per il pranzo. \nIl rientro avverrà lungo lo stesso percorso in quasi costante discesa. \nData l’alta frequentazione nei vari tratti del percorso da parte di utenze differenti (adulti\, bambini\, famiglie\, pedoni\, biciclette)\, vige un Regolamento di Uso che si propone innanzitutto di tutelare l’ambiente\, la ciclabile e garantire a tutti i fruitori condizioni di sicurezza individuale e collettiva: REGOLAMENTO-CICLABILE.pdf \nIscrizioni in sede da martedì 5 a martedì 12 maggio. \nScarica la locandina completa
URL:https://caicrema.it/evento/ciclabile-della-val-seriana-torre-boldone-cicloescursionismo/
CATEGORIES:Ciclo Escursionismo
END:VEVENT
END:VCALENDAR