BEGIN:VCALENDAR
VERSION:2.0
PRODID:-//CAI - Club Alpino Italiano - Sezione di Crema - ECPv5.14.0.2//NONSGML v1.0//EN
CALSCALE:GREGORIAN
METHOD:PUBLISH
X-WR-CALNAME:CAI - Club Alpino Italiano - Sezione di Crema
X-ORIGINAL-URL:https://caicrema.it
X-WR-CALDESC:Eventi per CAI - Club Alpino Italiano - Sezione di Crema
REFRESH-INTERVAL;VALUE=DURATION:PT1H
X-Robots-Tag:noindex
X-PUBLISHED-TTL:PT1H
BEGIN:VTIMEZONE
TZID:Europe/Rome
BEGIN:DAYLIGHT
TZOFFSETFROM:+0100
TZOFFSETTO:+0200
TZNAME:CEST
DTSTART:20230326T010000
END:DAYLIGHT
BEGIN:STANDARD
TZOFFSETFROM:+0200
TZOFFSETTO:+0100
TZNAME:CET
DTSTART:20231029T010000
END:STANDARD
END:VTIMEZONE
BEGIN:VEVENT
DTSTART;TZID=Europe/Rome:20231130T210000
DTEND;TZID=Europe/Rome:20231130T230000
DTSTAMP:20260420T145417
CREATED:20231114T120519Z
LAST-MODIFIED:20231114T121817Z
UID:30646-1701378000-1701385200@caicrema.it
SUMMARY:Dancalia
DESCRIPTION:Foto e commenti di Marilena Terzani\nViaggio nella depressione di Afar o triangolo di Afar\, regione del Corno d’Africa\nIngresso libero
URL:https://caicrema.it/evento/dancalia/
LOCATION:CR
CATEGORIES:Cultura
END:VEVENT
END:VCALENDAR