BEGIN:VCALENDAR
VERSION:2.0
PRODID:-//CAI - Club Alpino Italiano - Sezione di Crema - ECPv5.14.0.2//NONSGML v1.0//EN
CALSCALE:GREGORIAN
METHOD:PUBLISH
X-WR-CALNAME:CAI - Club Alpino Italiano - Sezione di Crema
X-ORIGINAL-URL:https://caicrema.it
X-WR-CALDESC:Eventi per CAI - Club Alpino Italiano - Sezione di Crema
REFRESH-INTERVAL;VALUE=DURATION:PT1H
X-Robots-Tag:noindex
X-PUBLISHED-TTL:PT1H
BEGIN:VTIMEZONE
TZID:Europe/Rome
BEGIN:DAYLIGHT
TZOFFSETFROM:+0100
TZOFFSETTO:+0200
TZNAME:CEST
DTSTART:20200329T010000
END:DAYLIGHT
BEGIN:STANDARD
TZOFFSETFROM:+0200
TZOFFSETTO:+0100
TZNAME:CET
DTSTART:20201025T010000
END:STANDARD
END:VTIMEZONE
BEGIN:VEVENT
DTSTART;TZID=Europe/Rome:20200202T063000
DTEND;TZID=Europe/Rome:20200202T170000
DTSTAMP:20260423T111425
CREATED:20191209T155819Z
LAST-MODIFIED:20191209T155819Z
UID:27753-1580625000-1580662800@caicrema.it
SUMMARY:Scuola Sci Tonale
DESCRIPTION:Iscrizioni dal 3 dicembre 2019 \nCorsi per bambini (metodo Recla)\, gratuiti* per i primi 15 iscritti (*fino a 12 anni)\nCorsi per ragazzi e adulti (livello bronzo\, argento e oro)\nPARTENZA ALLA DOMENICA\, ORE 6.30\nPIAZZALE CROCE ROSSA\, CREMA\n(parcheggio autobus tra Vigili Urbani e Vigili Del Fuoco)
URL:https://caicrema.it/evento/scuola-sci-tonale-3/
LOCATION:Passo del Tonale\, Passo del Tonale -\, Ponte di legno\, Brescia\, Italia
CATEGORIES:Escursionismo
ATTACH;FMTTYPE=image/jpeg:https://caicrema.it/wp-content/uploads/2019/12/tonale.jpg
ORGANIZER;CN="Commissione%20Sci":MAILTO:sci@caicrema.it
END:VEVENT
BEGIN:VEVENT
DTSTART;TZID=Europe/Rome:20200209T063000
DTEND;TZID=Europe/Rome:20200209T170000
DTSTAMP:20260423T111425
CREATED:20191209T155909Z
LAST-MODIFIED:20191209T155909Z
UID:27755-1581229800-1581267600@caicrema.it
SUMMARY:Scuola Sci Tonale
DESCRIPTION:Iscrizioni dal 3 dicembre 2019 \nCorsi per bambini (metodo Recla)\, gratuiti* per i primi 15 iscritti (*fino a 12 anni)\nCorsi per ragazzi e adulti (livello bronzo\, argento e oro)\nPARTENZA ALLA DOMENICA\, ORE 6.30\nPIAZZALE CROCE ROSSA\, CREMA\n(parcheggio autobus tra Vigili Urbani e Vigili Del Fuoco)
URL:https://caicrema.it/evento/scuola-sci-tonale-4/
LOCATION:Passo del Tonale\, Passo del Tonale -\, Ponte di legno\, Brescia\, Italia
CATEGORIES:Escursionismo
ATTACH;FMTTYPE=image/jpeg:https://caicrema.it/wp-content/uploads/2019/12/tonale.jpg
ORGANIZER;CN="Commissione%20Sci":MAILTO:sci@caicrema.it
END:VEVENT
BEGIN:VEVENT
DTSTART;TZID=Europe/Rome:20200222T150000
DTEND;TZID=Europe/Rome:20200222T170000
DTSTAMP:20260423T111425
CREATED:20191209T162610Z
LAST-MODIFIED:20191209T162610Z
UID:27761-1582383600-1582390800@caicrema.it
SUMMARY:Du Palet
DESCRIPTION:Sabato 22 febbraio 2020 – Partenza ore 15\nPARTENZA CON MEZZI PROPRI DAL PIAZZALE CROCE ROSSA A CREMA\n(parcheggio tra Vigili Urbani e Vigili Del Fuoco) \nIscrizioni entro martedì 18 febbraio 2020 \nLa quota iscrizione comprende skipass\, noleggio pista\, tracciatura\, assistenza maestro e cauzione di 5€ che verrà restituita in biglietteria consegnando lo skipass.\nAssicurazione RC ed infortuni obbligatoria. Possibilità di noleggio attrezzatura sci/snowboard/ciaspole in loco. \nSciata in notturna con: pista baby (tapis roulant)\, pista sci libero e pista tracciata con porte in gigante\, maestro di sci per riscaldamento\, ricognizione\, cronometro e suggerimenti. E per chi non scia passeggiata tra le stelle!
URL:https://caicrema.it/evento/du-palet/
LOCATION:Val Palot\, val palot\, Italia
CATEGORIES:Escursionismo
ATTACH;FMTTYPE=image/jpeg:https://caicrema.it/wp-content/uploads/2019/12/8.jpg
ORGANIZER;CN="Commissione%20Sci":MAILTO:sci@caicrema.it
END:VEVENT
END:VCALENDAR