BEGIN:VCALENDAR
VERSION:2.0
PRODID:-//CAI - Club Alpino Italiano - Sezione di Crema - ECPv5.14.0.2//NONSGML v1.0//EN
CALSCALE:GREGORIAN
METHOD:PUBLISH
X-WR-CALNAME:CAI - Club Alpino Italiano - Sezione di Crema
X-ORIGINAL-URL:https://caicrema.it
X-WR-CALDESC:Eventi per CAI - Club Alpino Italiano - Sezione di Crema
REFRESH-INTERVAL;VALUE=DURATION:PT1H
X-Robots-Tag:noindex
X-PUBLISHED-TTL:PT1H
BEGIN:VTIMEZONE
TZID:Europe/Rome
BEGIN:DAYLIGHT
TZOFFSETFROM:+0100
TZOFFSETTO:+0200
TZNAME:CEST
DTSTART:20200329T010000
END:DAYLIGHT
BEGIN:STANDARD
TZOFFSETFROM:+0200
TZOFFSETTO:+0100
TZNAME:CET
DTSTART:20201025T010000
END:STANDARD
END:VTIMEZONE
BEGIN:VEVENT
DTSTART;TZID=Europe/Rome:20200308T073000
DTEND;TZID=Europe/Rome:20200308T170000
DTSTAMP:20260423T093409
CREATED:20191209T163404Z
LAST-MODIFIED:20191209T163404Z
UID:27764-1583652600-1583686800@caicrema.it
SUMMARY:CAI Rosa - Rifugio Sant'Emiliano
DESCRIPTION:AVVISO:\nLa gita al Rifugio Sant’Emiliano è rinviata a data da destinarsi a causa dell’emergenza coronavirus\nSCHEDA INFORMATIVA \nCarattere della gita:\nEscursionistica Rosa \nDifficoltà tecniche e pericoli oggettivi:\nNessuna se non a livello fisico \nEquipaggiamento:\nAbbigliamento da media montagna \nAttrezzatura:\nNessuna \nDislivello: \n700 mt sia in salita che in discesa \nTempo di percorrenza: \nSalita h 2\nDiscesa h 1\,30 \nRitrovo e Partenza da Crema:\nRitrovo al parcheggio Scuole Agello alle h. 07\,15\nPartenza: h.07\,30 \nPercorso automobilistico di max:\nCrema\, Valtrompia\, Lumezzane \nCoordinatore di gita: \nINIZIO ISCRIZIONI: 25/02/2020 \nFusar Bassini Mariangela 3486932945 \nBressanelli Valeria 3480615637 \nSi parte dalla Pieve di Lumezzane (492m) seguendo il sentiero CAI 362 fino alla Forcella di Vandeno (949m) da qui si prosegue sul sentiero CAI 360 fino ad arrivare al Santuario di Sant’Emiliano (1102m). \nIl rientro si effettua dal sentiero di salita.
URL:https://caicrema.it/evento/cai-rosa-rifugio-santemiliano/
LOCATION:Santuario di Sant’Emiliano\, Santuario di Sant'Emiliano\, Brescia\, Italia
CATEGORIES:Escursionismo
ATTACH;FMTTYPE=image/jpeg:https://caicrema.it/wp-content/uploads/2019/12/9.jpg
END:VEVENT
BEGIN:VEVENT
DTSTART;TZID=Europe/Rome:20200314T050000
DTEND;TZID=Europe/Rome:20200316T170000
DTSTAMP:20260423T093409
CREATED:20191209T163647Z
LAST-MODIFIED:20191209T163647Z
UID:27768-1584162000-1584378000@caicrema.it
SUMMARY:WeCai
DESCRIPTION:COLFOSCO* – 14/16 MARZO \nLOCALITÀ’ DA CONFERMARE – ISCRIZIONI ENTRO 06 MARZO
URL:https://caicrema.it/evento/wecai-2/
LOCATION:Colfosco\, Colfosco
CATEGORIES:Escursionismo
ATTACH;FMTTYPE=image/jpeg:https://caicrema.it/wp-content/uploads/2019/12/10.jpg
ORGANIZER;CN="Commissione%20Sci":MAILTO:sci@caicrema.it
END:VEVENT
BEGIN:VEVENT
DTSTART;TZID=Europe/Rome:20200315T070000
DTEND;TZID=Europe/Rome:20200315T170000
DTSTAMP:20260423T093409
CREATED:20191209T164542Z
LAST-MODIFIED:20191209T164542Z
UID:27775-1584255600-1584291600@caicrema.it
SUMMARY:Parco Fucine Di Casto
DESCRIPTION:SCHEDA INFORMATIVA \nCarattere della gita:\nPer tutti \nDifficoltà tecniche e pericoli oggettivi:\nFerrata facile \nEquipaggiamento:\nAbbigliamento da media montagna \nAttrezzatura:\nImbrago\, kit da ferrata\, Caschetto \nDislivello: \n### \nTempo di percorrenza: \n### \nRitrovo e Partenza da Crema:\nRitrovo 6:50\nPartenza: 7:00 \nPercorso automobilistico di max:\nCrema\, Brescia\, Salò\, Casto \nCoordinatore di gita:\nFrancesco Righini tel. 331 1244895 \nSI PREVEDE L’ARRIVO IN AUTO AL PARCHEGGIO DEL PARCO INTORNO ALLE 8:30. MATTINO E POMERIGGIO SI FARANNO DIVERSI PERCORSI FACILI\, PER PRENDERE CONFIDENZA CON I SENTIERI ATTREZZATI DIVERTENDOSI. TRA MATTINO E POMERIGGIO PAUSA PRANZO AL SACCO. \n 
URL:https://caicrema.it/evento/parco-fucine-di-casto/
LOCATION:Parco Fucine Di Casto\, Parco Fucine Di Casto\, Brescia\, Italia
CATEGORIES:Escursionismo
ATTACH;FMTTYPE=image/jpeg:https://caicrema.it/wp-content/uploads/2019/12/12.jpg
END:VEVENT
BEGIN:VEVENT
DTSTART;TZID=Europe/Rome:20200315T070000
DTEND;TZID=Europe/Rome:20200315T170000
DTSTAMP:20260423T093409
CREATED:20191209T164954Z
LAST-MODIFIED:20191209T164954Z
UID:27779-1584255600-1584291600@caicrema.it
SUMMARY:Corna Trentapassi
DESCRIPTION:SCHEDA INFORMATIVA \nCarattere della gita:\nEscursionisti Esperti \nDifficoltà tecniche e pericoli oggettivi:\nUna parte della salita con roccette esposte.\nPrestare attenzione! \nEquipaggiamento:\nAbbigliamento da media montagna \nAttrezzatura:\nScarponi \, bastoncini telescopici \nDislivello: \n1050 mt sia in salita che in discesa \nTempo di percorrenza: \nSalita h 2\,30 / 03\,00\nDiscesa h 2\,30 \nRitrovo e Partenza da Crema:\nRitrovo al parcheggio Scuole Agello alle h. 06\,45\nPartenza: h.07\,00 \nPercorso automobilistico di max:\nCrema\, Lago d’Iseo\, Vello. \nCoordinatore di gita:\nBettinelli Tomaso tel. 338.5011741 \nSi parte dalla galleria S.Rocco e per prati si arriva ad una santella\, poi si prosegue verso il dosso di Crecole e si esce dal bosco. \nDa qui il sentiero si fa più difficoltoso\, si sale ripidamente sulla dorsale nord con tratti esposti e divertente e non banale salita su roccette si giunge alla cima Trentapassi (mt 1248). \nBellissimo panorama a 360°. \nIl ritorno si svolge sul meno impegnativo sentiero 265 passando dal forcellino dello Zuff e scendendo fino a Vello dove termina l’escursione.
URL:https://caicrema.it/evento/corna-trentapassi/
LOCATION:Corna Trentapassi\, Corna Trentapassi\, Brescia\, Italia
CATEGORIES:Escursionismo
ATTACH;FMTTYPE=image/jpeg:https://caicrema.it/wp-content/uploads/2019/12/13.jpg
END:VEVENT
BEGIN:VEVENT
DTSTART;TZID=Europe/Rome:20200315T080000
DTEND;TZID=Europe/Rome:20200321T170000
DTSTAMP:20260423T093409
CREATED:20191211T160652Z
LAST-MODIFIED:20191211T160652Z
UID:27783-1584259200-1584810000@caicrema.it
SUMMARY:Settimana Scialpinismo
DESCRIPTION:
URL:https://caicrema.it/evento/settimana-scialpinismo/
LOCATION:Valle Aurina\, Valle Aurina\, Bolzano\, Italia
CATEGORIES:Escursionismo
ATTACH;FMTTYPE=image/jpeg:https://caicrema.it/wp-content/uploads/2019/12/14.jpg
END:VEVENT
BEGIN:VEVENT
DTSTART;TZID=Europe/Rome:20200322T060000
DTEND;TZID=Europe/Rome:20200322T170000
DTSTAMP:20260423T093409
CREATED:20191211T161158Z
LAST-MODIFIED:20191211T161158Z
UID:27787-1584856800-1584896400@caicrema.it
SUMMARY:Biciclettata
DESCRIPTION:Carattere della gita:\nper tutti \nDifficoltà tecniche e pericoli oggettivi:\nnessuna se non per impegno a livello fisico \nEquipaggiamento:\nAbbigliamento adeguato all’uso della bicicletta \nAttrezzatura:\nbicicletta propria\, kit per riparazione\, possibilità noleggio in loco \nDislivello:\ntotale percorso km 48 \nTempo di percorrenza:\nore 4 escluso soste \nRitrovo e Partenza da Crema:\nRitrovo al parcheggio Scuole Agello alle h. 05\,45\nPartenza: h.06\,00 \nPercorso automobilistico di max:\nCrema\, Milano\, A7\, A26\, A10 (Ventimiglia)\, Imperia ovest km 285 \nCoordinatore di gita: \nINIZIO ISCRIZIONI:13-03-2020 \nGhezzi Gianni 3911249935 Livraghi catiuscia tel 3392527238 \nPROGRAMMA: \nLa pista ciclabile nasce sul tracciato costiero della vecchia ferrovia a binario unico tra San Lorenzo al mare ed Ospedaletti dismessa nel 2001 e spostata a monte. La linea è stata bonificata e trasformata nell’attuale pista ciclabile\, il percorso è facile e pianeggiante\, attraversa piccoli borghi e costeggia il tipico litorale mediterraneo con tratti suggestivi ed un tempo inaccessibili. Dalla pista è possibile accedere facilmente a spiagge e scogliere.
URL:https://caicrema.it/evento/biciclettata/
LOCATION:San Lorenzo al Mare\, San Lorenzo al Mare\, Imperia\, Italia
CATEGORIES:Escursionismo
ATTACH;FMTTYPE=image/jpeg:https://caicrema.it/wp-content/uploads/2019/12/15.jpg
END:VEVENT
BEGIN:VEVENT
DTSTART;TZID=Europe/Rome:20200329T070000
DTEND;TZID=Europe/Rome:20200329T170000
DTSTAMP:20260423T093409
CREATED:20191211T161826Z
LAST-MODIFIED:20191211T161826Z
UID:27791-1585465200-1585501200@caicrema.it
SUMMARY:Parco Fucine di Casto
DESCRIPTION:SCHEDA INFORMATIVA \nCarattere della gita:\nAvvicinamento alla ferrata \nDifficoltà tecniche e pericoli oggettivi:\nrischio cadute \nEquipaggiamento:\nMedia montagna \nAttrezzatura:\ncasco / kit da ferrata / imbrago \nDislivello:\n100 m. \nTempo di percorrenza:\n3 h. \nRitrovo e Partenza da Crema:\nRitrovo parcheggio Scuole Agello 06:45\nPartenza: 07:00 \nPercorso automobilistico di max:\nCrema – Bs – Casto \nCoordinatore di gita: \nINIZIO ISCRIZIONI: \nSartorio Giovanni tel. 347-013.60.10 \nLa gita prevede percorsi di diversi livelli adatti a principianti per incominciare ad avvicinarsi al mondo delle ferrate in sicurezza.
URL:https://caicrema.it/evento/parco-fucine-di-casto-2/
LOCATION:Parco Fucine Di Casto\, Parco Fucine Di Casto\, Brescia\, Italia
CATEGORIES:Escursionismo
ATTACH;FMTTYPE=image/jpeg:https://caicrema.it/wp-content/uploads/2019/12/12.jpg
END:VEVENT
END:VCALENDAR