BEGIN:VCALENDAR
VERSION:2.0
PRODID:-//CAI - Club Alpino Italiano - Sezione di Crema - ECPv5.14.0.2//NONSGML v1.0//EN
CALSCALE:GREGORIAN
METHOD:PUBLISH
X-WR-CALNAME:CAI - Club Alpino Italiano - Sezione di Crema
X-ORIGINAL-URL:https://caicrema.it
X-WR-CALDESC:Eventi per CAI - Club Alpino Italiano - Sezione di Crema
REFRESH-INTERVAL;VALUE=DURATION:PT1H
X-Robots-Tag:noindex
X-PUBLISHED-TTL:PT1H
BEGIN:VTIMEZONE
TZID:Europe/Rome
BEGIN:DAYLIGHT
TZOFFSETFROM:+0100
TZOFFSETTO:+0200
TZNAME:CEST
DTSTART:20200329T010000
END:DAYLIGHT
BEGIN:STANDARD
TZOFFSETFROM:+0200
TZOFFSETTO:+0100
TZNAME:CET
DTSTART:20201025T010000
END:STANDARD
END:VTIMEZONE
BEGIN:VEVENT
DTSTART;TZID=Europe/Rome:20200607T063000
DTEND;TZID=Europe/Rome:20200607T170000
DTSTAMP:20260423T043719
CREATED:20191216T080740Z
LAST-MODIFIED:20191216T080740Z
UID:27829-1591511400-1591549200@caicrema.it
SUMMARY:Dosso Alto
DESCRIPTION:Carattere della gita:\nEscursionistica \nDifficoltà tecniche e pericoli oggettivi:\nNessuna \nEquipaggiamento: \nMedia montagna \nAttrezzatura: \npedule / giacca leggera \nDislivello: \n450 mt sia in salita che in discesa \nTempo di percorrenza: \nSalita h 2\nDiscesa h 1\, 30 \nRitrovo e Partenza da Crema:\nRitrovo parcheggio Scuole Agello 06:15\nPartenza: 06:30 \nPercorso automobilistico di max:\nCrema – BS –Passo Maniva \nCoordinatore di gita: \nINIZIO ISCRIZIONI: \nMarconi Gianangelo tel. 320 – 045.4820 \nPROGRAMMA: \nParcheggiata l’auto al Passo Maniva si sale in direzione Dosso Alto . Una volta arrivati in cima ci si guarderà intorno e ammirando il panorama si faranno quattro chiacchiere in compagnia.
URL:https://caicrema.it/evento/dosso-alto/
LOCATION:Dosso Alto\, Dosso Alto\, Collio\, Brescia\, Italia
CATEGORIES:Escursionismo
ATTACH;FMTTYPE=image/jpeg:https://caicrema.it/wp-content/uploads/2019/12/27.jpg
END:VEVENT
BEGIN:VEVENT
DTSTART;TZID=Europe/Rome:20200621T060000
DTEND;TZID=Europe/Rome:20200621T170000
DTSTAMP:20260423T043719
CREATED:20191216T094817Z
LAST-MODIFIED:20191216T094817Z
UID:27838-1592719200-1592758800@caicrema.it
SUMMARY:Monte delle Galline
DESCRIPTION:SCHEDA INFORMATIVA \nCarattere della gita:\nEscursionistica \nDifficoltà tecniche e pericoli oggettivi:\nNessuna \nEquipaggiamento: \nMedia montagna \nAttrezzatura: \nmaglione / pedule / giacca leggera \nDislivello: \n700 mt sia in salita che in discesa \nTempo di percorrenza: \nSalita h 2\,30\nDiscesa h 1\, 30 \nRitrovo e Partenza da Crema:\nRitrovo parcheggio Scuole Agello 05:45\nPartenza: 06:00 \nPercorso automobilistico di max:\nCrema – Bg – Roncobello \nCoordinatore di gita: \nINIZIO ISCRIZIONI: \nMoschetti Marco tel. 335 – 67.37.388 \nPROGRAMMA: \nParcheggiata l’auto alle baita di Mezzeno ci si incammina verso l’omonimo passo . Da lì il sentiero a mezza costa si raggiunge il passo laghi gemelli\, da dove parte l’ultimo tratto di sentiero ripido che porta alla vetta del monte delle galline (anche se normalmente si incontrano stambecchi ).
URL:https://caicrema.it/evento/monte-delle-galline-2/
LOCATION:Monte delle Galline\, Monte delle Galline\, Roncobello\, Bergamo\, Italia
CATEGORIES:Escursionismo
ATTACH;FMTTYPE=image/jpeg:https://caicrema.it/wp-content/uploads/2019/12/29.jpg
END:VEVENT
END:VCALENDAR