BEGIN:VCALENDAR
VERSION:2.0
PRODID:-//CAI - Club Alpino Italiano - Sezione di Crema - ECPv5.14.0.2//NONSGML v1.0//EN
CALSCALE:GREGORIAN
METHOD:PUBLISH
X-WR-CALNAME:CAI - Club Alpino Italiano - Sezione di Crema
X-ORIGINAL-URL:https://caicrema.it
X-WR-CALDESC:Eventi per CAI - Club Alpino Italiano - Sezione di Crema
REFRESH-INTERVAL;VALUE=DURATION:PT1H
X-Robots-Tag:noindex
X-PUBLISHED-TTL:PT1H
BEGIN:VTIMEZONE
TZID:Europe/Rome
BEGIN:DAYLIGHT
TZOFFSETFROM:+0100
TZOFFSETTO:+0200
TZNAME:CEST
DTSTART:20200329T010000
END:DAYLIGHT
BEGIN:STANDARD
TZOFFSETFROM:+0200
TZOFFSETTO:+0100
TZNAME:CET
DTSTART:20201025T010000
END:STANDARD
END:VTIMEZONE
BEGIN:VEVENT
DTSTART;TZID=Europe/Rome:20201011T063000
DTEND;TZID=Europe/Rome:20201011T170000
DTSTAMP:20260422T214424
CREATED:20191216T133410Z
LAST-MODIFIED:20191216T133410Z
UID:27900-1602397800-1602435600@caicrema.it
SUMMARY:L'anello di Sant'Elena
DESCRIPTION:SCHEDA INFORMATIVA \nCarattere della gita:\nEscursionistica per tutti. \nDifficoltà tecniche e pericoli oggettivi:\nNessuna se non impegnativa a livello fisico. \nEquipaggiamento:\nScarponcini da trekking e bastoncini. \nAttrezzatura:\nnessuna. \nDislivello: \nmt. 250 ca. sia in salita che in discesa. \nTempo di percorrenza:\ngiro ad anello di 3 ore circa. \nRitrovo e Partenza da Crema:\nRitrovo al parcheggio Scuole Agello alle h. 06\,15\nPartenza: h.06\,30 \nPercorso automobilistico di max:\nCrema\, Spotorno. \nCoordinatore di gita: \nISCRIZIONI ENTRO: \nGianni Ghezzi tel. 0373/ 250250\nLivraghi Catuscia cell 339 2527238 \nPROGRAMMA: \nSi tratta di una breve ma interessante escursione nell’entroterra ligure. Ammireremo la costa a cavallo tra Spotorno e Torre del Mare\, poco sopra l’isoletta di Bergeggi\, immersi nella macchia mediterranea con le sue tipiche essenze vegetali.\nIl percorso parte da Torre del Mare (chiosco Gianburrasca). Si percorre la spiaggia fino a Spotorno\, poi su strada romana si giunge a Gola di Sant’Elena. Da qui in discesa a Torre del Mare percorrendo un sentiero botanico\, infine alcune scalette ci porteranno fino a toccare il mare. Qui se avremo tempo ci potremo fermare per una sosta.
URL:https://caicrema.it/evento/lanello-di-santelena/
LOCATION:Spotorno\, Spotorno\, Savona\, Italia
CATEGORIES:Escursionismo
ATTACH;FMTTYPE=image/jpeg:https://caicrema.it/wp-content/uploads/2019/12/41.jpg
END:VEVENT
BEGIN:VEVENT
DTSTART;TZID=Europe/Rome:20201018T061500
DTEND;TZID=Europe/Rome:20201018T170000
DTSTAMP:20260422T214424
CREATED:20191216T134137Z
LAST-MODIFIED:20191216T134137Z
UID:27904-1603001700-1603040400@caicrema.it
SUMMARY:Resegone
DESCRIPTION:SCHEDA INFORMATIVA \nCarattere della gita:\nPer escursionisti. \nDifficoltà tecniche e pericoli oggettivi:\nSoliti da ambiente montano. \nEquipaggiamento:\nVestiario pesante consigliato per la stagione. \nAttrezzatura:\nAttrezzatura da escursionismo. \nDislivello:\nmt. 900 m c.ca sia in salita che in discesa. \nTempo di percorrenza:\nSalita: 2.30 h\nDiscesa: 1.30 h \nRitrovo e Partenza da Crema:\nRitrovo al parcheggio Scuole Agello ore 6:00\nPartenza ore 6:15 \nPercorso automobilistico di max:\nCrema\, Bergamo\, Almè\, Brumano \nCoordinatore di gita:\nINIZIO ISCRIZIONI: \nMauro Dossena (Cell. 333 1354983) \nPROGRAMMA: \nESCURSIONE PER GIOVANI DAI 18 AI 25 ANNI.\nOltrepassato il centro paese di Brumano si perviene ad uno slargo che precede un ulteriore restringimento della strada che porta a costeggiare la testata della valle fino a Fuipiano\, da questo slargo inizia il percorso per la salita al Resegone. Risalendo lungo i tornanti di una carrareccia i prati si tiene attenzione alle segnalazioni del sentiero che portano ad immergersi nel bosco piegando verso destra e puntando all’evidente traliccio dell’alta tensione\, che si raggiunge in circa 30-40 min da Brumano. Qui si esce momentaneamente dal bosco dove per pendii prativi della costa del Palio comincia un lungo attraversamento a mezza costa che\, superato il traliccio sulla destra\, porta dapprima in un fresco bosco di faggi per una mezzora-45 min di dolce salita fino ad un cartello indicatore che impone la svolta a sinistra. Inizia qui il tratto più faticoso della salita che prima attraverso il bosco e poi per gli scoscesi prati posti proprio sotto la vetta porta a quest’ultima ed al sottostante Rifugio Azzoni.
URL:https://caicrema.it/evento/resegone/
LOCATION:Resegone\, Resegone\, Lecco\, Italia
CATEGORIES:Escursionismo
ATTACH;FMTTYPE=image/jpeg:https://caicrema.it/wp-content/uploads/2019/12/42.jpg
END:VEVENT
BEGIN:VEVENT
DTSTART;TZID=Europe/Rome:20201025T063000
DTEND;TZID=Europe/Rome:20201025T170000
DTSTAMP:20260422T214424
CREATED:20191216T162413Z
LAST-MODIFIED:20191216T162413Z
UID:27908-1603607400-1603645200@caicrema.it
SUMMARY:Monte Marmagna
DESCRIPTION:SCHEDA INFORMATIVA \nCarattere della gita:\nEscursionisti \nDifficoltà tecniche e pericoli oggettivi:\nSentiero con un paio di punti un po’ esposti ma senza difficoltà \nEquipaggiamento:\nAbbigliamento da media montagna \nAttrezzatura:\nScarponi \, bastoncini telescopici \nDislivello: \n750 mt sia in salita che in discesa \nTempo di percorrenza: \nSalita h 2\,30 / 03\,00\nDiscesa h 2\,00 \nRitrovo e Partenza da Crema:\nRitrovo al parcheggio Scuole Agello alle h. 06\,15\nPartenza: h.06\,30 \nPercorso automobilistico di max:\nCrema\, Parma\, Berceto\, Corniglio\, Rifugio Lagdei \nCoordinatore di gita: \nBettinelli Fiorenzo tel. 3478637904\nBettinelli Tomaso tel. 338.5011741 \nPROGRAMMA: \nDal parcheggio del rifugio Lagdei tramite il sentiero 723a nella faggeta in circa 50 minuti si raggiunge il lago Santo. Il sentiero ne circoscrive la sponda settentrionale per poi proseguire in moderata pendenza\, prima nel bosco\, poi per prati per raggiungere la sella e poi la cima del Marmagna (1851 mt – 2ore).\nPer esile sentiero di cresta si scende alla sella Braiola\, si risale al omonimo monte (1819 mt) per poi ridiscendere alla bocchetta dell’Orsaro (1722 mt – 3 ore).\nDa qui inizia la discesa sul sentiero 729 nel vallone del Braiola per raggiungere prima il lago Santo \, e poi il rifugio Lagdei (ore 4\,30 – 5 totali).
URL:https://caicrema.it/evento/monte-marmagna/
LOCATION:Monte Marmagna\, Monte Marmagna\, Massa e Carrara\, Italia
CATEGORIES:Escursionismo
ATTACH;FMTTYPE=image/jpeg:https://caicrema.it/wp-content/uploads/2019/12/43.jpg
END:VEVENT
END:VCALENDAR