BEGIN:VCALENDAR
VERSION:2.0
PRODID:-//CAI - Club Alpino Italiano - Sezione di Crema - ECPv5.14.0.2//NONSGML v1.0//EN
CALSCALE:GREGORIAN
METHOD:PUBLISH
X-WR-CALNAME:CAI - Club Alpino Italiano - Sezione di Crema
X-ORIGINAL-URL:https://caicrema.it
X-WR-CALDESC:Eventi per CAI - Club Alpino Italiano - Sezione di Crema
REFRESH-INTERVAL;VALUE=DURATION:PT1H
X-Robots-Tag:noindex
X-PUBLISHED-TTL:PT1H
BEGIN:VTIMEZONE
TZID:Europe/Rome
BEGIN:DAYLIGHT
TZOFFSETFROM:+0100
TZOFFSETTO:+0200
TZNAME:CEST
DTSTART:20210328T010000
END:DAYLIGHT
BEGIN:STANDARD
TZOFFSETFROM:+0200
TZOFFSETTO:+0100
TZNAME:CET
DTSTART:20211031T010000
END:STANDARD
END:VTIMEZONE
BEGIN:VEVENT
DTSTART;TZID=Europe/Rome:20211010T083000
DTEND;TZID=Europe/Rome:20211010T180000
DTSTAMP:20260421T234629
CREATED:20211006T093759Z
LAST-MODIFIED:20211006T093759Z
UID:28777-1633854600-1633888800@caicrema.it
SUMMARY:LAGO della VACCA – rif. TITA SECCHI mt.2358
DESCRIPTION:COME ARRIVARE\nPrendere la SS 42 del Tonale\, a Esine o Breno seguire la SS 345 del Passo Crocedomini fino al rifugio Tassara\, in Bazena; qui si trova un parcheggio posto sulla sinistra della\nstrada.\nOltre il parcheggio parte una sterrata che\, seguendo il segnavia n°1\, supera dapprima il dislivello che porta in Val Fredda\, quindi\, per un lungo ma comodo sentiero quasi pianeggiante si supera anche il Passo di Val Fredda (2321 m slm) e\, traversata l’alta Val Cadino della Banca si giunge al Passo della Vacca\, dove si trova il masso a forma di bovino che dà il nome della zona. \nProseguendo su una mulattiera storica si giunge al Lago della Vacca e quindi al rifugio\, dopo un percorso di 3 ore circa per un dislivello di 600 m. \n  \nCAPO GITA:\nCSE (Commissione Sezionale Escursionismo) \nRITROVO:\nBAZENA ore 8\,30 \nEQUIPAGGIAMENTO:\nmezza montagna \nNORME ANTICOVID:\nobbligatorio GREEN PASS\, MASCHERINA\, GEL MANI \nISCRIZIONI:\nin sede\, martedì 5/10 e venerdì 8/10 \nMEZZI DI TRASPORTO:\npropri (da concordarsi in sede) \nINFO:\nMarco cell. 335 6737388\nFiorenzo cell. 347 8637904\nValeria cell. 348 0615637
URL:https://caicrema.it/evento/lago-della-vacca-rif-tita-secchi-mt-2358/
LOCATION:lago della vacca
CATEGORIES:Escursionismo
ATTACH;FMTTYPE=image/jpeg:https://caicrema.it/wp-content/uploads/2021/10/IMG_20170716_130014-scaled.jpg
END:VEVENT
END:VCALENDAR