BEGIN:VCALENDAR
VERSION:2.0
PRODID:-//CAI - Club Alpino Italiano - Sezione di Crema - ECPv5.14.0.2//NONSGML v1.0//EN
CALSCALE:GREGORIAN
METHOD:PUBLISH
X-WR-CALNAME:CAI - Club Alpino Italiano - Sezione di Crema
X-ORIGINAL-URL:https://caicrema.it
X-WR-CALDESC:Eventi per CAI - Club Alpino Italiano - Sezione di Crema
REFRESH-INTERVAL;VALUE=DURATION:PT1H
X-Robots-Tag:noindex
X-PUBLISHED-TTL:PT1H
BEGIN:VTIMEZONE
TZID:Europe/Rome
BEGIN:DAYLIGHT
TZOFFSETFROM:+0100
TZOFFSETTO:+0200
TZNAME:CEST
DTSTART:20230326T010000
END:DAYLIGHT
BEGIN:STANDARD
TZOFFSETFROM:+0200
TZOFFSETTO:+0100
TZNAME:CET
DTSTART:20231029T010000
END:STANDARD
END:VTIMEZONE
BEGIN:VEVENT
DTSTART;TZID=Europe/Rome:20230129T080000
DTEND;TZID=Europe/Rome:20230129T170000
DTSTAMP:20260420T223159
CREATED:20230102T221421Z
LAST-MODIFIED:20230114T121213Z
UID:30155-1674979200-1675011600@caicrema.it
SUMMARY:Faro Voltiano
DESCRIPTION:ATTENZIONE! Gita spostata dall’originale data del 15/01 a domenica 29/01\nDal parcheggio a pagamento vicino all’ospedale di Como seguiamo il sentiero LCPW ovvero una mulattiera dedicata ad Alda Merini che ci conduce prima all’ex convento Francescano di San Donato fino alla frazione di Brunate.  Lungo il percorso ci faranno compagnia cartelli con le poesie della famosa poetessa.\nDa Brunate\, paese considerato il balcone delle alpi\, proseguiamo imboccando la mulattiera per San Maurizio che corrisponde al sentiero n 1 Dorsale del Triangolo Lariano e Sentiero Italia.\nSi può visitare e salire in cima al faro: biglietto 2 euro. \nLe iscrizioni si ricevono in sede dal martedì 3 gennaio a venerdì 13 gennaio \nScarica la locandina completa
URL:https://caicrema.it/evento/faro-voltiano/
CATEGORIES:Escursionismo
END:VEVENT
END:VCALENDAR