BEGIN:VCALENDAR
VERSION:2.0
PRODID:-//CAI - Club Alpino Italiano - Sezione di Crema - ECPv5.14.0.2//NONSGML v1.0//EN
CALSCALE:GREGORIAN
METHOD:PUBLISH
X-WR-CALNAME:CAI - Club Alpino Italiano - Sezione di Crema
X-ORIGINAL-URL:https://caicrema.it
X-WR-CALDESC:Eventi per CAI - Club Alpino Italiano - Sezione di Crema
REFRESH-INTERVAL;VALUE=DURATION:PT1H
X-Robots-Tag:noindex
X-PUBLISHED-TTL:PT1H
BEGIN:VTIMEZONE
TZID:Europe/Rome
BEGIN:DAYLIGHT
TZOFFSETFROM:+0100
TZOFFSETTO:+0200
TZNAME:CEST
DTSTART:20230326T010000
END:DAYLIGHT
BEGIN:STANDARD
TZOFFSETFROM:+0200
TZOFFSETTO:+0100
TZNAME:CET
DTSTART:20231029T010000
END:STANDARD
END:VTIMEZONE
BEGIN:VEVENT
DTSTART;TZID=Europe/Rome:20231105T080000
DTEND;TZID=Europe/Rome:20231105T170000
DTSTAMP:20260420T064553
CREATED:20221223T135628Z
LAST-MODIFIED:20231018T110323Z
UID:30090-1699171200-1699203600@caicrema.it
SUMMARY:Monte Maddalena (CSE)
DESCRIPTION:Il primo gruppo lascerà l’auto al parcheggio nel quartiere Santa Eufemia a Brescia seguiremo il facile sentiero n 901 denominato sentiero del Bus fino alla sella della Poffa dove ci congiungeremo con il secondo gruppo.che partirà da Caionvico.\nIl secondo parcheggiata l’auto a Caionvico raggiungerà la sella percorrendo un facile sentiero alpinistico in Valmarina. Una volta ricongiunti i gruppi raggiungeremo il piccolo santuario al monte Maddalena dove pranzeremo.\nPer la discesa seguiremo il sentiero n 902 percorrendo così un giro ad anello. \nLe iscrizioni si ricevono in sede da martedi 24 ottobre a venerdi 3 novembre \nScarica la locandina completa
URL:https://caicrema.it/evento/monte-maddalena/
CATEGORIES:Escursionismo
END:VEVENT
BEGIN:VEVENT
DTSTART;TZID=Europe/Rome:20231119T080000
DTEND;TZID=Europe/Rome:20231119T170000
DTSTAMP:20260420T064553
CREATED:20221223T135838Z
LAST-MODIFIED:20231110T194602Z
UID:30094-1700380800-1700413200@caicrema.it
SUMMARY:Monte Cornagera (CSE)
DESCRIPTION:Dal parcheggio Cantul di Aviatico\, si prende il ripido sentiero che sale alla Cornagera. Dopo un po’ si prende un sentiero a sinistra e con un nuovo sentiero\, si arriva in cima alla Cornagera Sosta panoramica e poi si scende da un sentiero in cui bisogna prestare attenzione.\nScesa la placca ci si infila nel ..buco della Carolina passaggio nella roccia\, per poi risalire fino alla cima del Monte Poieto a mt. 1360. In cima c’è anche il rifugio\, per cui per il pranzo o al sacco o al rifugio.\nDiscesa per altro percorso attraverso il Labirinto della Cornagera fino ad Aviatico. Gita adatta alla stagione per le poche ore di luce. \nLe iscrizioni si ricevono in sede dal martedì 14 novembre a venerdi 18 novembre. \nScarica la locandina completa
URL:https://caicrema.it/evento/monte-cornagera/
CATEGORIES:Escursionismo
END:VEVENT
BEGIN:VEVENT
DTSTART;TZID=Europe/Rome:20231125T093000
DTEND;TZID=Europe/Rome:20231125T170000
DTSTAMP:20260420T064553
CREATED:20231113T115532Z
LAST-MODIFIED:20231113T115748Z
UID:30636-1700904600-1700931600@caicrema.it
SUMMARY:Cammina Foreste Urbane 2023 (CSE)
DESCRIPTION:In collaborazione con il Parco del Serio\, e con il patrocinio di Federparchi\, Legambiente\, Ersaf e il CAI Lombardia\, faremo una camminata lungo il Serio il mattino; il pomeriggio parteciperemo alla festa dell‘ albero mettendo a dimora nuove\npiante nella zona percorsa. Ritrovo alle ore 9.30 nel parcheggio “vigili del fuoco” a Crema. \n\nLa partenza del sentiero è da Pianengo;\nPranzo al sacco;\nPer chi lo desidera potrà partecipare anche solamente alle attività del pomeriggio che hanno inizio alle ore 14:00 facendosi trovare a Pianengo in via Papa Giovanni XXIII nei pressi dell’oratorio.\n\nLe iscrizioni si ricevono in sede fino al 24 novembre. (per i soci Cai anche solo mandando il nominativo\, data di nascite e n.° cellulare a sentieri@caicrema.it) \nScarica la locandina completa del CAI di CREMA
URL:https://caicrema.it/evento/cammina-foreste-urbane-2023/
LOCATION:Aprica (SO)
CATEGORIES:Escursionismo
END:VEVENT
END:VCALENDAR