BEGIN:VCALENDAR
VERSION:2.0
PRODID:-//CAI - Club Alpino Italiano - Sezione di Crema - ECPv5.14.0.2//NONSGML v1.0//EN
CALSCALE:GREGORIAN
METHOD:PUBLISH
X-WR-CALNAME:CAI - Club Alpino Italiano - Sezione di Crema
X-ORIGINAL-URL:https://caicrema.it
X-WR-CALDESC:Eventi per CAI - Club Alpino Italiano - Sezione di Crema
REFRESH-INTERVAL;VALUE=DURATION:PT1H
X-Robots-Tag:noindex
X-PUBLISHED-TTL:PT1H
BEGIN:VTIMEZONE
TZID:Europe/Rome
BEGIN:DAYLIGHT
TZOFFSETFROM:+0100
TZOFFSETTO:+0200
TZNAME:CEST
DTSTART:20240331T010000
END:DAYLIGHT
BEGIN:STANDARD
TZOFFSETFROM:+0200
TZOFFSETTO:+0100
TZNAME:CET
DTSTART:20241027T010000
END:STANDARD
END:VTIMEZONE
BEGIN:VEVENT
DTSTART;TZID=Europe/Rome:20240114T064500
DTEND;TZID=Europe/Rome:20240114T170000
DTSTAMP:20260420T033328
CREATED:20231227T164023Z
LAST-MODIFIED:20231228T125435Z
UID:30797-1705214700-1705251600@caicrema.it
SUMMARY:Colle di Sogno (CSE)
DESCRIPTION:Si parcheggia l’auto a Torre de Busi vicino alla chiesa di San Michele e seguendo il sentiero n 823 dapprima asfalto e poi per una bella mulattiera si raggiunge Colle di Sogno\, la piccola frazione di Carenno incastonata sul crinale tra la bergamasca e il lecchese. Una breve sosta per visitarla e poi proseguiremo sullo stesso sentiero fino a raggiungere le prime case di Valcava dove faremo sosta. \nRitrovo parcheggio scuole Galmozzi alle ore 6.45 partenza ore 7.\nLe iscrizioni si ricevono in sede martedi 9 gennaio e venerdi 12 gennaio. \nScarica la locandina completa
URL:https://caicrema.it/evento/colle-sogno/
CATEGORIES:Escursionismo
END:VEVENT
END:VCALENDAR