BEGIN:VCALENDAR
VERSION:2.0
PRODID:-//CAI - Club Alpino Italiano - Sezione di Crema - ECPv5.14.0.2//NONSGML v1.0//EN
CALSCALE:GREGORIAN
METHOD:PUBLISH
X-WR-CALNAME:CAI - Club Alpino Italiano - Sezione di Crema
X-ORIGINAL-URL:https://caicrema.it
X-WR-CALDESC:Eventi per CAI - Club Alpino Italiano - Sezione di Crema
REFRESH-INTERVAL;VALUE=DURATION:PT1H
X-Robots-Tag:noindex
X-PUBLISHED-TTL:PT1H
BEGIN:VTIMEZONE
TZID:Europe/Rome
BEGIN:DAYLIGHT
TZOFFSETFROM:+0100
TZOFFSETTO:+0200
TZNAME:CEST
DTSTART:20240331T010000
END:DAYLIGHT
BEGIN:STANDARD
TZOFFSETFROM:+0200
TZOFFSETTO:+0100
TZNAME:CET
DTSTART:20241027T010000
END:STANDARD
END:VTIMEZONE
BEGIN:VEVENT
DTSTART;TZID=Europe/Rome:20240407T064500
DTEND;TZID=Europe/Rome:20240407T170000
DTSTAMP:20260419T224025
CREATED:20231228T112853Z
LAST-MODIFIED:20231228T131600Z
UID:30830-1712472300-1712509200@caicrema.it
SUMMARY:Monte Sassello Canale e Paghera (CSE)
DESCRIPTION:Si lascia l’auto nei pressi della chiesa di Pieve Vecchia seguendo il sentiero n.457 che piuttosto ripidamente ci porterà alla cima del Sassello. Seguendo la cresta raggiungeremo il monte Canale. Scendiamo al passo Costa Verde e risaliamo facendo attenzione il sentiero n. 458 un po’ esposto e stretto ed infine arrampicandoci su due brevi e non difficili caminetti raggiungeremo anche il monte Paghera. Scenderemo verso S. Petronilla ed infine raggiungeremo Anfo. Il ritorno avverrà lungo una bella ciclo pedonale che costeggia il lago fino a raggiungere Pieve Vecchia. \nRitrovo parcheggio scuole Galmozzi alle ore 6.45 partenza ore 7 Le iscrizioni si ricevono in sede da martedi 2 aprile a venerdi 5 aprile. \nScarica la locandina completa
URL:https://caicrema.it/evento/monte-sassello-canale-paghera-idro/
CATEGORIES:Escursionismo
END:VEVENT
BEGIN:VEVENT
DTSTART;TZID=Europe/Rome:20240421T054500
DTEND;TZID=Europe/Rome:20240421T170000
DTSTAMP:20260419T224025
CREATED:20231228T112303Z
LAST-MODIFIED:20240414T190247Z
UID:30826-1713678300-1713718800@caicrema.it
SUMMARY:Monte Tisa (CSE)
DESCRIPTION:Dal Santuario di san Patrizio a Colzate di Vertova dove parcheggeremo saliremo alla Tribulina di Uni\, poi attraverso prati e boschi arriveremo in vetta al Monte Tisa\, mt. 1350.\nDalla vetta ci abbasseremo fino al rifugio alpini del gav ( Gruppo Alpini Vertova)\, dove pranzeremo.\nSi ripartirà e per anello si arriverà al Roccolo Messina. Da li con giro diverso\,  attraverso bellissimi panorami\, si arriverà a Barbata\, e poi a Rezzo\, infine al Santuario di S. Patrizio\, che si potrà visitare\, dissetarci nel bar autogestito\, completando il bel giro ad anello.\nGiro senza difficoltà ma abbastanza lungo e con un buon dislivello. \nRitrovo parcheggio scuole Galmozzi alle ore 6\,45 partenza ore 7.\nLe iscrizioni si ricevono in sede martedi 16 aprile a venerdi 19 aprile. \nScarica la locandina completa
URL:https://caicrema.it/evento/punta-caravina-palmarusso-sotto/
CATEGORIES:Escursionismo
END:VEVENT
END:VCALENDAR