BEGIN:VCALENDAR
VERSION:2.0
PRODID:-//CAI - Club Alpino Italiano - Sezione di Crema - ECPv5.14.0.2//NONSGML v1.0//EN
CALSCALE:GREGORIAN
METHOD:PUBLISH
X-WR-CALNAME:CAI - Club Alpino Italiano - Sezione di Crema
X-ORIGINAL-URL:https://caicrema.it
X-WR-CALDESC:Eventi per CAI - Club Alpino Italiano - Sezione di Crema
REFRESH-INTERVAL;VALUE=DURATION:PT1H
X-Robots-Tag:noindex
X-PUBLISHED-TTL:PT1H
BEGIN:VTIMEZONE
TZID:Europe/Rome
BEGIN:DAYLIGHT
TZOFFSETFROM:+0100
TZOFFSETTO:+0200
TZNAME:CEST
DTSTART:20260329T010000
END:DAYLIGHT
BEGIN:STANDARD
TZOFFSETFROM:+0200
TZOFFSETTO:+0100
TZNAME:CET
DTSTART:20261025T010000
END:STANDARD
END:VTIMEZONE
BEGIN:VEVENT
DTSTART;TZID=Europe/Rome:20260801T080000
DTEND;TZID=Europe/Rome:20260801T170000
DTSTAMP:20260420T103931
CREATED:20260108T211123Z
LAST-MODIFIED:20260108T211123Z
UID:32465-1785571200-1785603600@caicrema.it
SUMMARY:Cima Fontana (CSE)
DESCRIPTION:Introduzione: la Cima Fontana si trova nel settore orientale del Gruppo del Bernina lombardo. È una cima secondaria ma assai frequentata\, grazie alla facilità della via normale della Cresta NE e allo stupendo panorama sulle vette più elevate del settore orientale del gruppo e sul vasto ambiente glaciale che le circonda.\nAccesso: da Sondrio si prende la strada per la Valmalenco. Giunti a Chiesa in Valmalenco si svolta a destra\, verso Lanzada e la Val Lanterna. La strada passa dal villaggio di Campo Franscia e poi con numerosi tornanti e sempre asfaltata conduce alla località di Campo Moro. Da qui la carrozzabile prosegue sterrata a destra del primo invaso e raggiunge l’ampio piazzale sotto il muraglione della diga di Gera\, dove si parcheggia.\nDescrizione itinerario: dal parcheggio si segue la stradina in direzione della diga e la si abbandona dopo circa 100 m\, per svoltare a destra\, lungo un sentiero segnalato che in breve conduce alla casa dei guardiani. A destra di questa casa una rampa trasversale\, appesa al muraglione della diga\, permette di raggiungere la sommità dello sbarramento. Seguendo ora il cartello indicatore per Alpe Gembré e Bivacco Anghileri-Rusconi\, si prosegue a destra dell’invaso\, sulla stradina in parte scavata nella roccia. Tralasciando poi a destra il tracciato principale per l’Alpe Val Poschiavina\, si percorre il sentiero che costeggia il lago. L’aggiramento a destra di un costone roccioso comporta una discesa di una sessantina di metri\, poi si prosegue con lieve pendenza fino all’Alpe Gembré (q. 2224 m). Sopra l’alpe il sentiero segnalato volge verso E\, supera un ripido pendio con diverse svolte e conduce sul ciglio di un largo pianoro\, a circa (q. 2400 m).\nProseguendo sempre verso E\, si superano alcuni dossi e si arriva nei pressi del Passo Confinale (q. 2628 m).\nSenza raggiungere il valico si sale per prati al vicino Bivacco Anghileri-Rusconi (q. 2654 m). A sinistra del bivacco si riprendono i segnali che\, verso N\, portano a superare facilmente una fascia rocciosa\, poi si prosegue fino ad entrare nella parte superiore dell´ampio vallone\, dove sono presenti diversi laghetti. Raggiunta la sella oltre la quale fino ai primi anni del 2000 era adagiata la Vedretta del Pizzo Varuna\, si traversa verso W su terreno morenico. Seguendo sempre i segnali si risalgono le elementari rocce della cresta NE e in breve si arriva in vetta. \nIscrizioni in sede da martedì 14 a martedì 28 luglio. \nScarica la locandina completa
URL:https://caicrema.it/evento/cima-fontana-cse/
CATEGORIES:Escursionismo
END:VEVENT
BEGIN:VEVENT
DTSTART;TZID=Europe/Rome:20260829T080000
DTEND;TZID=Europe/Rome:20260830T170000
DTSTAMP:20260420T103931
CREATED:20260108T212803Z
LAST-MODIFIED:20260223T175646Z
UID:32468-1787990400-1788109200@caicrema.it
SUMMARY:GRAN PARADISO MT. 4061 (CSA ft CSE)
DESCRIPTION:1. Dal Rifugio Chabod al Ghiacciaio di Laveciau (3.200 m circa)\n• Si parte al buio seguendo le tracce ben visibili e gli ometti.\n• Il sentiero sale inizialmente su morena e poi su pietraie fino ad arrivare al ghiacciaio.\n• Qui si mettono ramponi e ci si lega in cordata. \n2. Attraversamento del ghiacciaio\n• Si segue una linea abbastanza diretta verso il Colle di Montcorvé (3.707 m).\n• La traccia si snoda tra i crepacci\, che in estate possono essere molto aperti.\n• Da qui si raggiunge la base della Schiena d’Asino\, un ampio pendio nevoso che porta verso la vetta. \n3. Tratto finale: la crestina rocciosa\n• L’ultimo tratto (dal colle a circa 3.900 m fino alla vetta) è su roccia facile\, ma esposta.\n• Si scala una breve placca e si segue una crestina che porta alla famosa “Madonnina del Gran Paradiso”. Spesso c’è una coda per il passaggio finale: un blocco roccioso dove ci si aiuta con una fune fissa (attenzione al ghiaccio). \nDiscesa\n• Si torna per lo stesso itinerario. \nIscrizioni in sede da martedì 3 a venerdì 28 aprile. \nScarica la locandina completa
URL:https://caicrema.it/evento/gran-paradiso-mt-4061-csa-ft-cse/
CATEGORIES:Alpinismo,Escursionismo
ORGANIZER;CN="Giorgio%20Nufi":MAILTO:alpinismo@caicrema.it
END:VEVENT
END:VCALENDAR