

BEGIN:VCALENDAR
VERSION:2.0
PRODID:-//CAI - Club Alpino Italiano - Sezione di Crema - ECPv5.14.0.2//NONSGML v1.0//EN
CALSCALE:GREGORIAN
METHOD:PUBLISH
X-WR-CALNAME:CAI - Club Alpino Italiano - Sezione di Crema
X-ORIGINAL-URL:https://caicrema.it
X-WR-CALDESC:Eventi per CAI - Club Alpino Italiano - Sezione di Crema
REFRESH-INTERVAL;VALUE=DURATION:PT1H
X-Robots-Tag:noindex
X-PUBLISHED-TTL:PT1H
BEGIN:VTIMEZONE
TZID:Europe/Rome
BEGIN:DAYLIGHT
TZOFFSETFROM:+0100
TZOFFSETTO:+0200
TZNAME:CEST
DTSTART:20260329T010000
END:DAYLIGHT
BEGIN:STANDARD
TZOFFSETFROM:+0200
TZOFFSETTO:+0100
TZNAME:CET
DTSTART:20261025T010000
END:STANDARD
END:VTIMEZONE
BEGIN:VEVENT
DTSTART;TZID=Europe/Rome:20260912T080000
DTEND;TZID=Europe/Rome:20260913T170000
DTSTAMP:20260420T134803
CREATED:20260108T213600Z
LAST-MODIFIED:20260301T095140Z
UID:32471-1789200000-1789318800@caicrema.it
SUMMARY:Trekking alle Odle (CSE)
DESCRIPTION:1° giorno\nPartenza dal parcheggio funivia col Raiser seguendo il sentiero n1 dopo circa 1\,45 minuti raggiungiamo il col raiser. da li inizia il nostro giro che ci permetterà di toccare diversi rifugi e malghe con vista spettacolare di tutta la val Gardena e le odle. dopo cica 3\,30 h arriveremo al rifugio Firenze.\n2° giorno\nDal rifugio si prende il sentiero n 3 ( alta via delle dolomiti 2 ) che ci porta nella valle della roa salendo poi un ripido ghiaione si arriva alla forcella Roa ( mt 2617 ). Si scende sul lato opposto fino alla forcella Fucia\, per poi scendere e imboccare il segnavia n 35 ( sentiero Adolf Munkel ) e arrivare alla malga Gasnago per una sosta. Si riprende passando per un avvallamento e raggiungere il bivio per la malga Broles.\nPoi si scende fino al parcheggio di Ranui 6 h; 500m D+;900m D-; Km 15. \nIscrizioni in sede da gennaio fino al 31 marzo. \nScarica la locandina completa
URL:https://caicrema.it/evento/trekking-alle-odle-cse/
CATEGORIES:Escursionismo
END:VEVENT
BEGIN:VEVENT
DTSTART;TZID=Europe/Rome:20260921T080000
DTEND;TZID=Europe/Rome:20260921T170000
DTSTAMP:20260420T134803
CREATED:20260108T214328Z
LAST-MODIFIED:20260108T214328Z
UID:32477-1789977600-1790010000@caicrema.it
SUMMARY:Trekking isole di SKIATHOS e SKOPELOS (CSE)
DESCRIPTION:L’isola di Skiatos è considerata il grande bosco dell’Egeo. Cammineremo in una natura lussureggiante\, visiteremo luoghi storici e raggiungeremo spiagge meravigliose dove potremo fare il bagno nelle acque turchesi dell’Egeo.\nA Skopelos faremo sosta nei luoghi del famoso film Mamma Mia\, ci godremo un bagno a Kastani beach e faremo il giro dei principali monasteri.\nSoggiorno in hotel in camere doppie/triple a Skiathos e Skopelos\nSupplemento camera singola: 60 eur\, massimo 2 camere disponibili\nPartenza: aeroporto di Orio al Serio.\nArrivo: aeroporto di Skiathos.\nPrenoteremo i biglietti al raggiungimento di 16 iscritti\, prima possibile per avere tariffe convenienti (una volta scelto l’orario ognuno potrà procedere in autonomia all’acquisto dei biglietti (la coordinatrice è disponibile per assistenza nell’acquisto).\nAlla conferma del trekking sarà richiesto il versamento di un acconto\, scadenze di acconto e saldo da concordare con Naturaliter.\nRaggiungeremo l’aeroporto di Orio al Serio in auto organizzandoci in modo da contenere il più possibile i costi per carburante e parcheggio. \nIscrizioni in sede fino ad esaurimento posti. \nScarica la locandina completa\nScarica il programma completo
URL:https://caicrema.it/evento/trekking-isole-di-skiathos-e-skopelos-cse/
CATEGORIES:Escursionismo
END:VEVENT
BEGIN:VEVENT
DTSTART;TZID=Europe/Rome:20260927T071500
DTEND;TZID=Europe/Rome:20260927T193000
DTSTAMP:20260420T134803
CREATED:20251224T135517Z
LAST-MODIFIED:20251224T140438Z
UID:32349-1790493300-1790537400@caicrema.it
SUMMARY:🟥225🟥 Chiarone (PC) Monte Sereno
DESCRIPTION:Scarica la locandina\n\n\n				\n				  \n					\n					\n				  \n				\n			\n\n				\n\n\n			  \nSentiero 225 CAI PIACENZA 
URL:https://caicrema.it/evento/2026-monte-sereno/
LOCATION:Crema Parcheggio Scuole Galmozzi\, Via Mercato\, Crema\, Italia\, 26010
CATEGORIES:Escursionismo
ATTACH;FMTTYPE=image/jpeg:https://caicrema.it/wp-content/uploads/2025/12/Monte-Sereno.jpg
ORGANIZER;CN="Leonardo%20Del%20Priore":MAILTO:sentieri@caicrema.it
END:VEVENT
END:VCALENDAR