BEGIN:VCALENDAR
VERSION:2.0
PRODID:-//CAI - Club Alpino Italiano - Sezione di Crema - ECPv5.14.0.2//NONSGML v1.0//EN
CALSCALE:GREGORIAN
METHOD:PUBLISH
X-WR-CALNAME:CAI - Club Alpino Italiano - Sezione di Crema
X-ORIGINAL-URL:https://caicrema.it
X-WR-CALDESC:Eventi per CAI - Club Alpino Italiano - Sezione di Crema
REFRESH-INTERVAL;VALUE=DURATION:PT1H
X-Robots-Tag:noindex
X-PUBLISHED-TTL:PT1H
BEGIN:VTIMEZONE
TZID:Europe/Rome
BEGIN:DAYLIGHT
TZOFFSETFROM:+0100
TZOFFSETTO:+0200
TZNAME:CEST
DTSTART:20220327T010000
END:DAYLIGHT
BEGIN:STANDARD
TZOFFSETFROM:+0200
TZOFFSETTO:+0100
TZNAME:CET
DTSTART:20221030T010000
END:STANDARD
END:VTIMEZONE
BEGIN:VEVENT
DTSTART;TZID=Europe/Rome:20220116T064500
DTEND;TZID=Europe/Rome:20220116T180000
DTSTAMP:20260421T222813
CREATED:20211213T152410Z
LAST-MODIFIED:20211213T152410Z
UID:28990-1642315500-1642356000@caicrema.it
SUMMARY:Rifugio Bagozza (mt 1400 slm) e Passo Campelli mt.1800 slm
DESCRIPTION:Ciaspolata/Escursione sociale: 15 & 16.1.2022 \nCoordinatori Logistici/Responsabili Covid 19: Catuscia Livraghi e Giovanni Pasquini \nRelatore: Livraghi Catuscia (cell.3392527238) \nSi parte da Crema il 16.1.2022 alle ore 6:45 e si raggiunge Schilpario (BG)\, si parcheggia a pagamento (Eur 5\,00) in località Fondi di Schilpario. Lasciata l’auto si\nimbocca il sentiero 417 e Passo del Vivione nr. 294 fino ad arrivare al Rifugio Bagozza (1400 mt.). Per chi se la sente si prosegue per il Passo Campelli a 1800mt. (ca) per poi ritornare dallo stesso sentiero fino a raggiungere l’auto. Per chi volesse ci sarebbe la possibilità del pranzo in rifugio. \nDislivello: Rifugio Bagozza mt. 300. Passo Campelli mt. 700. \nDifficoltà: E A I (sentiero escursionistico in ambiente innevato) \nDurata: Salita ore 3 (Passo Campelli) \nAbbigliamento: Da Escursione adeguato alla stagione in ambiente innevato. \nAttrezzatura: Normale dotazione da Trekking\, portare Ciaspole e ramponi\, artva-pala-sonda. \nsi va con l’Auto:\nPartenza: 16.1 ore 6:45 dal piazzale Ex-Agello Rientro: 16.1 ore 18:00\nregola generale: costo chilometrico da suddividere per ogni Auto/Persona \nnorme AntiCovid 19: Agli iscritti vengono consegnate le note operative ed il modulo di autocertificazione che verrà ritirato prima della partenza. Si fa obbligo di avere con sé il passaporto sanitario\, la mascherina ed il gel disinfettante a base alcool \nINFORMAZIONI DI TIPO GENERALE:\nApertura/Chiusura Iscrizioni: 14.12.2021 : 14.01.2022 \n\nVale regolamento gite CAI-Crema (i non tesserati dovranno sottoscrivere l’assicurazione)\nIl percorso potrà essere modificato o interrotto dai Coordinatori in funzione alle condizioni ambientali\, per ragioni meteo o per il verificarsi di situazioni impreviste.\nSi richiede: capacità personale commisurata alle caratteristiche e difficoltà dei percorsi\, idoneo equipaggiamento\, godere di buone condizioni di salute ed attenersi alle disposizioni del coordinatore logistico. Ciascuno deve contare sulle proprie capacità fisiche e tecniche non essendo prevista la presenza di accompagnatori (A.E.) e quindi nessun tipo di affidamento.\n\nCoordinatore Logistico: Il coordinatore Logistico cura e sovrintende solo gli aspetti pratico organizzativi\, incluso il controllo delle misure AntiCovid 19.
URL:https://caicrema.it/evento/rifugio-bagozza-mt-1400-slm-e-passo-campelli-mt-1800-slm/
LOCATION:Bagozza\, Rifugio Bagozza\, Bergamo\, Italia
CATEGORIES:Escursionismo
ATTACH;FMTTYPE=image/jpeg:https://caicrema.it/wp-content/uploads/2021/12/bagozza.jpg
END:VEVENT
BEGIN:VEVENT
DTSTART;TZID=Europe/Rome:20220123T080000
DTEND;TZID=Europe/Rome:20220123T170000
DTSTAMP:20260421T222813
CREATED:20211006T095628Z
LAST-MODIFIED:20211006T095628Z
UID:28795-1642924800-1642957200@caicrema.it
SUMMARY:CORSI SCI ALPINO\, SCI ALPINISMO e SNOWBORD
DESCRIPTION:PASSO del TONALE\n23-30 gennaio\nIscrizioni dal 30 novembre 2021 \nCorsi gratuiti fino a 12 anni compiuti\nCorsi per ragazzi e adulti (livello bronzo\, argento e oro) \nDettagli del viaggio in fase di definizione \nPer informazioni rivolgersi in sede il martedì-venerdì dalle 21 alle 23\, oppure inviare e-mail a scicaicrema@gmail.com
URL:https://caicrema.it/evento/corsi-sci-alpino-sci-alpinismo-e-snowbord/
LOCATION:Passo del Tonale\, Passo del Tonale -\, Ponte di legno\, Brescia\, Italia
CATEGORIES:Escursionismo
ATTACH;FMTTYPE=image/jpeg:https://caicrema.it/wp-content/uploads/2021/10/corso.jpg
END:VEVENT
BEGIN:VEVENT
DTSTART;TZID=Europe/Rome:20220130T080000
DTEND;TZID=Europe/Rome:20220130T170000
DTSTAMP:20260421T222813
CREATED:20211006T095730Z
LAST-MODIFIED:20211006T095730Z
UID:28798-1643529600-1643562000@caicrema.it
SUMMARY:CORSI SCI ALPINO\, SCI ALPINISMO e SNOWBORD
DESCRIPTION:PASSO del TONALE\n6-13 febbraio\nIscrizioni dal 30 novembre 2021 \nCorsi gratuiti fino a 12 anni compiuti\nCorsi per ragazzi e adulti (livello bronzo\, argento e oro) \nDettagli del viaggio in fase di definizione \nPer informazioni rivolgersi in sede il martedì-venerdì dalle 21 alle 23\, oppure inviare e-mail a scicaicrema@gmail.com
URL:https://caicrema.it/evento/corsi-sci-alpino-sci-alpinismo-e-snowbord-2/
LOCATION:Passo del Tonale\, Passo del Tonale -\, Ponte di legno\, Brescia\, Italia
CATEGORIES:Escursionismo
ATTACH;FMTTYPE=image/jpeg:https://caicrema.it/wp-content/uploads/2021/10/corso.jpg
END:VEVENT
BEGIN:VEVENT
DTSTART;TZID=Europe/Rome:20220206T080000
DTEND;TZID=Europe/Rome:20220206T170000
DTSTAMP:20260421T222813
CREATED:20220210T144352Z
LAST-MODIFIED:20220210T144352Z
UID:29106-1644134400-1644166800@caicrema.it
SUMMARY:CORSI SCI ALPINO\, SCI ALPINISMO e SNOWBORD
DESCRIPTION:PASSO del TONALE\n6-13 febbraio\nIscrizioni dal 30 novembre 2021 \nCorsi gratuiti fino a 12 anni compiuti\nCorsi per ragazzi e adulti (livello bronzo\, argento e oro) \nDettagli del viaggio in fase di definizione \nPer informazioni rivolgersi in sede il martedì-venerdì dalle 21 alle 23\, oppure inviare e-mail a scicaicrema@gmail.com
URL:https://caicrema.it/evento/corsi-sci-alpino-sci-alpinismo-e-snowbord-2-2/
LOCATION:Passo del Tonale\, Passo del Tonale -\, Ponte di legno\, Brescia\, Italia
CATEGORIES:Escursionismo
ATTACH;FMTTYPE=image/jpeg:https://caicrema.it/wp-content/uploads/2021/10/corso.jpg
END:VEVENT
BEGIN:VEVENT
DTSTART;TZID=Europe/Rome:20220212T154500
DTEND;TZID=Europe/Rome:20220212T233000
DTSTAMP:20260421T222813
CREATED:20220118T134151Z
LAST-MODIFIED:20220118T134151Z
UID:29057-1644680700-1644708600@caicrema.it
SUMMARY:CIASPOLATA NOTTURNA  RIF. 2 BAITE
DESCRIPTION:CIASPOLATA NOTTURNA RIF. 2 BAITE \nDescrizione \nSi parte da Crema il 12.2.2022 alle ore 15:45 e si raggiunge Lizzola (BG)\, si parcheggia vicino al piazzale delle piste da sci. Da li parte il sentiero che porta al rifugio Due Baite in circa 1:30” con un dislivello di circa 400 mt. attestandoci ad un altitudine di mt. 1.640 slm. con vista notturna su due delle tre Cime orobiche che superano i 3000 metri (Pizzo Redorta mt. 3038 e Pizzo Coca mt. 3052). Portare Artva\, Pala e Sonda secondo necessità. \nRitorneremo dallo stesso percorso per raggiungere l’auto e poi a proseguire per Crema\, arrivando alle ore 24:00 circa. \nDislivello: ascesa: circa 400 mt. in 1:30”\nDifficoltà: E A I (sentiero escursionistico in ambiente innevato).\nDurata:\nSalita ore 1:30\nDiscesa ore 1:15\nTotale ore 2:45 \nAbbigliamento: Da Escursione adeguato alla stagione in ambiente innevato.\nAttrezzatura: Normale dotazione da Trekking\, portare Ciaspole o Ramponi/Pila Frontale.\nSi va con l’Auto:\nPartenza: 12.2. ore 15:45 dal piazzale Ex-Agello Rientro: 12.2 ore 24:00\nCena al Rifugio Due Baite: costo circa Eur 25\,00 (anticipo 10\,00 €)\nregola generale: costo chilometrico da suddividere per ogni Auto/Persona \nnorme AntiCovid 19\nAgli iscritti vengono consegnate le note operative ed il modulo di autocertificazione che verrà ritirato prima della partenza. Si fa obbligo di avere con sé il passaporto sanitario\, la mascherina ed il gel disinfettante a base alcool. \nINFORMAZIONI DI TIPO GENERALE: \nApertura/Chiusura Iscrizioni:  1.2.2022 : 8.02.2022 (per prenotazione cena) \n\nVale regolamento gite CAI-Crema (i non tesserati dovranno sottoscrivere l’assicurazione)\nIl percorso potrà essere modificato o interrotto dai Coordinatori in funzione alle condizioni ambientali\, per ragioni meteo o per il verificarsi di situazioni impreviste.\nSi richiede: capacità personale commisurata alle caratteristiche e difficoltà dei percorsi\, idoneo equipaggiamento\, godere di buone condizioni di salute ed attenersi alle disposizioni del coordinatore logistico. Ciascuno deve contare sulle proprie capacità fisiche e tecniche non essendo prevista la presenza di accompagnatori (A.E.) e quindi nessun tipo di affidamento.\n\nCoordinatore Logistico:\nIl coordinatore Logistico cura e sovrintende solo gli aspetti pratico organizzativi\, incluso il controllo delle misure AntiCovid 19.
URL:https://caicrema.it/evento/ciaspolata-notturna-rif-2-baite/
LOCATION:Rifugio Due Baite\, Loc. Due baite\, Lizzola\, Bergamo\, 24020\, Italia
CATEGORIES:Escursionismo
ATTACH;FMTTYPE=image/jpeg:https://caicrema.it/wp-content/uploads/2022/01/dueBaite.jpg
END:VEVENT
BEGIN:VEVENT
DTSTART;TZID=Europe/Rome:20220213T080000
DTEND;TZID=Europe/Rome:20220213T170000
DTSTAMP:20260421T222814
CREATED:20220210T144416Z
LAST-MODIFIED:20220210T144416Z
UID:29108-1644739200-1644771600@caicrema.it
SUMMARY:CORSI SCI ALPINO\, SCI ALPINISMO e SNOWBORD
DESCRIPTION:PASSO del TONALE\n6-13 febbraio\nIscrizioni dal 30 novembre 2021 \nCorsi gratuiti fino a 12 anni compiuti\nCorsi per ragazzi e adulti (livello bronzo\, argento e oro) \nDettagli del viaggio in fase di definizione \nPer informazioni rivolgersi in sede il martedì-venerdì dalle 21 alle 23\, oppure inviare e-mail a scicaicrema@gmail.com
URL:https://caicrema.it/evento/corsi-sci-alpino-sci-alpinismo-e-snowbord-2-2-2/
LOCATION:Passo del Tonale\, Passo del Tonale -\, Ponte di legno\, Brescia\, Italia
CATEGORIES:Escursionismo
ATTACH;FMTTYPE=image/jpeg:https://caicrema.it/wp-content/uploads/2021/10/corso.jpg
END:VEVENT
BEGIN:VEVENT
DTSTART;TZID=Europe/Rome:20220313T072000
DTEND;TZID=Europe/Rome:20220313T170000
DTSTAMP:20260421T222814
CREATED:20220210T150441Z
LAST-MODIFIED:20220210T150441Z
UID:29116-1647156000-1647190800@caicrema.it
SUMMARY:RIF. S. EMILIANO
DESCRIPTION:Valtrompia\nAlpinismo rosa \nLe iscrizioni si ricevono in sede il martedì e venerdì entro l’8 marzo 2022 \nScarica la locandina
URL:https://caicrema.it/evento/rif-s-emiliano/
CATEGORIES:Escursionismo
ATTACH;FMTTYPE=image/jpeg:https://caicrema.it/wp-content/uploads/2019/12/9.jpg
END:VEVENT
BEGIN:VEVENT
DTSTART;TZID=Europe/Rome:20220409T080000
DTEND;TZID=Europe/Rome:20220410T170000
DTSTAMP:20260421T222814
CREATED:20220210T151123Z
LAST-MODIFIED:20220210T151123Z
UID:29128-1649491200-1649610000@caicrema.it
SUMMARY:Hiski
DESCRIPTION:Sei da sci o da snowboard? Preferisci le discese tradizionali o vuoi provare l’emozione di un freeride nella neve fresca? A Livigno hai l’imbarazzo della scelta! \nScarica la locandina
URL:https://caicrema.it/evento/hiski-3/
CATEGORIES:Escursionismo
ATTACH;FMTTYPE=image/jpeg:https://caicrema.it/wp-content/uploads/2022/02/livigno.jpg
ORGANIZER;CN="Commissione%20Sci":MAILTO:sci@caicrema.it
END:VEVENT
BEGIN:VEVENT
DTSTART;TZID=Europe/Rome:20220410T070000
DTEND;TZID=Europe/Rome:20220410T170000
DTSTAMP:20260421T222814
CREATED:20220210T151214Z
LAST-MODIFIED:20220210T151214Z
UID:29130-1649574000-1649610000@caicrema.it
SUMMARY:CORNA TRENTAPASSI
DESCRIPTION:CORNA TRENTAPASSI m. 1248 da VELLO (BS) \nScarica la locandina
URL:https://caicrema.it/evento/corna-trentapassi-2/
CATEGORIES:Escursionismo
ATTACH;FMTTYPE=image/jpeg:https://caicrema.it/wp-content/uploads/2022/02/corna.jpg
END:VEVENT
BEGIN:VEVENT
DTSTART;TZID=Europe/Rome:20220425T080000
DTEND;TZID=Europe/Rome:20220425T170000
DTSTAMP:20260421T222814
CREATED:20220210T151426Z
LAST-MODIFIED:20220210T151426Z
UID:29134-1650873600-1650906000@caicrema.it
SUMMARY:RINVIATA A DATA DA DEFINIRE - TOUR DELLA FRANCIACORTA
DESCRIPTION:RINVIATA A DATA DA DEFINIRE
URL:https://caicrema.it/evento/tour-della-franciacorta/
CATEGORIES:Escursionismo
END:VEVENT
BEGIN:VEVENT
DTSTART;TZID=Europe/Rome:20220501T060000
DTEND;TZID=Europe/Rome:20220501T235900
DTSTAMP:20260421T222814
CREATED:20220422T095150Z
LAST-MODIFIED:20220422T095150Z
UID:29367-1651384800-1651449540@caicrema.it
SUMMARY:Monte Guglielmo
DESCRIPTION:Scarica la locandina
URL:https://caicrema.it/evento/monte-guglielmo-2/
CATEGORIES:Escursionismo
ATTACH;FMTTYPE=image/jpeg:https://caicrema.it/wp-content/uploads/2022/04/guglielmo.jpg
END:VEVENT
BEGIN:VEVENT
DTSTART;TZID=Europe/Rome:20220522T060000
DTEND;TZID=Europe/Rome:20220522T235900
DTSTAMP:20260421T222814
CREATED:20220422T095512Z
LAST-MODIFIED:20220422T095512Z
UID:29371-1653199200-1653263940@caicrema.it
SUMMARY:Ferrata Minonzio
DESCRIPTION:Scarica la locandina
URL:https://caicrema.it/evento/ferrata-minonzio/
CATEGORIES:Escursionismo
END:VEVENT
BEGIN:VEVENT
DTSTART;TZID=Europe/Rome:20220522T060000
DTEND;TZID=Europe/Rome:20220522T235900
DTSTAMP:20260421T222814
CREATED:20220422T095718Z
LAST-MODIFIED:20220422T095718Z
UID:29373-1653199200-1653263940@caicrema.it
SUMMARY:Rifugio Tita Secchi
DESCRIPTION:Scarica la locandina
URL:https://caicrema.it/evento/rifugio-tita-secchi/
CATEGORIES:Escursionismo
ATTACH;FMTTYPE=image/jpeg:https://caicrema.it/wp-content/uploads/2022/04/secchi.jpg
END:VEVENT
BEGIN:VEVENT
DTSTART;TZID=Europe/Rome:20220602T060000
DTEND;TZID=Europe/Rome:20220602T235900
DTSTAMP:20260421T222814
CREATED:20220422T095830Z
LAST-MODIFIED:20220422T095830Z
UID:29375-1654149600-1654214340@caicrema.it
SUMMARY:Monte Conche
DESCRIPTION:Scarica la locandina
URL:https://caicrema.it/evento/monte-conche/
CATEGORIES:Escursionismo
END:VEVENT
BEGIN:VEVENT
DTSTART;TZID=Europe/Rome:20220605T050000
DTEND;TZID=Europe/Rome:20220605T235900
DTSTAMP:20260421T222814
CREATED:20220510T145531Z
LAST-MODIFIED:20220510T145531Z
UID:29415-1654405200-1654473540@caicrema.it
SUMMARY:Rifugio Curò
DESCRIPTION:Scarica la locandina
URL:https://caicrema.it/evento/rifugio-curo/
CATEGORIES:Escursionismo
ATTACH;FMTTYPE=image/jpeg:https://caicrema.it/wp-content/uploads/2022/05/20220605-Val_Bregaglia.jpg
END:VEVENT
BEGIN:VEVENT
DTSTART;TZID=Europe/Rome:20220612T060000
DTEND;TZID=Europe/Rome:20220612T235900
DTSTAMP:20260421T222814
CREATED:20220422T100003Z
LAST-MODIFIED:20220422T100003Z
UID:29377-1655013600-1655078340@caicrema.it
SUMMARY:Rifugio e Lago Coca
DESCRIPTION:Scarica la locandina
URL:https://caicrema.it/evento/rifugio-e-lago-coca/
CATEGORIES:Escursionismo
END:VEVENT
BEGIN:VEVENT
DTSTART;TZID=Europe/Rome:20220618T060000
DTEND;TZID=Europe/Rome:20220618T235900
DTSTAMP:20260421T222814
CREATED:20220301T111308Z
LAST-MODIFIED:20220301T111308Z
UID:29170-1655532000-1655596740@caicrema.it
SUMMARY:PIZZO TEGGIOLO
DESCRIPTION:Val Divedro (VB) \nScarica la locandina
URL:https://caicrema.it/evento/pizzo-teggiolo-2/
CATEGORIES:Escursionismo
END:VEVENT
BEGIN:VEVENT
DTSTART;TZID=Europe/Rome:20220703T080000
DTEND;TZID=Europe/Rome:20220703T170000
DTSTAMP:20260421T222814
CREATED:20220308T102200Z
LAST-MODIFIED:20220308T102200Z
UID:29179-1656835200-1656867600@caicrema.it
SUMMARY:PIZZO CORZENE
DESCRIPTION:Valseriana \nScarica la locandina
URL:https://caicrema.it/evento/pizzo-corzene/
CATEGORIES:Escursionismo
END:VEVENT
BEGIN:VEVENT
DTSTART;TZID=Europe/Rome:20220723T080000
DTEND;TZID=Europe/Rome:20220724T170000
DTSTAMP:20260421T222814
CREATED:20220308T103626Z
LAST-MODIFIED:20220308T103626Z
UID:29189-1658563200-1658682000@caicrema.it
SUMMARY:GIRO DEL CIVETTA
DESCRIPTION:Dolomiti di Zoldo \nScarica la locandina
URL:https://caicrema.it/evento/giro-del-civetta-2/
CATEGORIES:Escursionismo
END:VEVENT
BEGIN:VEVENT
DTSTART;TZID=Europe/Rome:20220827T080000
DTEND;TZID=Europe/Rome:20220829T170000
DTSTAMP:20260421T222814
CREATED:20220624T075819Z
LAST-MODIFIED:20220624T075819Z
UID:29490-1661587200-1661792400@caicrema.it
SUMMARY:ALPI BREONIE
DESCRIPTION:Scarica la locandina
URL:https://caicrema.it/evento/alpi-breonie/
CATEGORIES:Escursionismo
END:VEVENT
BEGIN:VEVENT
DTSTART;TZID=Europe/Rome:20220911T080000
DTEND;TZID=Europe/Rome:20220911T170000
DTSTAMP:20260421T222814
CREATED:20220308T104549Z
LAST-MODIFIED:20220308T104549Z
UID:29201-1662883200-1662915600@caicrema.it
SUMMARY:PIZZO TRE SIGNORI
DESCRIPTION:Orobie Valtellinesi \nScarica la locandina
URL:https://caicrema.it/evento/pizzo-tre-signori-2/
CATEGORIES:Escursionismo
END:VEVENT
BEGIN:VEVENT
DTSTART;TZID=Europe/Rome:20220915T180000
DTEND;TZID=Europe/Rome:20220915T190000
DTSTAMP:20260421T222814
CREATED:20220829T131924Z
LAST-MODIFIED:20220829T131924Z
UID:29525-1663264800-1663268400@caicrema.it
SUMMARY:SS. MESSA DEFUNTI
DESCRIPTION:SEDE DI VIA DONATI 10 CREMA\, ORE 18.
URL:https://caicrema.it/evento/ss-messa-defunti/
CATEGORIES:Escursionismo
END:VEVENT
BEGIN:VEVENT
DTSTART;TZID=Europe/Rome:20220918T053000
DTEND;TZID=Europe/Rome:20220918T235900
DTSTAMP:20260421T222814
CREATED:20220510T145952Z
LAST-MODIFIED:20220510T145952Z
UID:29420-1663479000-1663545540@caicrema.it
SUMMARY:Sentiero dei fiori
DESCRIPTION:Scarica la locandina
URL:https://caicrema.it/evento/sentiero-dei-fiori/
CATEGORIES:Escursionismo
END:VEVENT
BEGIN:VEVENT
DTSTART;TZID=Europe/Rome:20220924T080000
DTEND;TZID=Europe/Rome:20221001T170000
DTSTAMP:20260421T222814
CREATED:20220308T104710Z
LAST-MODIFIED:20220308T104710Z
UID:29203-1664006400-1664643600@caicrema.it
SUMMARY:TREKKING ASPROMONTE
DESCRIPTION:Sorprendete Aspromonte\nAll’estremo Sud della penisola italiana\, tra il mar Tirreno e il mar Jonio\, di fronte allo scenario dello stretto di Messina e all’imponente cono vulcanico dell’Etna\, sorge il Parco Nazionale dell’Aspromonte con le sue sorprese davvero infinite! Qui la natura è straordinaria e singolare\, caratterizzata dal contrasto tra la montagna con i suoi rilievi che arrivano quasi a 2000 metri e il mare che la circonda quasi come se fosse un’isola! Il programma offre la possibilità di immergersi in questo territorio tra le sue fiumare fosforescenti nelle notti di luna piena\, monoliti che ricordano la Cappadocia\, i suggestivi paesi fantasma ed un’isola “grecanica” che parla la lingua di Omero e che conserva usi e tradizioni millenari\, tramandati di casa in casa\, di focolare in focolare\, soprattutto quelle relative alla gastronomia dai forti sapori ed alla musica etnica dai ritmi coinvolgenti. \nScarica il programma \nScarica la locandina
URL:https://caicrema.it/evento/trekking-aspromonte-2/
CATEGORIES:Escursionismo
END:VEVENT
BEGIN:VEVENT
DTSTART;TZID=Europe/Rome:20221016T080000
DTEND;TZID=Europe/Rome:20221016T170000
DTSTAMP:20260421T222814
CREATED:20220308T105316Z
LAST-MODIFIED:20220308T105316Z
UID:29209-1665907200-1665939600@caicrema.it
SUMMARY:MONTE RESEGONE
DESCRIPTION:Scarica la locandina
URL:https://caicrema.it/evento/monte-resegone/
CATEGORIES:Escursionismo
END:VEVENT
BEGIN:VEVENT
DTSTART;TZID=Europe/Rome:20221023T061500
DTEND;TZID=Europe/Rome:20221023T170000
DTSTAMP:20260421T222814
CREATED:20220308T105820Z
LAST-MODIFIED:20220308T105820Z
UID:29214-1666505700-1666544400@caicrema.it
SUMMARY:MONTE MARMAGNA
DESCRIPTION:Scarica la locandina
URL:https://caicrema.it/evento/monte-marmagna-2/
CATEGORIES:Escursionismo
END:VEVENT
BEGIN:VEVENT
DTSTART;TZID=Europe/Rome:20221030T070000
DTEND;TZID=Europe/Rome:20221030T170000
DTSTAMP:20260421T222814
CREATED:20221003T100317Z
LAST-MODIFIED:20221003T100317Z
UID:29845-1667113200-1667149200@caicrema.it
SUMMARY:CASTAGNATA IN BAITA
DESCRIPTION:Scarica la locandina
URL:https://caicrema.it/evento/castagnata-in-baita/
CATEGORIES:Escursionismo
END:VEVENT
BEGIN:VEVENT
DTSTART;TZID=Europe/Rome:20221106T080000
DTEND;TZID=Europe/Rome:20221106T170000
DTSTAMP:20260421T222814
CREATED:20220308T105943Z
LAST-MODIFIED:20221014T100643Z
UID:29216-1667721600-1667754000@caicrema.it
SUMMARY:MONTE CROCE DI MUGGIO DA MORNICO
DESCRIPTION:Scarica la locandina
URL:https://caicrema.it/evento/monte-croce-di-muggio-da-mornico/
CATEGORIES:Escursionismo
END:VEVENT
BEGIN:VEVENT
DTSTART;TZID=Europe/Rome:20221113T070000
DTEND;TZID=Europe/Rome:20221113T170000
DTSTAMP:20260421T222814
CREATED:20220308T110447Z
LAST-MODIFIED:20220308T110447Z
UID:29220-1668322800-1668358800@caicrema.it
SUMMARY:Anello di Santa Elena
DESCRIPTION:Scarica la locandina
URL:https://caicrema.it/evento/anello-di-santa-elena/
CATEGORIES:Escursionismo
END:VEVENT
BEGIN:VEVENT
DTSTART;TZID=Europe/Rome:20221127T080000
DTEND;TZID=Europe/Rome:20221127T170000
DTSTAMP:20260421T222814
CREATED:20220308T110700Z
LAST-MODIFIED:20221014T100804Z
UID:29224-1669536000-1669568400@caicrema.it
SUMMARY:COLLI DI BERGAMO\, S.VIGILIO
DESCRIPTION:Scarica la locandina
URL:https://caicrema.it/evento/colli-di-bergamo-s-vigilio/
CATEGORIES:Escursionismo
END:VEVENT
END:VCALENDAR