

BEGIN:VCALENDAR
VERSION:2.0
PRODID:-//CAI - Club Alpino Italiano - Sezione di Crema - ECPv5.14.0.2//NONSGML v1.0//EN
CALSCALE:GREGORIAN
METHOD:PUBLISH
X-WR-CALNAME:CAI - Club Alpino Italiano - Sezione di Crema
X-ORIGINAL-URL:https://caicrema.it
X-WR-CALDESC:Eventi per CAI - Club Alpino Italiano - Sezione di Crema
REFRESH-INTERVAL;VALUE=DURATION:PT1H
X-Robots-Tag:noindex
X-PUBLISHED-TTL:PT1H
BEGIN:VTIMEZONE
TZID:Europe/Rome
BEGIN:DAYLIGHT
TZOFFSETFROM:+0100
TZOFFSETTO:+0200
TZNAME:CEST
DTSTART:20260329T010000
END:DAYLIGHT
BEGIN:STANDARD
TZOFFSETFROM:+0200
TZOFFSETTO:+0100
TZNAME:CET
DTSTART:20261025T010000
END:STANDARD
END:VTIMEZONE
BEGIN:VEVENT
DTSTART;TZID=Europe/Rome:20260927T071500
DTEND;TZID=Europe/Rome:20260927T193000
DTSTAMP:20260420T181813
CREATED:20251224T135517Z
LAST-MODIFIED:20251224T140438Z
UID:32349-1790493300-1790537400@caicrema.it
SUMMARY:🟥225🟥 Chiarone (PC) Monte Sereno
DESCRIPTION:Scarica la locandina\n\n\n				\n				  \n					\n					\n				  \n				\n			\n\n				\n\n\n			  \nSentiero 225 CAI PIACENZA 
URL:https://caicrema.it/evento/2026-monte-sereno/
LOCATION:Crema Parcheggio Scuole Galmozzi\, Via Mercato\, Crema\, Italia\, 26010
CATEGORIES:Escursionismo
ATTACH;FMTTYPE=image/jpeg:https://caicrema.it/wp-content/uploads/2025/12/Monte-Sereno.jpg
ORGANIZER;CN="Leonardo%20Del%20Priore":MAILTO:sentieri@caicrema.it
END:VEVENT
BEGIN:VEVENT
DTSTART;TZID=Europe/Rome:20261004T080000
DTEND;TZID=Europe/Rome:20261004T170000
DTSTAMP:20260420T181813
CREATED:20260108T215059Z
LAST-MODIFIED:20260108T215354Z
UID:32485-1791100800-1791133200@caicrema.it
SUMMARY:Rifugio Cantedoldo da Averara (CSE)
DESCRIPTION:Dalla Via porticata di Averara parte il nostro sentiero n 133 A. Passando per la località Costa per poi entrare nel bosco\, si passano Pascoli alpini e ruscelli fino a sbucare sul bel prato dove e’ situato il rifugio di nuova costruzione (2\,30 h).\nDopo la sosta per il pranzo si riprende il cammino scendendo per il sentiero 133 che porta in circa 2 ore alla frazione di Valmoresca; poi per un breve tratto su strada asfaltata si ritorna ad Averara chiudendo cosi l’anello. \nIscrizioni in sede da martedì 23 settembre a venerdì 2 ottobre. \nScarica la locandina completa
URL:https://caicrema.it/evento/rifugio-cantedoldo-da-averara-cse/
CATEGORIES:Escursionismo
END:VEVENT
BEGIN:VEVENT
DTSTART;TZID=Europe/Rome:20261011T080000
DTEND;TZID=Europe/Rome:20261011T170000
DTSTAMP:20260420T181813
CREATED:20260108T220124Z
LAST-MODIFIED:20260108T220124Z
UID:32488-1791705600-1791738000@caicrema.it
SUMMARY:Ferrata - Cima Capi (CSA ft CSE)
DESCRIPTION:Equipaggiamento consigliato: occhiali da sole\, pantaloni lunghi\, felpa\, guscio antipioggia/antivento\, scarponi o scarpe da avvicinamento\, kit ferrata a norma e in buono stato\, imbragatura a norma e in buono stato\, casco da alpinismo a norma e in buono stato\, Longe/cordino\, un moschettone a ghiera\, zaino almeno 20L con pranzo al sacco\, snack eventuali e acqua (1L consigliato).\nDescrizione: Suggestivo itinerario che percorre il versante sud-est di Cima Capi lungo antiche cenge militari\, sospese sul Lago di Garda. Parte del celebre sistema di sentieri attrezzati del Garda\, attraversa trincee\, gallerie e postazioni della Grande Guerra\, immergendo l’escursionista in un ambiente storico e panoramico unico.La difficoltà tecnica contenuta\, unita all’esposizione spettacolare sul bacino dell’Alto Garda e sulla catena del Baldo\, rende questa ferrata una delle più affascinanti e frequentate della zona. L’accesso comodo dai borghi del lago e il percorso vario la rendono ideale come prima esperienza su itinerari attrezzati per chi possiede già buona dimestichezza con la montagna. \nIscrizioni telefonicamente al coordinatore Riccardo Piacentini (3285632855) \nScarica la locandina completa
URL:https://caicrema.it/evento/ferrata-cima-capi-csa-ft-cse/
CATEGORIES:Alpinismo,Escursionismo
ORGANIZER;CN="Riccardo%20Piacentini":MAILTO:alpinismo@caicrema.it
END:VEVENT
BEGIN:VEVENT
DTSTART;TZID=Europe/Rome:20261018T080000
DTEND;TZID=Europe/Rome:20261018T170000
DTSTAMP:20260420T181813
CREATED:20260118T155010Z
LAST-MODIFIED:20260118T155010Z
UID:32523-1792310400-1792342800@caicrema.it
SUMMARY:Castagnata in baita (CSE)
DESCRIPTION:l percorso per la salita in baita verrà definito a ridosso della data dell’evento\nAvremo due alternative:\nA) salire per la strada tradizionale che parte da Stadolina.\nb) salire dal rif. Cascate.\nIn entrambe i casi giungeremo alla nostra bellissima Baita su comoda strada sterrata\, dove ci attenderanno i nostri cuochi per il pranzo a base di polenta e formaggio\, vino\, e naturalmente le castagne. La partenza per il rientro alle auto è prevista per le ore 16. Sono gradite torte e dolci vari e qualche bottiglia di buon vino (che comunque sarà fornito dall’organizzazione).\nIn caso di maltempo la castagnata avverrà nella nostra sede Cai di Crema con orario e modalità da definire. \nIscrizioni in sede da martedì 6 a venerdì 16 ottobre \nScarica la locandina completa
URL:https://caicrema.it/evento/castagnata-in-baita-cse-4/
CATEGORIES:Escursionismo
END:VEVENT
BEGIN:VEVENT
DTSTART;TZID=Europe/Rome:20261108T080000
DTEND;TZID=Europe/Rome:20261108T170000
DTSTAMP:20260420T181813
CREATED:20260108T221253Z
LAST-MODIFIED:20260108T221253Z
UID:32498-1794124800-1794157200@caicrema.it
SUMMARY:Rifugio Elisa (CSE)
DESCRIPTION:Si parcheggia a Mandello del Lario (LC)\, località Rongio\, nei parcheggi presso il campo sportivo in via Segantini. Si prosegue fino alla fine del paese\, Bar Dina\, dove inizia il sentiero 14\, dapprima in leggera discesa fino ad imboccare la Val Meria.\nDopo circa 30 minuti si attraversa un ponticello sul torrente\, con delle bellissime pozze d’acqua e cascatelle.\nDa qui il sentiero inizia a salire e in circa 15 minuti si raggiunge la località La Ferrera dove è presente una fontanella.\nDa qui il sentiero prosegue con una pendenza più decisa; arrivati al Casello dell’Aser’ la mulattiera diventa un vero e proprio sentiero\, con pendenze minori. In un’altra mezz’ora si raggiunge il rifugio Elisa\, dove pranzeremo. Il ritorno è per il medesimo percorso dell’andata. \nIscrizioni in sede da martedì 3 a venerdì 6 novembre. \nScarica la locandina completa
URL:https://caicrema.it/evento/rifugio-elisa-cse/
CATEGORIES:Escursionismo
ORGANIZER;CN="Alberto%20Locatelli":MAILTO:escursionismo@caicrema.it
END:VEVENT
BEGIN:VEVENT
DTSTART;TZID=Europe/Rome:20261122T080000
DTEND;TZID=Europe/Rome:20261122T170000
DTSTAMP:20260420T181813
CREATED:20260108T221625Z
LAST-MODIFIED:20260108T221625Z
UID:32501-1795334400-1795366800@caicrema.it
SUMMARY:Zucco Orscellera (CSE)
DESCRIPTION:Da Ceresola di Valtorta\, Val Brembana\, si prende il sentiero verso i piani di Bobbio. Si arriva attraverso i piano al rif. Lecco. Si prosegue verso il gia’ visibile Zucco Orscellera\, con bel panorama sul lago di Lecco e la Valsassina.\nRitorno per lo stesso itinerario. \nIscrizioni in sede da martedì 17 a venerdì 20 novembre. \nScarica la locandina completa
URL:https://caicrema.it/evento/zucco-orscellera-cse/
CATEGORIES:Escursionismo
END:VEVENT
END:VCALENDAR