BEGIN:VCALENDAR
VERSION:2.0
PRODID:-//CAI - Club Alpino Italiano - Sezione di Crema - ECPv5.14.0.2//NONSGML v1.0//EN
CALSCALE:GREGORIAN
METHOD:PUBLISH
X-WR-CALNAME:CAI - Club Alpino Italiano - Sezione di Crema
X-ORIGINAL-URL:https://caicrema.it
X-WR-CALDESC:Eventi per CAI - Club Alpino Italiano - Sezione di Crema
REFRESH-INTERVAL;VALUE=DURATION:PT1H
X-Robots-Tag:noindex
X-PUBLISHED-TTL:PT1H
BEGIN:VTIMEZONE
TZID:Europe/Rome
BEGIN:DAYLIGHT
TZOFFSETFROM:+0100
TZOFFSETTO:+0200
TZNAME:CEST
DTSTART:20190331T010000
END:DAYLIGHT
BEGIN:STANDARD
TZOFFSETFROM:+0200
TZOFFSETTO:+0100
TZNAME:CET
DTSTART:20191027T010000
END:STANDARD
END:VTIMEZONE
BEGIN:VEVENT
DTSTART;TZID=Europe/Rome:20191124T080000
DTEND;TZID=Europe/Rome:20191124T170000
DTSTAMP:20260423T182250
CREATED:20181214T164007Z
LAST-MODIFIED:20181214T164007Z
UID:26869-1574582400-1574614800@caicrema.it
SUMMARY:RIFUGIO RIVA
DESCRIPTION:Carattere della gita: \nEscursionisti. \nDifficoltà tecniche e pericoli oggettivi: \nLeggermente  impegnativa a livello fisico \nEquipaggiamento: \nMedia/alta montagna con giacca leggera\, e pesante. \nAttrezzatura: \nnessuna in particolare  \nDislivello:     \n850 ca. sia in salita che in discesa. \nTempo di percorrenza: \n\nsalita h 2\,30\nDiscesa h 2\n\nRitrovo e Partenza da Crema: \nRitrovo al parcheggio Scuole Agello alle h. 06:15 \nPartenza: h.6:30  \nPercorso automobilistico di max: \nCrema\,Lecco\,Baiedo  \nCoordinatore di gita: \nGiovanni Sartorio \nTel.347 0136010 \nPROGRAMMA: \nla gita prevede essere dedicata a tutti coloro che vogliano effettuare una bella gita tardo autunnale in boschi di faggi ormai spogli in attesa della prima neve. Nell’accogliervi il rifugio Riva poi farà il resto per completare una giornata di montagna/gastronomica. \nSCHEDA INFORMATIVA \nI partecipanti dopo aver preso visione del programma gita\, e dopo essersi resi conto delle eventuali difficoltà del percorso\, delle eventuali difficoltà tecniche e pericoli oggettivi (evidenziati in questa informativa)\, sono obbligati ad esprimersi favorevolmente o negativamente sulla propria autonomia di partecipazione. Dichiarano altresì di assumersi liberamente il rischio sportivo connesso\, prendono atto che l’organizzazione da parte della sezione e dei suoi coordinatori di gita volontari è annessa agli aspetti puramente logistici\, non prevede l’insorgere di alcun rapporto di accompagnamento\, inoltre sono tenuti a presentarsi con 10’ di anticipo sul luogo della partenza.Con l’iscrizione si accetta quanto sopra riportato.  \nLa gita può essere variata in toto o in parte ad insindacabile giudizio del coordinatore di gita. \nIl coordinatore di gita ha facoltà di escludere dalla gita i partecipanti che si presentassero privi della necessaria attrezzatura riportata nella presente informativa. \nNon sono ammessi alla gita coloro i quali non siano regolarmente iscritti in sede. \nTutti coloro che intendono partecipare ad una gita sociale devono iscriversi entro e non oltre: \n– il martedì precedente all’uscita. \nNon si accettano prenotazioni telefoniche.  \nIl costo dell’iscrizione per l’assicurazione è fissato per i non soci in Euro 9\,00 per le gite di un giorno\, mentre per quelle di due giorni è fissato in Euro 17\,00. L’iscrizione (per soci e non soci) è subordinata al versamento della caparra\, la caparra per il pernottamento al rifugio e l’eventuale Pullman sarà comunicata prima di ogni gita e al momento dell’iscrizione dal Coordinatore di gita. L’iscrizione alla gita comprende la copertura assicurativa in caso di morte o invalidità permanente\, e copre i costi del Soccorso Alpino. \nIl testo integrale del Regolamento è stato pubblicato sull’Annuario 2005/2006\, ed è consultabile presso la sede di via Donati\, 10.
URL:https://caicrema.it/evento/rifugio-riva/
LOCATION:Rifugio Riva\, Rifugio Riva
CATEGORIES:Escursionismo
ATTACH;FMTTYPE=image/jpeg:https://caicrema.it/wp-content/uploads/2018/12/40.jpg
END:VEVENT
END:VCALENDAR