BEGIN:VCALENDAR
VERSION:2.0
PRODID:-//CAI - Club Alpino Italiano - Sezione di Crema - ECPv5.14.0.2//NONSGML v1.0//EN
CALSCALE:GREGORIAN
METHOD:PUBLISH
X-WR-CALNAME:CAI - Club Alpino Italiano - Sezione di Crema
X-ORIGINAL-URL:https://caicrema.it
X-WR-CALDESC:Eventi per CAI - Club Alpino Italiano - Sezione di Crema
REFRESH-INTERVAL;VALUE=DURATION:PT1H
X-Robots-Tag:noindex
X-PUBLISHED-TTL:PT1H
BEGIN:VTIMEZONE
TZID:Europe/Rome
BEGIN:DAYLIGHT
TZOFFSETFROM:+0100
TZOFFSETTO:+0200
TZNAME:CEST
DTSTART:20200329T010000
END:DAYLIGHT
BEGIN:STANDARD
TZOFFSETFROM:+0200
TZOFFSETTO:+0100
TZNAME:CET
DTSTART:20201025T010000
END:STANDARD
END:VTIMEZONE
BEGIN:VEVENT
DTSTART;TZID=Europe/Rome:20200322T060000
DTEND;TZID=Europe/Rome:20200322T170000
DTSTAMP:20260423T112449
CREATED:20191211T161158Z
LAST-MODIFIED:20191211T161158Z
UID:27787-1584856800-1584896400@caicrema.it
SUMMARY:Biciclettata
DESCRIPTION:Carattere della gita:\nper tutti \nDifficoltà tecniche e pericoli oggettivi:\nnessuna se non per impegno a livello fisico \nEquipaggiamento:\nAbbigliamento adeguato all’uso della bicicletta \nAttrezzatura:\nbicicletta propria\, kit per riparazione\, possibilità noleggio in loco \nDislivello:\ntotale percorso km 48 \nTempo di percorrenza:\nore 4 escluso soste \nRitrovo e Partenza da Crema:\nRitrovo al parcheggio Scuole Agello alle h. 05\,45\nPartenza: h.06\,00 \nPercorso automobilistico di max:\nCrema\, Milano\, A7\, A26\, A10 (Ventimiglia)\, Imperia ovest km 285 \nCoordinatore di gita: \nINIZIO ISCRIZIONI:13-03-2020 \nGhezzi Gianni 3911249935 Livraghi catiuscia tel 3392527238 \nPROGRAMMA: \nLa pista ciclabile nasce sul tracciato costiero della vecchia ferrovia a binario unico tra San Lorenzo al mare ed Ospedaletti dismessa nel 2001 e spostata a monte. La linea è stata bonificata e trasformata nell’attuale pista ciclabile\, il percorso è facile e pianeggiante\, attraversa piccoli borghi e costeggia il tipico litorale mediterraneo con tratti suggestivi ed un tempo inaccessibili. Dalla pista è possibile accedere facilmente a spiagge e scogliere.
URL:https://caicrema.it/evento/biciclettata/
LOCATION:San Lorenzo al Mare\, San Lorenzo al Mare\, Imperia\, Italia
CATEGORIES:Escursionismo
ATTACH;FMTTYPE=image/jpeg:https://caicrema.it/wp-content/uploads/2019/12/15.jpg
END:VEVENT
END:VCALENDAR