BEGIN:VCALENDAR
VERSION:2.0
PRODID:-//CAI - Club Alpino Italiano - Sezione di Crema - ECPv5.14.0.2//NONSGML v1.0//EN
CALSCALE:GREGORIAN
METHOD:PUBLISH
X-WR-CALNAME:CAI - Club Alpino Italiano - Sezione di Crema
X-ORIGINAL-URL:https://caicrema.it
X-WR-CALDESC:Eventi per CAI - Club Alpino Italiano - Sezione di Crema
REFRESH-INTERVAL;VALUE=DURATION:PT1H
X-Robots-Tag:noindex
X-PUBLISHED-TTL:PT1H
BEGIN:VTIMEZONE
TZID:Europe/Rome
BEGIN:DAYLIGHT
TZOFFSETFROM:+0100
TZOFFSETTO:+0200
TZNAME:CEST
DTSTART:20200329T010000
END:DAYLIGHT
BEGIN:STANDARD
TZOFFSETFROM:+0200
TZOFFSETTO:+0100
TZNAME:CET
DTSTART:20201025T010000
END:STANDARD
END:VTIMEZONE
BEGIN:VEVENT
DTSTART;TZID=Europe/Rome:20200329T070000
DTEND;TZID=Europe/Rome:20200329T170000
DTSTAMP:20260423T111441
CREATED:20191211T161826Z
LAST-MODIFIED:20191211T161826Z
UID:27791-1585465200-1585501200@caicrema.it
SUMMARY:Parco Fucine di Casto
DESCRIPTION:SCHEDA INFORMATIVA \nCarattere della gita:\nAvvicinamento alla ferrata \nDifficoltà tecniche e pericoli oggettivi:\nrischio cadute \nEquipaggiamento:\nMedia montagna \nAttrezzatura:\ncasco / kit da ferrata / imbrago \nDislivello:\n100 m. \nTempo di percorrenza:\n3 h. \nRitrovo e Partenza da Crema:\nRitrovo parcheggio Scuole Agello 06:45\nPartenza: 07:00 \nPercorso automobilistico di max:\nCrema – Bs – Casto \nCoordinatore di gita: \nINIZIO ISCRIZIONI: \nSartorio Giovanni tel. 347-013.60.10 \nLa gita prevede percorsi di diversi livelli adatti a principianti per incominciare ad avvicinarsi al mondo delle ferrate in sicurezza.
URL:https://caicrema.it/evento/parco-fucine-di-casto-2/
LOCATION:Parco Fucine Di Casto\, Parco Fucine Di Casto\, Brescia\, Italia
CATEGORIES:Escursionismo
ATTACH;FMTTYPE=image/jpeg:https://caicrema.it/wp-content/uploads/2019/12/12.jpg
END:VEVENT
END:VCALENDAR