BEGIN:VCALENDAR
VERSION:2.0
PRODID:-//CAI - Club Alpino Italiano - Sezione di Crema - ECPv5.14.0.2//NONSGML v1.0//EN
CALSCALE:GREGORIAN
METHOD:PUBLISH
X-WR-CALNAME:CAI - Club Alpino Italiano - Sezione di Crema
X-ORIGINAL-URL:https://caicrema.it
X-WR-CALDESC:Eventi per CAI - Club Alpino Italiano - Sezione di Crema
REFRESH-INTERVAL;VALUE=DURATION:PT1H
X-Robots-Tag:noindex
X-PUBLISHED-TTL:PT1H
BEGIN:VTIMEZONE
TZID:Europe/Rome
BEGIN:DAYLIGHT
TZOFFSETFROM:+0100
TZOFFSETTO:+0200
TZNAME:CEST
DTSTART:20200329T010000
END:DAYLIGHT
BEGIN:STANDARD
TZOFFSETFROM:+0200
TZOFFSETTO:+0100
TZNAME:CET
DTSTART:20201025T010000
END:STANDARD
END:VTIMEZONE
BEGIN:VEVENT
DTSTART;TZID=Europe/Rome:20200405T070000
DTEND;TZID=Europe/Rome:20200405T170000
DTSTAMP:20260423T093516
CREATED:20191211T162911Z
LAST-MODIFIED:20191211T162911Z
UID:27793-1586070000-1586106000@caicrema.it
SUMMARY:Santuario di San Romedio
DESCRIPTION:Carattere della gita:\nEscursionista \nDifficoltà tecniche e pericoli oggettivi:\nnessuna \nEquipaggiamento:\nAbbigliamento da media montagna \nAttrezzatura:\nconsigliato il casco per chi è alto \nDislivello:\nmt 200 \nTempo di percorrenza:\nSalita h 2\,30\nDiscesa h 1\,30 \nRitrovo e Partenza da Crema:\nRitrovo al parcheggio Scuole Agello alle h. 06\,45\nPartenza: h.07\,00 \nPercorso automobilistico di max:\nCrema\, Trento nord\, SS valle di Non\, via per La Mendola \nCoordinatore di gita: \nINIZIO ISCRIZIONI:27-03-2020 \nGhezzi Gianni tel. 3911249935 \nPROGRAMMA: \nSi parte da Sanzeno (mt 641) dopo aver lasciato l’auto davanti alla chiesa e si prende il sentiero della roccia\, al termine si salgono i 131 gradini e si giunge al santuario\, si prosegue sino al cimitero e quindi fino ai laghi di Coredo e di Tavon\, si attraversa il rio Vedes fino ad arrivare alla fine del lago Tavon. Pausa pranzo\, se possibile visita all segheria veneziana\, si prosegue per il paese di Coredo percorrendo il viale dei sogni\, giunti a Coredo si prende il sentiero del maestro che ci porta a Sanzeno.
URL:https://caicrema.it/evento/santuario-di-san-romedio/
LOCATION:Santuario di San Romedio\, Santuario di San Romedio\, Predaia\, Trento\, Italia
CATEGORIES:Escursionismo
ATTACH;FMTTYPE=image/jpeg:https://caicrema.it/wp-content/uploads/2019/12/17.jpg
END:VEVENT
END:VCALENDAR