BEGIN:VCALENDAR
VERSION:2.0
PRODID:-//CAI - Club Alpino Italiano - Sezione di Crema - ECPv5.14.0.2//NONSGML v1.0//EN
CALSCALE:GREGORIAN
METHOD:PUBLISH
X-WR-CALNAME:CAI - Club Alpino Italiano - Sezione di Crema
X-ORIGINAL-URL:https://caicrema.it
X-WR-CALDESC:Eventi per CAI - Club Alpino Italiano - Sezione di Crema
REFRESH-INTERVAL;VALUE=DURATION:PT1H
X-Robots-Tag:noindex
X-PUBLISHED-TTL:PT1H
BEGIN:VTIMEZONE
TZID:Europe/Rome
BEGIN:DAYLIGHT
TZOFFSETFROM:+0100
TZOFFSETTO:+0200
TZNAME:CEST
DTSTART:20200329T010000
END:DAYLIGHT
BEGIN:STANDARD
TZOFFSETFROM:+0200
TZOFFSETTO:+0100
TZNAME:CET
DTSTART:20201025T010000
END:STANDARD
END:VTIMEZONE
BEGIN:VEVENT
DTSTART;TZID=Europe/Rome:20200418T080000
DTEND;TZID=Europe/Rome:20200420T170000
DTSTAMP:20260423T093516
CREATED:20191212T162125Z
LAST-MODIFIED:20191212T162125Z
UID:27797-1587196800-1587402000@caicrema.it
SUMMARY:Hiski
DESCRIPTION:LIVIGNO – 18/20 APRILE \nLOCALITÀ’ DA CONFERMARE – ISCRIZIONI ENTRO 10 APRILE \nPARTENZA SABATO ORE 5 CON MEZZI PROPRI DAL PIAZZALE CROCE ROSSA A CREMA\n(parcheggio tra Vigili Urbani e Vigili Del Fuoco)
URL:https://caicrema.it/evento/hiski-2/
LOCATION:Livigno\, Livigno
CATEGORIES:Escursionismo
ATTACH;FMTTYPE=image/jpeg:https://caicrema.it/wp-content/uploads/2019/12/18.jpg
ORGANIZER;CN="Commissione%20Sci":MAILTO:sci@caicrema.it
END:VEVENT
BEGIN:VEVENT
DTSTART;TZID=Europe/Rome:20200419T051500
DTEND;TZID=Europe/Rome:20200420T170000
DTSTAMP:20260423T093516
CREATED:20191212T163357Z
LAST-MODIFIED:20191212T163357Z
UID:27804-1587273300-1587402000@caicrema.it
SUMMARY:Vipiteno e Lago di Obernberg
DESCRIPTION:SCHEDA INFORMATIVA \nCarattere della gita:\nEscursionistica per tutti. \nDifficoltà tecniche e pericoli oggettivi:\nNessuna se non impegnativa a livello fisico. \nEquipaggiamento:\nMedia montagna con giacca leggera\, o pesante. \nAttrezzatura:\nnessuna. \nDislivello: \n1° gg dislivello in salita mt.100 per 9km\,\n2° gg dislivello in salita mt 290 per 10/12 km. \nTempo di percorrenza:\n2/3H il 1° gg\, 3/4h il 2° gg. \nRitrovo e Partenza da Crema:\nRitrovo al parcheggio Vigili del Fuoco alle h. 05.00\nPartenza: h.05.15 \nPercorso automobilistico di max:\nCrema\, Vipiteno\, percorsi a pedaggio. \nCoordinatore di gita: \nISCRIZIONI ENTRO: \nLivraghi Catuscia cell. 339 2527238 \nPROGRAMMA: \n1° gg: arrivati a Vipiteno inizieremo la nostra escursione ad anello in val Ridanna partendo dal castello di Wolfsthurn passando per il piccolo paese di Casateia lungo il rio Mareta. Al termine visiteremo il castello in cui e’ situato il museo della pesca e della caccia. Il costo del biglietto è di 4.5€ + 40€ per la guida (facoltativa) da suddividere per il numero dei partecipanti.\nNel pomeriggio visita a Vipiteno.\nQuota max raggiunta 1100 mt.\n2° gg: ci sposteremo con le auto in Austria ad Obernberg am Brenner 1400 mt di quota\, che dista circa 30 km da Vipiteno.\nQui una splendida vallata ai piedi dell’Obernberg Tribulaun 2780 mt\, si aprirà ai nostri occhi. A piedi raggiungeremo il lago di Obernberg 1600 mt. Neve permettendo potremo percorrere anche il giro del lago su un sentiero molto ben tenuto e marcato in circa un’ora di cammino.\nQuota max raggiunta 1650 mt.
URL:https://caicrema.it/evento/vipiteno-e-lago-di-obernberg/
LOCATION:Vipiteno\, Vipiteno\, Bolzano\, Italia
CATEGORIES:Escursionismo
ATTACH;FMTTYPE=image/jpeg:https://caicrema.it/wp-content/uploads/2019/12/21.jpg
END:VEVENT
BEGIN:VEVENT
DTSTART;TZID=Europe/Rome:20200419T061500
DTEND;TZID=Europe/Rome:20200419T170000
DTSTAMP:20260423T093516
CREATED:20191212T162825Z
LAST-MODIFIED:20191212T162825Z
UID:27800-1587276900-1587315600@caicrema.it
SUMMARY:Monte  Guglielmo
DESCRIPTION:SCHEDA INFORMATIVA \nCarattere della gita:\nEscursionisti \nDifficoltà tecniche e pericoli oggettivi:\nNessuna difficoltà tecnica \nEquipaggiamento:\nAbbigliamento da media montagna \nAttrezzatura:\nNessuna \nDislivello: \n788m sia in salita che in discesa \nTempo di percorrenza: \nSalita h 3\,00 / 03\,30\nDiscesa h 2\,30 \nRitrovo e Partenza da Crema:\nRitrovo al parcheggio Scuole Agello alle h. 06\,00\nPartenza: h.06\,15 \nPercorso automobilistico di max:\nCrema\, offanengo\, covo\, travagliato\, rodengo-saiano\, iseo\, marone\, rifugio croce di marone. \nCoordinatore di gita: \nINIZIO ISCRIZIONI: \nAlessandro Della Torre 3342477799 \nPROGRAMMA: \nSi arriva con la macchina a Rifugio Croce di Marone (m 1160).\nIn circa 2\,10 minuti si raggiunge Malga Guglielmo di sotto(1571) e si prosegue per una strada sterrata in mezzo ai pascoli.\nLa pendenza si attenua e si arriva a Malga Guglielmo di sopra(1744) caratterizzata da alcuni laghetti.\nCon un po’ di sforzo si arriva al Rifugio amici(m 1861) dove si può scorgere La cima del monte; con 15m di camminata si arriva in cima e si può ammirare un panorama a 360°.\nRitorno dallo stesso sentiero di salita.
URL:https://caicrema.it/evento/monte-guglielmo/
LOCATION:Monte Gugliemo\, Monte Guglielmo\, Brescia\, Italia
CATEGORIES:Escursionismo
ATTACH;FMTTYPE=image/jpeg:https://caicrema.it/wp-content/uploads/2019/12/20.jpg
END:VEVENT
END:VCALENDAR