BEGIN:VCALENDAR
VERSION:2.0
PRODID:-//CAI - Club Alpino Italiano - Sezione di Crema - ECPv5.14.0.2//NONSGML v1.0//EN
CALSCALE:GREGORIAN
METHOD:PUBLISH
X-WR-CALNAME:CAI - Club Alpino Italiano - Sezione di Crema
X-ORIGINAL-URL:https://caicrema.it
X-WR-CALDESC:Eventi per CAI - Club Alpino Italiano - Sezione di Crema
REFRESH-INTERVAL;VALUE=DURATION:PT1H
X-Robots-Tag:noindex
X-PUBLISHED-TTL:PT1H
BEGIN:VTIMEZONE
TZID:Europe/Rome
BEGIN:DAYLIGHT
TZOFFSETFROM:+0100
TZOFFSETTO:+0200
TZNAME:CEST
DTSTART:20200329T010000
END:DAYLIGHT
BEGIN:STANDARD
TZOFFSETFROM:+0200
TZOFFSETTO:+0100
TZNAME:CET
DTSTART:20201025T010000
END:STANDARD
END:VTIMEZONE
BEGIN:VEVENT
DTSTART;TZID=Europe/Rome:20200503T070000
DTEND;TZID=Europe/Rome:20200503T170000
DTSTAMP:20260423T075831
CREATED:20191212T165316Z
LAST-MODIFIED:20191212T165316Z
UID:27812-1588489200-1588525200@caicrema.it
SUMMARY:Punta Caravina e rif. Palmarusso di Sotto
DESCRIPTION:SCHEDA INFORMATIVA \nCarattere della gita:\nEscursionisti \nDifficoltà tecniche e pericoli oggettivi:\nNessuno \nEquipaggiamento:\nAbbigliamento da media montagna \nAttrezzatura: \nDislivello: \n650 mt in salita che in discesa \nTempo di percorrenza:\nSalita h 2\,30\nDiscesa h 1\,30 \nRitrovo e Partenza da Crema:\nRitrovo al parcheggio Scuole Agello alle h. 06\,45\nPartenza: h.07\,00 \nPercorso automobilistico di max:\nCrema\,Pisogne\, passo di Passabocche \nCoordinatore di gita: \nINIZIO ISCRIZIONI: 28 APRILE \nPaolo Maglio tel. 333 8397682 \nPROGRAMMA \nDal parcheggio di Passabocche\, si sale verso il rifugio Medelet. Continuando\na salire si arriva in cima alla Punta Caravina a mt 1850. Stupendo panorama. Dalla cima si scende a malga Palmarusso di sopra e quindi al rif. Palmarusso di sotto. Qui si sosta per il pranzo. Se sara’ aperto il rifugio \, altrimenti pranzo al sacco. Dal rif. con altro percorso si scende nei pressi del rif. Medelet e poi a Passabocche.
URL:https://caicrema.it/evento/punta-caravina-e-rif-palmarusso-di-sotto/
LOCATION:Malga Palmarusso di sotto\, Malga Palmarusso di sotto\, Brescia\, Italia
CATEGORIES:Escursionismo
ATTACH;FMTTYPE=image/jpeg:https://caicrema.it/wp-content/uploads/2019/12/22bis.jpg
END:VEVENT
END:VCALENDAR