BEGIN:VCALENDAR
VERSION:2.0
PRODID:-//CAI - Club Alpino Italiano - Sezione di Crema - ECPv5.14.0.2//NONSGML v1.0//EN
CALSCALE:GREGORIAN
METHOD:PUBLISH
X-WR-CALNAME:CAI - Club Alpino Italiano - Sezione di Crema
X-ORIGINAL-URL:https://caicrema.it
X-WR-CALDESC:Eventi per CAI - Club Alpino Italiano - Sezione di Crema
REFRESH-INTERVAL;VALUE=DURATION:PT1H
X-Robots-Tag:noindex
X-PUBLISHED-TTL:PT1H
BEGIN:VTIMEZONE
TZID:Europe/Rome
BEGIN:DAYLIGHT
TZOFFSETFROM:+0100
TZOFFSETTO:+0200
TZNAME:CEST
DTSTART:20200329T010000
END:DAYLIGHT
BEGIN:STANDARD
TZOFFSETFROM:+0200
TZOFFSETTO:+0100
TZNAME:CET
DTSTART:20201025T010000
END:STANDARD
END:VTIMEZONE
BEGIN:VEVENT
DTSTART;TZID=Europe/Rome:20200531T073000
DTEND;TZID=Europe/Rome:20200531T170000
DTSTAMP:20260423T080532
CREATED:20191216T080450Z
LAST-MODIFIED:20191216T080450Z
UID:27825-1590910200-1590944400@caicrema.it
SUMMARY:Biciclettata
DESCRIPTION:SCHEDA INFORMATIVA \nCarattere della gita:\nEscursione in Bicicletta \nDifficoltà tecniche e pericoli oggettivi:\nImpegno fisico:minimo allenamento\nPrestare attenzione! Tratto fine galleria brembilla -Zogno tratto con traffico locale \nEquipaggiamento:\nAbbigliamento adatto attività ciclistica.\nConsigliato il Caschetto.\nAttrezzatura:\nBicicletta con cambio-city bike o mountan bike\ndotata di luci anteriori e posteriori-campanello \nDislivello: \n230 mt sia in salita che in discesa-Distanza 31 Km. solo andata \nTempo di percorrenza:\nSalita h 3\,00/ 03\,30\nDiscesa h 2\,30 \nRitrovo e Partenza da Crema:\nRitrovo al parcheggio Scuole Agello alle h. 07\,15\nPartenza: h.07\,30 \nPercorso automobilistico di max:\nCrema\,Villa D’Almè \nCoordinatore di gita:\nGiorgio Portesani tel.347.2386487\nComandulli Rino tel.335.5824870 \nItinerario ideale per una gita di giornata\, anche in piena estate visto che il fiume e la quota (si arriva a 536 metri sul livello del mare) assicurano un po’ di refrigerio anche in luglio e agosto. Il percorso è in leggera salita\, ma il dislivello totale supera di poco i 200 metri. La pista ciclabile segue il corso del fiume Brembo ed è stata ricavata dalla vecchia linea ferroviaria\, ormai dismessa.\nhttp://www.bicitalia.org/it/percorsi/104-pista-ciclabile-della-val-brembana\nA partire dalle 10 di sabato 6 luglio verrà aperto al transito di 8 km. il tratto di pista ciclopedonale della Valbrembana nel territorio comunale di Sedrina\,Villa d’Almè-Zogno
URL:https://caicrema.it/evento/biciclettata-2/
LOCATION:Ciclovia della valle Brembana\, Piazza Brembana\, Bergamo\, Italia
CATEGORIES:Escursionismo
ATTACH;FMTTYPE=image/jpeg:https://caicrema.it/wp-content/uploads/2019/12/26.jpg
END:VEVENT
END:VCALENDAR