BEGIN:VCALENDAR
VERSION:2.0
PRODID:-//CAI - Club Alpino Italiano - Sezione di Crema - ECPv5.14.0.2//NONSGML v1.0//EN
CALSCALE:GREGORIAN
METHOD:PUBLISH
X-WR-CALNAME:CAI - Club Alpino Italiano - Sezione di Crema
X-ORIGINAL-URL:https://caicrema.it
X-WR-CALDESC:Eventi per CAI - Club Alpino Italiano - Sezione di Crema
REFRESH-INTERVAL;VALUE=DURATION:PT1H
X-Robots-Tag:noindex
X-PUBLISHED-TTL:PT1H
BEGIN:VTIMEZONE
TZID:Europe/Rome
BEGIN:DAYLIGHT
TZOFFSETFROM:+0100
TZOFFSETTO:+0200
TZNAME:CEST
DTSTART:20200329T010000
END:DAYLIGHT
BEGIN:STANDARD
TZOFFSETFROM:+0200
TZOFFSETTO:+0100
TZNAME:CET
DTSTART:20201025T010000
END:STANDARD
END:VTIMEZONE
BEGIN:VEVENT
DTSTART;TZID=Europe/Rome:20200705T060000
DTEND;TZID=Europe/Rome:20200711T170000
DTSTAMP:20260423T043825
CREATED:20191216T102345Z
LAST-MODIFIED:20191216T102345Z
UID:27860-1593928800-1594486800@caicrema.it
SUMMARY:Trekking Val Venosta
DESCRIPTION:SCHEDA INFORMATIVA \nCarattere della gita:\nEscursionistica \nDifficoltà tecniche e pericoli oggettivi:\nper escursionisti \nEquipaggiamento: \nMedia montagna \nAttrezzatura: \npedule / mantella / giacca a vento \nDislivello: \n700 m. di media al giorno \nTempo di percorrenza: \ndalle 5 alle 7 ore al giorno di cammino \nRitrovo e Partenza da Crema:\nRitrovo parcheggio Scuole Agello 05:45\nPartenza: 06:00 \nPercorso automobilistico di max:\nCrema – Bolzano – Malles ( Venosta) \nCoordinatore di gita: \nINIZIO ISCRIZIONI: \nFusar Bassini Giansesto tel. 0373 – 68.504 \nPROGRAMMA \nLa domenica e il lunedì è dedicata alla visita della Val Venosta\, mentre i restanti giorni vedranno un giro per i rifugi & malghe nella zona di Solda.
URL:https://caicrema.it/evento/trekking-val-venosta/
LOCATION:Malles Venosta\, Malles Venosta\, Bolzano\, Italia
CATEGORIES:Escursionismo
ATTACH;FMTTYPE=image/jpeg:https://caicrema.it/wp-content/uploads/2019/12/31.jpg
END:VEVENT
END:VCALENDAR