BEGIN:VCALENDAR
VERSION:2.0
PRODID:-//CAI - Club Alpino Italiano - Sezione di Crema - ECPv5.14.0.2//NONSGML v1.0//EN
CALSCALE:GREGORIAN
METHOD:PUBLISH
X-WR-CALNAME:CAI - Club Alpino Italiano - Sezione di Crema
X-ORIGINAL-URL:https://caicrema.it
X-WR-CALDESC:Eventi per CAI - Club Alpino Italiano - Sezione di Crema
REFRESH-INTERVAL;VALUE=DURATION:PT1H
X-Robots-Tag:noindex
X-PUBLISHED-TTL:PT1H
BEGIN:VTIMEZONE
TZID:Europe/Rome
BEGIN:DAYLIGHT
TZOFFSETFROM:+0100
TZOFFSETTO:+0200
TZNAME:CEST
DTSTART:20200329T010000
END:DAYLIGHT
BEGIN:STANDARD
TZOFFSETFROM:+0200
TZOFFSETTO:+0100
TZNAME:CET
DTSTART:20201025T010000
END:STANDARD
END:VTIMEZONE
BEGIN:VEVENT
DTSTART;TZID=Europe/Rome:20200719T060000
DTEND;TZID=Europe/Rome:20200719T170000
DTSTAMP:20260423T043824
CREATED:20191216T103303Z
LAST-MODIFIED:20191216T103303Z
UID:27864-1595138400-1595178000@caicrema.it
SUMMARY:Pizzo di Petto Vigna Vaga
DESCRIPTION:SCHEDA INFORMATIVA \nCarattere della gita:\nEscursionisti Esperti \nDifficoltà tecniche e pericoli oggettivi:\nTratti franosi e un poco esposti e canalino attrezzato con catene \nEquipaggiamento:\nAbbigliamento da media montagna \nAttrezzatura:\nNessuna \nDislivello:\n1500 m \nTempo di percorrenza:\nSalita h 4\,30\nDiscesa h 3\,30 \nRitrovo e Partenza da Crema:\nRitrovo al parcheggio della Stazione (buca) alle h. 05\,45 \nPartenza:\nh.06\,00 \nPercorso automobilistico di max:\nCrema\, Nembro\, Ponte Nossa\, Gandellino\, Tezzi Alti. \nCoordinatore di gita:\nINIZIO ISCRIZIONI:\nElena Sangiovanni tel. 338.3411599 – Simone Scanzi \nPROGRAMMA: \nDa Tezzi Alti in circa 30 min si arriva alla fonte S. Carlo. Attraversato il torrente si prosegue fino all’incrocio con il sentiero dell’Orso dove proseguiamo a sx fino al lago Spigorel. Superato il lago incrociamo il sentiero delle Orobie 401 che a dx va verso il vallone detritico che porta al Passo di Petto.\nSaliamo a dx del passo fino alla cima del Pizzo di Petto (2270 m) per poi riprendere il 401 che dal Passo di Petto arriva al Passo di Fontanamora. Da qui a dx in circa 30 min si sale in vetta al monte Vigna Vaga (2332 m).\nPer la discesa\, dopo essere tornati al Passo di Fontanamora\, si prosegue in direzione Passo degli Omini per poi deviare verso dx fino alla Baita Zuccotto e poi ancora a dx fino al bivio per il lago Spigorel / sentiero dell’Orso incontrato in salita. Da qui scendiamo alle autolungo la strada già percorsa in salita.
URL:https://caicrema.it/evento/pizzo-di-petto-vigna-vaga/
LOCATION:Tezzi Alti\, Gandellino\, Bergamo\, Italia
CATEGORIES:Escursionismo
ATTACH;FMTTYPE=image/jpeg:https://caicrema.it/wp-content/uploads/2019/12/32.jpg
END:VEVENT
END:VCALENDAR