BEGIN:VCALENDAR
VERSION:2.0
PRODID:-//CAI - Club Alpino Italiano - Sezione di Crema - ECPv5.14.0.2//NONSGML v1.0//EN
CALSCALE:GREGORIAN
METHOD:PUBLISH
X-WR-CALNAME:CAI - Club Alpino Italiano - Sezione di Crema
X-ORIGINAL-URL:https://caicrema.it
X-WR-CALDESC:Eventi per CAI - Club Alpino Italiano - Sezione di Crema
REFRESH-INTERVAL;VALUE=DURATION:PT1H
X-Robots-Tag:noindex
X-PUBLISHED-TTL:PT1H
BEGIN:VTIMEZONE
TZID:Europe/Rome
BEGIN:DAYLIGHT
TZOFFSETFROM:+0100
TZOFFSETTO:+0200
TZNAME:CEST
DTSTART:20200329T010000
END:DAYLIGHT
BEGIN:STANDARD
TZOFFSETFROM:+0200
TZOFFSETTO:+0100
TZNAME:CET
DTSTART:20201025T010000
END:STANDARD
END:VTIMEZONE
BEGIN:VEVENT
DTSTART;TZID=Europe/Rome:20201108T063000
DTEND;TZID=Europe/Rome:20201108T170000
DTSTAMP:20260422T215345
CREATED:20191220T160027Z
LAST-MODIFIED:20191220T160027Z
UID:27916-1604817000-1604854800@caicrema.it
SUMMARY:Rifugio Buzzoni
DESCRIPTION:SCHEDA INFORMATIVA \nCarattere della gita:\nEscursionistica \nDifficoltà tecniche e pericoli oggettivi:\nNessuna \nEquipaggiamento: \nMedia montagna \nAttrezzatura: \npedule / giacca leggera \nDislivello: \n870 mt sia in salita che in discesa \nTempo di percorrenza: \nSalita h 2\,30\nDiscesa h 2\, 00 \nRitrovo e Partenza da Crema:\nRitrovo parcheggio Scuole Agello 06:15\nPartenza: 06:30 \nPercorso automobilistico di max:\nCrema – Lecco – Barzio \nCoordinatore di gita: \nISCRIZIONI ENTRO: \nSartorio Giovanni tel. 347 – 013.60.10 \nPROGRAMMA: \nDal parcheggio dell’ovovia si imbocca la stradina sulla destra che indica già l’accesso al rifugio\, dapprima nel bosco e lasciato il bivio per i piani di Bobbio sulla destra si incominciano a vedere i primi prati raggiungendo le case di Nava. Più avanti inizia la parte di sentiero con alcune serpentine che porterà all’alpe Tee\, da lì in 40’ si raggiungerà il rifugio a quota 1560 mt.
URL:https://caicrema.it/evento/rifugio-buzzoni/
LOCATION:Rifugio Buzzoni\, Rifugio Buzzoni\, Introbio\, Lecco\, Italia
CATEGORIES:Escursionismo
ATTACH;FMTTYPE=image/jpeg:https://caicrema.it/wp-content/uploads/2019/12/45.jpg
END:VEVENT
END:VCALENDAR