BEGIN:VCALENDAR
VERSION:2.0
PRODID:-//CAI - Club Alpino Italiano - Sezione di Crema - ECPv5.14.0.2//NONSGML v1.0//EN
CALSCALE:GREGORIAN
METHOD:PUBLISH
X-WR-CALNAME:CAI - Club Alpino Italiano - Sezione di Crema
X-ORIGINAL-URL:https://caicrema.it
X-WR-CALDESC:Eventi per CAI - Club Alpino Italiano - Sezione di Crema
REFRESH-INTERVAL;VALUE=DURATION:PT1H
X-Robots-Tag:noindex
X-PUBLISHED-TTL:PT1H
BEGIN:VTIMEZONE
TZID:Europe/Rome
BEGIN:DAYLIGHT
TZOFFSETFROM:+0100
TZOFFSETTO:+0200
TZNAME:CEST
DTSTART:20200329T010000
END:DAYLIGHT
BEGIN:STANDARD
TZOFFSETFROM:+0200
TZOFFSETTO:+0100
TZNAME:CET
DTSTART:20201025T010000
END:STANDARD
END:VTIMEZONE
BEGIN:VEVENT
DTSTART;TZID=Europe/Rome:20201115T070000
DTEND;TZID=Europe/Rome:20201115T170000
DTSTAMP:20260422T215427
CREATED:20191220T161028Z
LAST-MODIFIED:20191220T161028Z
UID:27920-1605423600-1605459600@caicrema.it
SUMMARY:Monte Cornagera e Monte Poieto
DESCRIPTION:SCHEDA INFORMATIVA \nCarattere della gita:\nEscursionisti \nDifficoltà tecniche e pericoli oggettivi:\nnessuna \nEquipaggiamento:\nAbbigliamento da media montagna \nAttrezzatura: \nDislivello: \n500 mt sia in salita che in discesa \nTempo di percorrenza: \nSalita h 2\,15\nDiscesa h 1\,30 \nRitrovo e Partenza da Crema:\nRitrovo al parcheggio Scuole Agello alle h. 06\,45\nPartenza: h.07\,00 \nPercorso automobilistico di max:\nCrema\, Selvino\, Aviatico \nCoordinatore di gita: \nINIZIO ISCRIZIONI: 6 NOVEMBRE 2020 \nPaolo Maglio 333 8397682 \nPROGRAMMA \nDal parcheggio Cantul di Aviatico\, si prende il ripido sentiero che sale alla Cornagera . Dopo un po’ si prende un sentiero a sinistra e con un nuovo sentiero\, si arriva in cima alla Cornagera\nSosta panoramica e poi si scende da un sentiero in cui bisogna prestare attenzione.\nScesa la placca ci si infila nel ..buco della carolina passaggio nella roccia\, per poi risalire fino alla cima del Monte Poieto a mt. 1360.In cima ce’ anche il rifugio\, per cui per il pranzo o al sacco o al rifugio. Discesa per altro percorso attraverso il Labirinto della Cornagera fino ad Aviatico.
URL:https://caicrema.it/evento/monte-cornagera-e-monte-poieto/
LOCATION:Monte Cornagera\, Monte Cornagera\, Bergamo\, Italia
CATEGORIES:Escursionismo
ATTACH;FMTTYPE=image/jpeg:https://caicrema.it/wp-content/uploads/2019/12/46.jpg
END:VEVENT
END:VCALENDAR