BEGIN:VCALENDAR
VERSION:2.0
PRODID:-//CAI - Club Alpino Italiano - Sezione di Crema - ECPv5.14.0.2//NONSGML v1.0//EN
CALSCALE:GREGORIAN
METHOD:PUBLISH
X-WR-CALNAME:CAI - Club Alpino Italiano - Sezione di Crema
X-ORIGINAL-URL:https://caicrema.it
X-WR-CALDESC:Eventi per CAI - Club Alpino Italiano - Sezione di Crema
REFRESH-INTERVAL;VALUE=DURATION:PT1H
X-Robots-Tag:noindex
X-PUBLISHED-TTL:PT1H
BEGIN:VTIMEZONE
TZID:Europe/Rome
BEGIN:DAYLIGHT
TZOFFSETFROM:+0100
TZOFFSETTO:+0200
TZNAME:CEST
DTSTART:20200329T010000
END:DAYLIGHT
BEGIN:STANDARD
TZOFFSETFROM:+0200
TZOFFSETTO:+0100
TZNAME:CET
DTSTART:20201025T010000
END:STANDARD
END:VTIMEZONE
BEGIN:VEVENT
DTSTART;TZID=Europe/Rome:20201129T073000
DTEND;TZID=Europe/Rome:20201129T170000
DTSTAMP:20260422T214623
CREATED:20191220T164450Z
LAST-MODIFIED:20191220T164450Z
UID:27924-1606635000-1606669200@caicrema.it
SUMMARY:San Vigilio
DESCRIPTION:SCHEDA INFORMATIVA \nCarattere della gita:\nEscursionistica per tutti \nDifficoltà tecniche e pericoli oggettivi:\nNessuna se non a livello fisico \nEquipaggiamento:\nAbbigliamento da media montagna \nAttrezzatura:\nNessuna \nDislivello: \n200 mt sia in salita che in discesa \nTempo di percorrenza: \nGiro ad anello di circa 5 ore \nRitrovo e Partenza da Crema:\nRitrovo al parcheggio Scuole Agello alle h. 07\,15\nPartenza: h.07\,30 \nPercorso automobilistico di max:\nCrema\, Bergamo\, Paladina \nCoordinatore di gita: \nINIZIO ISCRIZIONI: 17/11/2020 \nFusar Bassini Mariagela 3486932945 \nBressanelli Valeria 3480615637 \nPROGRAMMA: \nArrivati a Paladina si parcheggia nei pressi del Santuario di Sombreno e si segue il sentiero 711 fino al colle dei Roccoli.\nSi prosegue su stradine asfaltate fino a San Vigilio da qui si scende a San Sebastiano e si ritorna verso il punto di partenza passando per la Madonna della Castagna
URL:https://caicrema.it/evento/san-vigilio/
LOCATION:San Vigilio\, San Vigilio\, Bergamo\, Italia
CATEGORIES:Escursionismo
ATTACH;FMTTYPE=image/jpeg:https://caicrema.it/wp-content/uploads/2019/12/47.jpg
END:VEVENT
END:VCALENDAR