BEGIN:VCALENDAR
VERSION:2.0
PRODID:-//CAI - Club Alpino Italiano - Sezione di Crema - ECPv5.14.0.2//NONSGML v1.0//EN
CALSCALE:GREGORIAN
METHOD:PUBLISH
X-WR-CALNAME:CAI - Club Alpino Italiano - Sezione di Crema
X-ORIGINAL-URL:https://caicrema.it
X-WR-CALDESC:Eventi per CAI - Club Alpino Italiano - Sezione di Crema
REFRESH-INTERVAL;VALUE=DURATION:PT1H
X-Robots-Tag:noindex
X-PUBLISHED-TTL:PT1H
BEGIN:VTIMEZONE
TZID:Europe/Rome
BEGIN:DAYLIGHT
TZOFFSETFROM:+0100
TZOFFSETTO:+0200
TZNAME:CEST
DTSTART:20210328T010000
END:DAYLIGHT
BEGIN:STANDARD
TZOFFSETFROM:+0200
TZOFFSETTO:+0100
TZNAME:CET
DTSTART:20211031T010000
END:STANDARD
END:VTIMEZONE
BEGIN:VEVENT
DTSTART;TZID=Europe/Rome:20211107T070000
DTEND;TZID=Europe/Rome:20211107T170000
DTSTAMP:20260421T234801
CREATED:20211029T102927Z
LAST-MODIFIED:20211029T102927Z
UID:28906-1636268400-1636304400@caicrema.it
SUMMARY:DALL’ALPE DEL VICERÈ AL MONTE PALANZONE
DESCRIPTION:SCHEDA INFORMATIVA \nCarattere della gita:\nEscursionistica \nDifficoltà tecniche e pericoli oggettivi:\nNessuna in condizioni normali\, mediamente impegnativa a livello fisico. \nEquipaggiamento:\nMedia montagna\, attrezzati per la stagione. \nAttrezzatura:\nNessuna. \nDislivello:\nmt. Circa 600 sia in salita che in discesa. \nTempo di percorrenza:\n1.45h Salita\n1.30h Discesa \nRitrovo e Partenza da Crema:\nRitrovo al parcheggio Scuole Agello alle h. 06\,45\nPartenza: h.7 \nPercorso automobilistico di max:\nCrema-Paullo-Monza-Nibionno -Albavilla – Alpe del Vicerè \nCoordinatore di gita e responsabile regole Covid:\nGiovanni Sartorio 347 0136010 \nAgli iscritti verranno consegnate le note operative ed il modulo di autocertificazione. \nSi fa obbligo di avere con sé il passaporto sanitario\, la mascherina\, il gel disinfettante a base alcolica. \nPrima della partenza\, verranno raccolte le autocertificazioni e verranno verificati i DPI. \nPROGRAMMA:\nLasciate le auto nel parcheggio a pagamento dell’Alpe del Vicerè prendiamo la stradina sterrata che in cira 45 minuti ci porta alla Capanna Mara (mt 1125).\nImbocchiamo poi il sentiero che con alcuni saliscendi ci conduce alla bocchetta di Palanzo (mt 1210) che raggiungiamo in circa 30 minuti.\nQui ci aspetta la parte più impegnativa dell’escursione\, un ripido sentiero sul crinale con cui raggiungiamo la cappelletta votiva posta sulla cima del Palanzone (mt 1436)\, 30 minuti dalla bocchetta.\nSplendido panorama sui due rami del lago di Como.\nRitorno per la via di salita. \nSCHEDA INFORMATIVA:\nI partecipanti dopo aver preso visione del programma gita\, e dopo essersi resi conto delle eventuali difficoltà del percorso\, delle eventuali difficoltà tecniche e pericoli oggettivi (evidenziati in questa informativa)\, sono obbligati ad esprimersi favorevolmente o negativamente sulla propria autonomia di partecipazione. \nDichiarano altresì di assumersi liberamente il rischio sportivo connesso\, prendono atto che l’organizzazione da parte della sezione e dei suoi coordinatori di gita volontari è annessa agli aspetti puramente logistici\, non prevede l’insorgere di alcun rapporto di accompagnamento\, inoltre sono tenuti a presentarsi con 10’ di anticipo sul luogo della partenza. \nCon l’iscrizione si accetta quanto sopra riportato. \nLa gita può essere variata in toto o in parte ad insindacabile giudizio del coordinatore di gita.\nIl coordinatore di gita ha facoltà di escludere dalla gita i partecipanti che si presentassero privi della necessaria attrezzatura riportata nella presente informativa. \nNon sono ammessi alla gita coloro i quali non siano regolarmente iscritti in sede. \nTutti coloro che intendono partecipare ad una gita sociale devono iscriversi entro e non oltre:\n– il martedì precedente all’uscita.\nNon si accettano prenotazioni telefoniche. \nIl costo dell’iscrizione per l’assicurazione è fissato per i non soci in Euro 7\,50 per le gite di un giorno\, mentre per quelle di due giorni è fissato in Euro 15\,00. \nL’iscrizione (per soci e non soci) è subordinata al versamento della caparra\, la caparra per il pernottamento al\nrifugio e l’eventuale Pullman sarà comunicata prima di ogni gita e al momento dell’iscrizione dal Coordinatore di gita. L’iscrizione alla gita comprende la copertura assicurativa in caso di morte o invalidità permanente\, e copre i costi del Soccorso Alpino. \nIl testo integrale del Regolamento è stato pubblicato sull’Annuario 2005/2006\, ed è consultabile presso la sede di via Donati\, 10.\n\n\n				Scarica la locandina (pdf)
URL:https://caicrema.it/evento/dallalpe-del-vicere-al-monte-palanzone/
LOCATION:Monte Palanzone\, Monte Palanzone\, Italia
CATEGORIES:Escursionismo
ATTACH;FMTTYPE=image/jpeg:https://caicrema.it/wp-content/uploads/2021/10/palanzone.jpg
END:VEVENT
END:VCALENDAR